BEGIN:VCALENDAR
VERSION:2.0
PRODID:-//Ogden Museum of Southern Art - ECPv6.15.20//NONSGML v1.0//EN
CALSCALE:GREGORIAN
METHOD:PUBLISH
X-ORIGINAL-URL:https://ogdenmuseum.org
X-WR-CALDESC:Events for Ogden Museum of Southern Art
REFRESH-INTERVAL;VALUE=DURATION:PT1H
X-Robots-Tag:noindex
X-PUBLISHED-TTL:PT1H
BEGIN:VTIMEZONE
TZID:America/Chicago
BEGIN:DAYLIGHT
TZOFFSETFROM:-0600
TZOFFSETTO:-0500
TZNAME:CDT
DTSTART:20180311T080000
END:DAYLIGHT
BEGIN:STANDARD
TZOFFSETFROM:-0500
TZOFFSETTO:-0600
TZNAME:CST
DTSTART:20181104T070000
END:STANDARD
BEGIN:DAYLIGHT
TZOFFSETFROM:-0600
TZOFFSETTO:-0500
TZNAME:CDT
DTSTART:20190310T080000
END:DAYLIGHT
BEGIN:STANDARD
TZOFFSETFROM:-0500
TZOFFSETTO:-0600
TZNAME:CST
DTSTART:20191103T070000
END:STANDARD
BEGIN:DAYLIGHT
TZOFFSETFROM:-0600
TZOFFSETTO:-0500
TZNAME:CDT
DTSTART:20200308T080000
END:DAYLIGHT
BEGIN:STANDARD
TZOFFSETFROM:-0500
TZOFFSETTO:-0600
TZNAME:CST
DTSTART:20201101T070000
END:STANDARD
END:VTIMEZONE
BEGIN:VEVENT
DTSTART;TZID=America/Chicago:20190111T190000
DTEND;TZID=America/Chicago:20190111T190000
DTSTAMP:20260425T114507
CREATED:20181218T161010Z
LAST-MODIFIED:20190107T222032Z
UID:10004147-1547233200-1547233200@ogdenmuseum.org
SUMMARY:Film Screening: “Hale County This Morning\, This Evening”
DESCRIPTION:“Hale County This Morning\, This Evening” by New Southern Photography artist\, RaMell Ross\, allows the viewer an emotive impression of the Historic South\, showing the consequences of the social construction of race\, while simultaneously trumpeting the beauty of life and offering a testament to dreaming despite the odds. Q&A with Ross moderated by Ogden Museum Curator of Photography\, Richard McCabe. \nDoors open at 6:30 p.m. Cash bar available. FREE and open to the public. \nPlease also join us on Saturday\, Jan. 12 at 2 p.m. for The Dismantling of Southern Photography\, a panel discussion with New Southern Photography photographers\, RaMell Ross\, Jared Soares and Celestia Morgan. Moderated by L. Kasimu Harris. FREE and open to the public. Click here to learn more. \n/// Film still courtesy of Cinema Guild
URL:https://ogdenmuseum.org/event/film-screening-hale-county-this-morning-this-evening/
CATEGORIES:Special Event,Workshops + Talks
ATTACH;FMTTYPE=image/jpeg:https://ogdenmuseum.org/wp-content/uploads/2018/12/crop.jpg
END:VEVENT
END:VCALENDAR