BEGIN:VCALENDAR
VERSION:2.0
PRODID:-//Ogden Museum of Southern Art - ECPv6.15.20//NONSGML v1.0//EN
CALSCALE:GREGORIAN
METHOD:PUBLISH
X-WR-CALNAME:Ogden Museum of Southern Art
X-ORIGINAL-URL:https://ogdenmuseum.org
X-WR-CALDESC:Events for Ogden Museum of Southern Art
REFRESH-INTERVAL;VALUE=DURATION:PT1H
X-Robots-Tag:noindex
X-PUBLISHED-TTL:PT1H
BEGIN:VTIMEZONE
TZID:America/Chicago
BEGIN:DAYLIGHT
TZOFFSETFROM:-0600
TZOFFSETTO:-0500
TZNAME:CDT
DTSTART:20180311T080000
END:DAYLIGHT
BEGIN:STANDARD
TZOFFSETFROM:-0500
TZOFFSETTO:-0600
TZNAME:CST
DTSTART:20181104T070000
END:STANDARD
BEGIN:DAYLIGHT
TZOFFSETFROM:-0600
TZOFFSETTO:-0500
TZNAME:CDT
DTSTART:20190310T080000
END:DAYLIGHT
BEGIN:STANDARD
TZOFFSETFROM:-0500
TZOFFSETTO:-0600
TZNAME:CST
DTSTART:20191103T070000
END:STANDARD
BEGIN:DAYLIGHT
TZOFFSETFROM:-0600
TZOFFSETTO:-0500
TZNAME:CDT
DTSTART:20200308T080000
END:DAYLIGHT
BEGIN:STANDARD
TZOFFSETFROM:-0500
TZOFFSETTO:-0600
TZNAME:CST
DTSTART:20201101T070000
END:STANDARD
END:VTIMEZONE
BEGIN:VEVENT
DTSTART;TZID=America/Chicago:20190207T180000
DTEND;TZID=America/Chicago:20190207T200000
DTSTAMP:20260425T150151
CREATED:20181218T194805Z
LAST-MODIFIED:20190128T215632Z
UID:10004468-1549562400-1549569600@ogdenmuseum.org
SUMMARY:King Cake Walk
DESCRIPTION:On Thursday\, February 7 from 6 – 8 p.m.\, the Ogden Museum of Southern Art will host its annual King Cake Walk during Ogden After Hours\, the Museum’s weekly concert series. Visitors will have the opportunity to taste and judge the local King Cakes\, while listening to live music by the Christian Winther Quartet.  \nAwards include Audience’s Choice\, Band’s Pick and Best in Show\, which will be selected by guest judge\, Kayla Bertucci with WGNO. Guests can vote for their favorite cake by placing a King Cake baby in a bakery’s designated cup. Awards will be announced at the end of the concert.  \nLocal bakeries donating cakes to the tasting include Bittersweet Confections\, Breads on Oak\, Cavan\, Emeril’s\, La Boulangerie\, Randazzo King Cake\, Sweet Life Bakery\, Tartine New Orleans\, The Station Coffee Shop and Bakery and more New Orleans favorites! \nThe Christian Winther Quartet\, lead by Danish-American tenor saxophonist and composer\, Christian Winther\, will play soulful jazz throughout the evening. Winther has been based in New Orleans since 1997 and studied under Ellis Marsalis and Harold Batiste at the University of New Orleans.  \nDuring Ogden After Hours\, there will also be a book signing by photographer\, Clay Maxwell Jordan. Jordan will be signing his first monograph\, “Nothing’s Coming Soon\,” based on death\, mortality\, decay\, grace and unmitigated beauty. Jordan is a 2019 MacDowell fellow and currently teaches at University of Georgia. \nThis  event will be free for members and $13.50 for general admission.  \nPurchase Tickets\n/// Photo by Ogden Museum Staff
URL:https://ogdenmuseum.org/event/kingcakewalk/
CATEGORIES:Ogden After Hours,Special Event
ATTACH;FMTTYPE=image/jpeg:https://ogdenmuseum.org/wp-content/uploads/2018/12/IMG_6023.jpg
END:VEVENT
END:VCALENDAR