BEGIN:VCALENDAR
VERSION:2.0
PRODID:-//Ogden Museum of Southern Art - ECPv6.15.20//NONSGML v1.0//EN
CALSCALE:GREGORIAN
METHOD:PUBLISH
X-WR-CALNAME:Ogden Museum of Southern Art
X-ORIGINAL-URL:https://ogdenmuseum.org
X-WR-CALDESC:Events for Ogden Museum of Southern Art
REFRESH-INTERVAL;VALUE=DURATION:PT1H
X-Robots-Tag:noindex
X-PUBLISHED-TTL:PT1H
BEGIN:VTIMEZONE
TZID:America/Chicago
BEGIN:DAYLIGHT
TZOFFSETFROM:-0600
TZOFFSETTO:-0500
TZNAME:CDT
DTSTART:20170312T080000
END:DAYLIGHT
BEGIN:STANDARD
TZOFFSETFROM:-0500
TZOFFSETTO:-0600
TZNAME:CST
DTSTART:20171105T070000
END:STANDARD
BEGIN:DAYLIGHT
TZOFFSETFROM:-0600
TZOFFSETTO:-0500
TZNAME:CDT
DTSTART:20180311T080000
END:DAYLIGHT
BEGIN:STANDARD
TZOFFSETFROM:-0500
TZOFFSETTO:-0600
TZNAME:CST
DTSTART:20181104T070000
END:STANDARD
BEGIN:DAYLIGHT
TZOFFSETFROM:-0600
TZOFFSETTO:-0500
TZNAME:CDT
DTSTART:20190310T080000
END:DAYLIGHT
BEGIN:STANDARD
TZOFFSETFROM:-0500
TZOFFSETTO:-0600
TZNAME:CST
DTSTART:20191103T070000
END:STANDARD
END:VTIMEZONE
BEGIN:VEVENT
DTSTART;TZID=America/Chicago:20180802T180000
DTEND;TZID=America/Chicago:20180802T200000
DTSTAMP:20260423T232907
CREATED:20180604T170816Z
LAST-MODIFIED:20180604T171522Z
UID:10004257-1533232800-1533240000@ogdenmuseum.org
SUMMARY:Troy Sawyer
DESCRIPTION:2013 winner of the Outstanding Millennial Award for Music presented by Offbeat Magazine\, Troy Sawyer is an accomplished trumpeter\, composer and educator from New Orleans. Sawyer is continuing the legacy of his great grandfather\, Louis James\, who played strings in various bands with Louis Armstrong and co-wrote songs with Buddy Bolden.\n\nAfter picking up the violin at 4\, he gravitated to the trumpet at 9 and has now traveled extensively\, performing at festivals and clubs around the globe. Sawyer holds a BA in Music Education from Southern University and has taught music in the charter school system for the past four years.\n\nSawyer resided in the Musician’s Village\, where he says\, “I approach the trumpet like a saxophone player\, meaning that I play complex musical ideas that are difficult to play on the trumpet\, but are easier to play on a sax. When I play\, every note has a meaning and color.”\n\nPurchase Tickets
URL:https://ogdenmuseum.org/event/troy-sawyer-2/
CATEGORIES:Ogden After Hours
ATTACH;FMTTYPE=image/jpeg:https://ogdenmuseum.org/wp-content/uploads/2018/06/18199165_10213201345333827_6635330209464301721_n.jpg
END:VEVENT
BEGIN:VEVENT
DTSTART;TZID=America/Chicago:20180804T173000
DTEND;TZID=America/Chicago:20180804T213000
DTSTAMP:20260423T232907
CREATED:20180614T215955Z
LAST-MODIFIED:20180717T182737Z
UID:10004304-1533403800-1533418200@ogdenmuseum.org
SUMMARY:Louisiana Contemporary Presented by The Helis Foundation
DESCRIPTION:Every August the Ogden Museum of Southern Art\, in connection with Hancock Whitney White Linen Night\, hosts its opening reception for its annual exhibition Louisiana Contemporary\, Presented by The Helis Foundation. Established in 2012\, this statewide\, juried exhibition promotes the contemporary art practices in the state of Louisiana\, provides an exhibition space for the exposition of living artist’s work and engages a contemporary audience that recognizes the vibrant visual arts culture of Louisiana and the role of New Orleans as a rising\, international art center. The juror for 2018 is Courtney J. Martin\, Deputy Director and Chief Curator at the Dia Art Foundation. \nAdmission to the Museum will be free on Hancock Whitney White Linen Night from 5:30 – 9:30 p.m. \nRenée Allie\, Covered House & Car\, New Orleans\, LA\, silver gelatin print hand-colored with Marshall photo oils\, 2018
URL:https://ogdenmuseum.org/event/louisiana-contemporary-presented-by-the-helis-foundation/
CATEGORIES:Opening Receptions,Special Event
ATTACH;FMTTYPE=image/jpeg:https://ogdenmuseum.org/wp-content/uploads/2018/03/Allie-_-Covered-House-and-Car-New-Orleans-LA.jpg
END:VEVENT
BEGIN:VEVENT
DTSTART;TZID=America/Chicago:20180804T173000
DTEND;TZID=America/Chicago:20180804T213000
DTSTAMP:20260423T232907
CREATED:20180614T221431Z
LAST-MODIFIED:20180717T182707Z
UID:10004285-1533403800-1533418200@ogdenmuseum.org
SUMMARY:HBCU Art Showcase
DESCRIPTION:Join us at the Ogden Museum on Hancock Whitney White Linen Night as we celebrate the opening of the HBCU Art Showcase on view from July 5 through early fall. In collaboration with the New Orleans Chapter of The Links\, Incorporated\, the Ogden Museum is pleased to present a curated show of works from students attending Dillard University and Xavier University of Louisiana\, two of Louisiana’s Historically Black Colleges and Universities (HBCUs). \nAdmission to the Museum will be free on Hancock Whitney White Linen Night from 5:30 – 9:30 p.m. \nImage Credit: Gabrielle Tolliver\, Untitled\, Acrylic painting\, 2018
URL:https://ogdenmuseum.org/event/hbcu-art-showcase/
CATEGORIES:Opening Receptions
ATTACH;FMTTYPE=image/jpeg:https://ogdenmuseum.org/wp-content/uploads/2018/06/Gabrielle-Tolliver-untitled-acrylic-painting-2018.jpg
END:VEVENT
BEGIN:VEVENT
DTSTART;TZID=America/Chicago:20180809T093000
DTEND;TZID=America/Chicago:20180809T100000
DTSTAMP:20260423T232907
CREATED:20180613T191550Z
LAST-MODIFIED:20180614T195333Z
UID:10004262-1533807000-1533808800@ogdenmuseum.org
SUMMARY:Baby Artsplay!
DESCRIPTION:Young Audiences Baby Artsplay! Presented by The Helis Foundation is the perfect opportunity for young children and their caregivers to enjoy an educational\, yet fun-filled trip to the Museum. Six 30-minute workshops allow children to explore\, observe and investigate their world through song\, dance and movement experiences. For ages 4 months to 3 years with a caretaker. Space is limited. \nRegister for individual workshops at yabap.eventbrite.com.
URL:https://ogdenmuseum.org/event/baby-artsplay/2018-08-09/
CATEGORIES:Events for Kids
ATTACH;FMTTYPE=image/jpeg:https://ogdenmuseum.org/wp-content/uploads/2018/06/IMG_6366.jpg
END:VEVENT
BEGIN:VEVENT
DTSTART;TZID=America/Chicago:20180809T160000
DTEND;TZID=America/Chicago:20180809T200000
DTSTAMP:20260423T232907
CREATED:20180705T155439Z
LAST-MODIFIED:20180803T172058Z
UID:10004296-1533830400-1533844800@ogdenmuseum.org
SUMMARY:Meet the Artist: Jim Blanchard
DESCRIPTION:Meet the artist who created the beautiful works in A Precise Vision: The Architectural Archival Watercolors of Jim Blanchard. Jim Blanchard will be in the exhibition gallery and available to answer questions. \nJim Blanchard is a contemporary topographical artist known for his architectural watercolors of historic Louisiana buildings. A native son of Lafourche Parish in South Louisiana\, he was raised amid the aging plantations and vernacular 19thcentury architecture of the region. Born in Thibodaux in 1955\, Blanchard briefly studied at Nicholls State University before joining the family’s oil brokerage business. It was there that Blanchard learned to research archives and public records\, and honed his draughting skills through making maps. Moving to New Orleans in the early 1980s\, Blanchard – like many artists before – fell in love with the city and its cultural and architectural history. \nJim Blanchard will also be in the exhibition gallery on August 11 from noon to 5 p.m.! \nAugust 11\n 
URL:https://ogdenmuseum.org/event/meet-the-artist-jim-blanchard/
CATEGORIES:Gallery Talks,Workshops + Talks
ATTACH;FMTTYPE=image/jpeg:https://ogdenmuseum.org/wp-content/uploads/2018/07/Resized_20180512_152650.jpeg
END:VEVENT
BEGIN:VEVENT
DTSTART;TZID=America/Chicago:20180809T180000
DTEND;TZID=America/Chicago:20180809T200000
DTSTAMP:20260423T232907
CREATED:20180726T192929Z
LAST-MODIFIED:20180726T192929Z
UID:10004398-1533837600-1533844800@ogdenmuseum.org
SUMMARY:Lynn Drury
DESCRIPTION:Lynn Drury has been performing\, in one arena or another\, her entire life. At the ripe old age of five she won a 4-H state competition in Mississippi in pole bending. If you don’t know what pole bending is\, it’s a little like barrel racing\, Lynn says. That’s horse talk. In a word\, rodeos. Once you know that much about Lynn\, you understand her approach. \nShe picked up the guitar at 26\, went at it like a pro and she’s never stopped working. Her inspiration is her environment and since the mid nineties\, that environment has been New Orleans. The transition for the Yazoo City–born Drury was smooth. She says jasmine smells like honeysuckle\, and you believe her. Sultry\, sweet songs turn funky\, and it’s all in the same neighborhood. These days\, Lynn herself is part of the scenery. She’s been a regular at French Quarter Fest and New Orleans Jazz & Heritage Festival for years\, and has played just about everywhere in town. \nDrury released her first CD\, “Crossing Frequencies\,” in 2001 and over the next several years released many more including her latest release in 2017\, “Rise of the Fall\,” for which John Swenson notes her “exponential growth as a songwriter” and her “steady rise into rock diva territory.” \nPurchase Tickets
URL:https://ogdenmuseum.org/event/lynn-drury-2/
CATEGORIES:Ogden After Hours
ATTACH;FMTTYPE=image/jpeg:https://ogdenmuseum.org/wp-content/uploads/2018/07/Lynn-Drury-1.jpg
END:VEVENT
BEGIN:VEVENT
DTSTART;TZID=America/Chicago:20180811T120000
DTEND;TZID=America/Chicago:20180811T170000
DTSTAMP:20260423T232907
CREATED:20180705T160020Z
LAST-MODIFIED:20180705T160020Z
UID:10004298-1533988800-1534006800@ogdenmuseum.org
SUMMARY:Meet the Artist: Jim Blanchard
DESCRIPTION:Meet the artist who created the beautiful works in A Precise Vision: The Architectural Archival Watercolors of Jim Blanchard. Jim Blanchard will be in the exhibition gallery and available to answer questions. \nJim Blanchard is a contemporary topographical artist known for his architectural watercolors of historic Louisiana buildings. A native son of Lafourche Parish in South Louisiana\, he was raised amid the aging plantations and vernacular 19thcentury architecture of the region. Born in Thibodaux in 1955\, Blanchard briefly studied at Nicholls State University before joining the family’s oil brokerage business. It was there that Blanchard learned to research archives and public records\, and honed his draughting skills through making maps. Moving to New Orleans in the early 1980s\, Blanchard – like many artists before – fell in love with the city and its cultural and architectural history.
URL:https://ogdenmuseum.org/event/meet-the-artist-jim-blanchard-2/
CATEGORIES:Gallery Talks,Workshops + Talks
ATTACH;FMTTYPE=image/jpeg:https://ogdenmuseum.org/wp-content/uploads/2018/07/Resized_20180512_152650.jpeg
END:VEVENT
BEGIN:VEVENT
DTSTART;TZID=America/Chicago:20180816T093000
DTEND;TZID=America/Chicago:20180816T100000
DTSTAMP:20260423T232907
CREATED:20180613T191550Z
LAST-MODIFIED:20180614T195333Z
UID:10004263-1534411800-1534413600@ogdenmuseum.org
SUMMARY:Baby Artsplay!
DESCRIPTION:Young Audiences Baby Artsplay! Presented by The Helis Foundation is the perfect opportunity for young children and their caregivers to enjoy an educational\, yet fun-filled trip to the Museum. Six 30-minute workshops allow children to explore\, observe and investigate their world through song\, dance and movement experiences. For ages 4 months to 3 years with a caretaker. Space is limited. \nRegister for individual workshops at yabap.eventbrite.com.
URL:https://ogdenmuseum.org/event/baby-artsplay/2018-08-16/
CATEGORIES:Events for Kids
ATTACH;FMTTYPE=image/jpeg:https://ogdenmuseum.org/wp-content/uploads/2018/06/IMG_6366.jpg
END:VEVENT
BEGIN:VEVENT
DTSTART;TZID=America/Chicago:20180816T180000
DTEND;TZID=America/Chicago:20180816T200000
DTSTAMP:20260423T232907
CREATED:20180809T172016Z
LAST-MODIFIED:20180809T172040Z
UID:10004119-1534442400-1534449600@ogdenmuseum.org
SUMMARY:Marla Dixon Blues Project
DESCRIPTION:Marla Dixon learned to play trumpet in high school\, but after an odd (albeit fun) year with a British Drum Corps band\, she stopped making music. Seven years later\, she wandered into exactly the right Toronto dive bar at precisely the right time and heard Kid Bastien’s Happy Pals playing the music she’d always loved\, but never heard live. \nHaving begun her earnest traditional jazz education in the bars of Toronto and New Orleans\, Marla relocated to Louisiana in 2009 and soon found her way back to the front-line\, singing and playing trumpet with groups like her own Shotgun Jazz Band\, and her latest project\, the Marla Dixon Blues Project. \n\nPurchase Tickets
URL:https://ogdenmuseum.org/event/marla-dixon-blues-project/
CATEGORIES:Ogden After Hours
ATTACH;FMTTYPE=image/jpeg:https://ogdenmuseum.org/wp-content/uploads/2018/08/marla-dixon.jpg
END:VEVENT
BEGIN:VEVENT
DTSTART;TZID=America/Chicago:20180823T093000
DTEND;TZID=America/Chicago:20180823T100000
DTSTAMP:20260423T232907
CREATED:20180613T191550Z
LAST-MODIFIED:20180614T195333Z
UID:10004264-1535016600-1535018400@ogdenmuseum.org
SUMMARY:Baby Artsplay!
DESCRIPTION:Young Audiences Baby Artsplay! Presented by The Helis Foundation is the perfect opportunity for young children and their caregivers to enjoy an educational\, yet fun-filled trip to the Museum. Six 30-minute workshops allow children to explore\, observe and investigate their world through song\, dance and movement experiences. For ages 4 months to 3 years with a caretaker. Space is limited. \nRegister for individual workshops at yabap.eventbrite.com.
URL:https://ogdenmuseum.org/event/baby-artsplay/2018-08-23/
CATEGORIES:Events for Kids
ATTACH;FMTTYPE=image/jpeg:https://ogdenmuseum.org/wp-content/uploads/2018/06/IMG_6366.jpg
END:VEVENT
BEGIN:VEVENT
DTSTART;TZID=America/Chicago:20180823T180000
DTEND;TZID=America/Chicago:20180823T200000
DTSTAMP:20260423T232907
CREATED:20180604T175141Z
LAST-MODIFIED:20180822T160318Z
UID:10004260-1535047200-1535054400@ogdenmuseum.org
SUMMARY:The New Orleans Klezmer All Stars
DESCRIPTION:It’s the Ogden Museum’s 15th Birthday and Member Appreciation Night! Help us celebrate with a Library Show with The New Orleans Klezmer All Stars! \nThe Klezmer All Stars are entering their 27th year as an active performing ensemble. In these times when folk music has meant rigidly sticking to a clichéd format\, or collecting hackneyed stylistic features\, the Klezmer All Stars have attempted to challenge and stretch boundaries\, but without sacrificing the most exciting features of social music: driving rhythms\, passion and learned melodies that are sublime\, but remain memorable.\n \nUsing the inspiration of the city where they began\, the band has formed a unique approach to traditional melodies\, and even more unusual\, a way of writing in the style that leads to a sort of Yiddish Impressionism – keeping audiences dancing\, but cutting to the depths of their cultural imaginations\, even where they didn’t realize they had one. \nThe Klezmer All Stars have grown into their name and are frequently seen with many of New Orleans’ greatest musicians\, including: Mean Willie Green\, Stanton Moore\, Benjamin Ellman\, Jonathan Freilich\, Joe Cabral\, Glenn Hartman\, Doug Garrison\, Dan Oestreicher and Aurora Nealand. \nPurchase Tickets
URL:https://ogdenmuseum.org/event/the-new-orleans-klezmer-all-stars/
CATEGORIES:Ogden After Hours
ATTACH;FMTTYPE=image/jpeg:https://ogdenmuseum.org/wp-content/uploads/2018/06/Klezmers.jpg
END:VEVENT
BEGIN:VEVENT
DTSTART;TZID=America/Chicago:20180823T180000
DTEND;TZID=America/Chicago:20180823T200000
DTSTAMP:20260423T232907
CREATED:20180613T195544Z
LAST-MODIFIED:20180614T195452Z
UID:10004346-1535047200-1535054400@ogdenmuseum.org
SUMMARY:Member Appreciation Night
DESCRIPTION:Stop by Ogden After Hours for Member Appreciation Night! Each current member will receive one complimentary drink ticket and enjoy 20% off all purchases in the Museum Store\, all while listening to the great music of New Orleans Klezmer All Stars! \nFree for members; $13.50 general admission. \nPhoto Credit: Ryan Hodgson Rigsbee
URL:https://ogdenmuseum.org/event/member-appreciation-night-2/
CATEGORIES:Special Event
ATTACH;FMTTYPE=image/jpeg:https://ogdenmuseum.org/wp-content/uploads/2018/06/ogden.membernight.082417.rhr045.jpg
END:VEVENT
BEGIN:VEVENT
DTSTART;TZID=America/Chicago:20180825T100000
DTEND;TZID=America/Chicago:20180825T170000
DTSTAMP:20260423T232907
CREATED:20180613T195006Z
LAST-MODIFIED:20180824T214419Z
UID:10004274-1535191200-1535216400@ogdenmuseum.org
SUMMARY:15th Anniversary Celebration
DESCRIPTION:This year marks the Ogden Museum’s 15th anniversary! Since opening in 2003\, the Museum has been dedicated to sharing the visual arts and culture of the American South with the community. Come join us to celebrate our 15th year with a day of kid and adult art activities\, yoga\, scavenger hunts\, music\, food and more! This event is FREE and fun for the whole family. Come Celebrate the South!  \nPROGRAM \n10 a.m. Coffee available from Solo Espresso \n10 a.m. – 4 p.m. Raffle drawing and giveaways (Drawings at 12:30\, 1:30\, 2:30\, 3:30 and 4 p.m.)\n10 a.m. – 2 p.m. Scavenger hunts – explore the Museum and compete for prizes!\n10 a.m. – 2 p.m. Craft stations for kids\n10 a.m. – 2 p.m. Pin the Tail on the Universal Mule\, Jack Niven’s popular work in the Museum’s Collection\n10:15 a.m. Performance by Young Audiences’ Dave James\n10:30 a.m.\, 12:30 p.m.\, 2:30 p.m. Docent Tours of the Museum\n11 a.m. Danceout: Bounce Fitness with MoeJoe\n11 a.m. Free yoga in the Patrick F. Taylor Library\n12 p.m. Performance by Young Audiences’ Dave James\n12 – 2 p.m. Free snowballs from Plum Street Snoballs\n12 – 2 p.m. Food trucks available: La Cocinita and Fete au Fete\n12:45 p.m. Teen Docent Puppet Shows\n1:15 p.m. DJ Heelturn\n2:30 p.m. Drawing class\n2:30 – 4 p.m. Adult crafts: pom poms and opossum letterpress card making with Jessica Peterson\n3 p.m. Cocktail hour featuring the O!Possum specialty cocktail\n3 – 3:30 p.m. Performance by the Original Pinettes Brass Band \nImage Credit: William Dunlap\, Marsupius Magnanimous II\, 2010\, Acrylic Polymer Paint and Dry Pigment on Rag Paper
URL:https://ogdenmuseum.org/event/15th-anniversary-celebration/
CATEGORIES:Special Event
ATTACH;FMTTYPE=image/jpeg:https://ogdenmuseum.org/wp-content/uploads/2018/08/Anniversary-Large-Banner-Smaller-1.jpg
END:VEVENT
BEGIN:VEVENT
DTSTART;TZID=America/Chicago:20180825T110000
DTEND;TZID=America/Chicago:20180825T120000
DTSTAMP:20260423T232907
CREATED:20180809T192354Z
LAST-MODIFIED:20180809T192538Z
UID:10004120-1535194800-1535198400@ogdenmuseum.org
SUMMARY:The Art of Yoga in the Library
DESCRIPTION:Join Mikhayla Anderson for a delightful FREE hour of mindful breathing and dynamic movement inspired by a work from Louisiana Contemporary\, Presented by The Helis Foundation. All levels welcome. Some mats available or bring your own! \nRegister\nPhoto by Sean Ambrose
URL:https://ogdenmuseum.org/event/the-art-of-yoga-in-the-library/
ATTACH;FMTTYPE=image/jpeg:https://ogdenmuseum.org/wp-content/uploads/2018/08/parvritta-parsokanasana.jpg
END:VEVENT
BEGIN:VEVENT
DTSTART;TZID=America/Chicago:20180828T180000
DTEND;TZID=America/Chicago:20180828T200000
DTSTAMP:20260423T232907
CREATED:20180803T160246Z
LAST-MODIFIED:20180803T160328Z
UID:10004111-1535479200-1535486400@ogdenmuseum.org
SUMMARY:Craft Happy Hour
DESCRIPTION:Needle felting is the process of matting one piece of wool to another using barbed needles. Louise Gallen of Far Out Trading Post will guide participants through a sculptural felting adventure\, and at the end of the class each student will take home (at least) one amazing felted monster! \n$20 member / $25 non-member\nBeer and wine included! \nRegister
URL:https://ogdenmuseum.org/event/felted-monsters/
CATEGORIES:Craft Happy Hour
ATTACH;FMTTYPE=image/jpeg:https://ogdenmuseum.org/wp-content/uploads/2018/08/IMG_0320.jpg
END:VEVENT
BEGIN:VEVENT
DTSTART;TZID=America/Chicago:20180828T180000
DTEND;TZID=America/Chicago:20180828T200000
DTSTAMP:20260423T232907
CREATED:20180807T144924Z
LAST-MODIFIED:20180807T154635Z
UID:10004115-1535479200-1535486400@ogdenmuseum.org
SUMMARY:Life Drawing
DESCRIPTION:Featuring a live costumed model! \nAll ranges of drawing experience are welcome\, including those who are picking up a pencil for the first time! Basic materials will be provided\, but guests are invited to bring their favorite drawing tools.  Artist\, Adrianna Speer\, will be on hand to offer guidance and instruction. \n\n\nAbout Adrianna Speer: \n\n\nAdrianna received her BFA from Louisiana State University in Painting and Drawing and her MFA from Louisiana Tech University in Studio Art.  Speer was recently employed at the Ogden Museum of Southern Art as the Curatorial Fellow.  Previously\, she was the Gallery Director at Studio 301\, a contemporary art gallery in Ruston\, Louisiana. In 2014\, Speer was awarded a Graduate Teaching Assistantship which led to an Instructor of Record teaching position at Louisiana Tech University. Speer taught Foundations Art at Belvoir Terrace\, an all-girls performing arts camp in Lenox\, MA in 2016. Her work has been exhibited nationally in venues such as Site:Brooklyn in Brooklyn\, NY\, Verum Ultimum Gallery\, in Portland\, OR.  In 2013\, she attended the Artist in Residence Program at Burren College of Art\, in Ballyvaughan\, Ireland\, and the Artist in Residence Program at Atelier de la Rose\, in Montcabrier\, France. \n$10 non-members/$8 for members \n\nRegister
URL:https://ogdenmuseum.org/event/life-drawing/
CATEGORIES:Drawing in the Galleries,Workshops + Talks
ATTACH;FMTTYPE=image/jpeg:https://ogdenmuseum.org/wp-content/uploads/2018/08/headshot.jpg
END:VEVENT
BEGIN:VEVENT
DTSTART;TZID=America/Chicago:20180830T093000
DTEND;TZID=America/Chicago:20180830T100000
DTSTAMP:20260423T232907
CREATED:20180613T191550Z
LAST-MODIFIED:20180614T195333Z
UID:10004265-1535621400-1535623200@ogdenmuseum.org
SUMMARY:Baby Artsplay!
DESCRIPTION:Young Audiences Baby Artsplay! Presented by The Helis Foundation is the perfect opportunity for young children and their caregivers to enjoy an educational\, yet fun-filled trip to the Museum. Six 30-minute workshops allow children to explore\, observe and investigate their world through song\, dance and movement experiences. For ages 4 months to 3 years with a caretaker. Space is limited. \nRegister for individual workshops at yabap.eventbrite.com.
URL:https://ogdenmuseum.org/event/baby-artsplay/2018-08-30/
CATEGORIES:Events for Kids
ATTACH;FMTTYPE=image/jpeg:https://ogdenmuseum.org/wp-content/uploads/2018/06/IMG_6366.jpg
END:VEVENT
BEGIN:VEVENT
DTSTART;TZID=America/Chicago:20180830T180000
DTEND;TZID=America/Chicago:20180830T200000
DTSTAMP:20260423T232907
CREATED:20180604T165830Z
LAST-MODIFIED:20180604T171246Z
UID:10004256-1535652000-1535659200@ogdenmuseum.org
SUMMARY:Jon Dee Graham with an Opening Set by Ben de la Cour
DESCRIPTION:Jon Dee Graham is coming through town and making a stop at the Ogden Museum of Southern Art. He’s bringing his friend Ben de la Cour who will be doing a short set to open the show. \nJon Dee Graham is a guitarist and songwriter from Austin\, Texas. A former member of the True Believers with Alejandro Escovedo\, Graham is the only musician ever to be inducted into the Austin Music Hall of Fame three times. Jon Dee Graham is most well known for his solo work\, including the critically acclaimed records “Escape from Monster Island\,” “Hooray For The Moon” and “Full.” He is also well known for his tenure in The Skunks\, Austin’s very first punk band and roots-rock pioneers The True Believers with Alejandro Escovedo. Jon Dee played guitar with acts such as John Doe (X\, The Knitters)\, Exene Cervenka (X)\, Michelle Shocked\, Alejandro Escovedo\, Kelly Willis and The Gourds\, and has had his songs covered by many artists\, including Patty Smythe\, Patty Griffin and James McMurtry. \nBen de la Cour was raised in Brooklyn\, where he was playing dive bars with his brother a full decade before he could legally drink. A high-school dropout and former amateur boxer\, Ben received his education by listening to his parents’ record collection from Bob Dylan and The Everly Brothers to Lynyrd Skynyrd. In 2003 de la Cour moved to London to tour with his brother’s metal band\, Dead Man’s Root. He ended up in New Orleans in 2010\, and the next year released Ghost Light\, which spotlighted his talent as a songwriter and received rave reviews in No Depression and other publications\, with one journalist dubbing him “a vitriolic Leonard Cohen.” His third album was released in 2016 in his new hometown of Nashville\, and that same year won the prestigious New Folk Competition at the 2016 Kerrville Folk Festival. \nPurchase Tickets
URL:https://ogdenmuseum.org/event/jon-dee-graham-with-an-opening-set-by-ben-de-la-cour/
CATEGORIES:Ogden After Hours
ATTACH;FMTTYPE=image/jpeg:https://ogdenmuseum.org/wp-content/uploads/2018/06/Jon-Dee-Graham-Photo-2-1.jpg
END:VEVENT
END:VCALENDAR