BEGIN:VCALENDAR
VERSION:2.0
PRODID:-//Ogden Museum of Southern Art - ECPv6.15.20//NONSGML v1.0//EN
CALSCALE:GREGORIAN
METHOD:PUBLISH
X-WR-CALNAME:Ogden Museum of Southern Art
X-ORIGINAL-URL:https://ogdenmuseum.org
X-WR-CALDESC:Events for Ogden Museum of Southern Art
REFRESH-INTERVAL;VALUE=DURATION:PT1H
X-Robots-Tag:noindex
X-PUBLISHED-TTL:PT1H
BEGIN:VTIMEZONE
TZID:America/Chicago
BEGIN:DAYLIGHT
TZOFFSETFROM:-0600
TZOFFSETTO:-0500
TZNAME:CDT
DTSTART:20160313T080000
END:DAYLIGHT
BEGIN:STANDARD
TZOFFSETFROM:-0500
TZOFFSETTO:-0600
TZNAME:CST
DTSTART:20161106T070000
END:STANDARD
BEGIN:DAYLIGHT
TZOFFSETFROM:-0600
TZOFFSETTO:-0500
TZNAME:CDT
DTSTART:20170312T080000
END:DAYLIGHT
BEGIN:STANDARD
TZOFFSETFROM:-0500
TZOFFSETTO:-0600
TZNAME:CST
DTSTART:20171105T070000
END:STANDARD
BEGIN:DAYLIGHT
TZOFFSETFROM:-0600
TZOFFSETTO:-0500
TZNAME:CDT
DTSTART:20180311T080000
END:DAYLIGHT
BEGIN:STANDARD
TZOFFSETFROM:-0500
TZOFFSETTO:-0600
TZNAME:CST
DTSTART:20181104T070000
END:STANDARD
END:VTIMEZONE
BEGIN:VEVENT
DTSTART;TZID=America/Chicago:20170706T093000
DTEND;TZID=America/Chicago:20170706T100000
DTSTAMP:20260423T060622
CREATED:20170516T002056Z
LAST-MODIFIED:20170523T154957Z
UID:10003918-1499333400-1499335200@ogdenmuseum.org
SUMMARY:Young Audiences of Louisiana Baby Artsplay!
DESCRIPTION:Young Audiences of Louisiana Baby Artsplay!™ Presented by The Helis Foundation is the perfect opportunity for caregivers to integrate purposeful activities into their child’s playtime that support their cognitive\, physical\, and social development. Research shows\, and parents confirm\, that multi-sensory approaches to learning help young children create deeper\, more meaningful connections with the world around them. Baby Artsplay!™ will engage children and their caregivers in joyful and easy to replicate multisensory experiences that help children reach developmental milestones\, while immersed in New Orleans’ art and cultural institutions. \nFor ages 4 months to 3 years with a caretaker. \nRegister Here
URL:https://ogdenmuseum.org/event/young-audiences-louisiana-baby-artsplay-6/
CATEGORIES:Events for Kids
ATTACH;FMTTYPE=image/png:https://ogdenmuseum.org/wp-content/uploads/2017/05/https-cdn.evbuc_.com-images-30941625-159064083625-1-original.jpg.png
END:VEVENT
BEGIN:VEVENT
DTSTART;TZID=America/Chicago:20170706T180000
DTEND;TZID=America/Chicago:20170706T200000
DTSTAMP:20260423T060622
CREATED:20170620T153312Z
LAST-MODIFIED:20170620T153312Z
UID:10004064-1499364000-1499371200@ogdenmuseum.org
SUMMARY:Seva Venet
DESCRIPTION:Seva Venet’s latest project “Misieu Bainjo: a Celebration of the Banjo in New Orleans” features the compositions of many New Orleans banjo legends including Danny Barker\, Narvin Kimball\, and Creole George Guesnon.  Venet builds upon his experience in working with many contemporary traditional jazz legends including Tuba Fats\, Treme Brass Band Lionel Ferbos\, Lars Edegran\, Dr. Michael White Greg Stafford and Shannon Powell all of whom Venet has performed with extensively.\nIn addition to the New Orleans banjo celebration Venet also leads an ensemble in performing traditional New Orleans string band music that dates back nearly 150 years. \nPurchase Tickets
URL:https://ogdenmuseum.org/event/seva-venet/
CATEGORIES:Ogden After Hours
ATTACH;FMTTYPE=image/jpeg:https://ogdenmuseum.org/wp-content/uploads/2017/06/2.jpg
END:VEVENT
BEGIN:VEVENT
DTSTART;TZID=America/Chicago:20170706T180000
DTEND;TZID=America/Chicago:20170706T200000
DTSTAMP:20260423T060622
CREATED:20170629T210658Z
LAST-MODIFIED:20170629T211000Z
UID:10003927-1499364000-1499371200@ogdenmuseum.org
SUMMARY:Holly Guertin Artist Spotlight Opening Reception
DESCRIPTION:Join the Center for Southern Craft and Design at the Ogden Museum as we celebrate the opening of the Artist Spotlight: Holly Guertin\, on view from July 6 – August 20\, 2017. The reception will take place during our regularly scheduled Ogden After Hours from 6 to 8pm\, featuring music by Seva Venet.
URL:https://ogdenmuseum.org/event/holly-guertin-artist-spotlight-opening-reception/
CATEGORIES:Ogden After Hours,Opening Receptions
ATTACH;FMTTYPE=image/png:https://ogdenmuseum.org/wp-content/uploads/2017/06/HollyGuertin_FiberArtist.png
END:VEVENT
BEGIN:VEVENT
DTSTART;TZID=America/Chicago:20170713T180000
DTEND;TZID=America/Chicago:20170713T200000
DTSTAMP:20260423T060622
CREATED:20170619T192236Z
LAST-MODIFIED:20170710T203139Z
UID:10004040-1499968800-1499976000@ogdenmuseum.org
SUMMARY:Closing Reception
DESCRIPTION:Join us for this special Ogden After Hours as we mark the close of the exhibition\, Waltzing the Muse: The Paintings of James Michalopoulos. Presenting sponsors: Henry and Pat Shane. Enjoy Opera on Tap\, a rum tasting from Old New Orleans Rum\, Ya-Ka-Mein by Ms. Linda and a gallery tour + talk by the Ogden Museum’s Curator of the Collection\, Bradley Sumrall as we say goodbye to this incredible retrospective of one of New Orleans’ favorite artists. \nFree for members\, $13.50 general admission.
URL:https://ogdenmuseum.org/event/closing-reception/
CATEGORIES:Ogden After Hours,Special Event
ATTACH;FMTTYPE=image/jpeg:https://ogdenmuseum.org/wp-content/uploads/2017/06/Ogden-25.jpg
END:VEVENT
BEGIN:VEVENT
DTSTART;TZID=America/Chicago:20170713T180000
DTEND;TZID=America/Chicago:20170713T200000
DTSTAMP:20260423T060622
CREATED:20170629T203719Z
LAST-MODIFIED:20170710T203322Z
UID:10003923-1499968800-1499976000@ogdenmuseum.org
SUMMARY:Opera On Tap
DESCRIPTION:Join soprano Kathleen Halm Simmons\, mezzo-soprano Phyllis Treigle\, tenor Travis Richter and collaborative pianist Todd Simmons for an Ogden After Hours Fête. This festive and flirtatious New Orleans Opera Preview Concert\, entitled Opéra Nouvelle: from Verismo to Offenbach will feature music from the first two mainstage productions at New Orleans Opera – Cavalleria Rusticana and Pagliacci (October 6 and October 8\, 2017) and Orpheus in the Underworld (November 12 and November 14\, 2017.) \nIn October 2007 the Big Easy partnered with the Big Apple to make New Orleans the first official Opera on Tap franchise. Each season\, the New Orleans Opera presents the finest young local and regional singers in casual\, 90-minute concerts of opera\, Broadway and more. \n“Seeing the singers congregate and flit around the bar was like having a backstage pass\, while the immediacy of the small stage was akin to having season ticket holder seats.” – Alex V. Cook\, Country Roads Magazine \nMs. Linda will also be here serving her tasty Ya-Ka-Mein! \nPurchase Tickets
URL:https://ogdenmuseum.org/event/opera-on-tap/
CATEGORIES:Ogden After Hours
ATTACH;FMTTYPE=image/jpeg:https://ogdenmuseum.org/wp-content/uploads/2017/06/Opera-On-Tap-2015-Logo.jpg
END:VEVENT
BEGIN:VEVENT
DTSTART;TZID=America/Chicago:20170718T180000
DTEND;TZID=America/Chicago:20170718T200000
DTSTAMP:20260423T060622
CREATED:20170601T204701Z
LAST-MODIFIED:20170616T160525Z
UID:10004007-1500400800-1500408000@ogdenmuseum.org
SUMMARY:Craft Happy Hour
DESCRIPTION:Jessica Peterson from Southern Letterpress will guide you through the creation of a single page book structure; a book made from a single sheet of office paper\, perfect for zines. You’ll be inspired by creative prompts to fill the structure with your own content (we’ll have rubber stamps\, markers and collage materials for you to use)\, and we’ll discuss how to publish your zine using a photocopier or desktop printer. \n$25 nonmembers\n$20 members\nFee includes all materials\, beer and wine. \nRegister Here
URL:https://ogdenmuseum.org/event/craft-happy-hour-6/
CATEGORIES:Craft Happy Hour
ATTACH;FMTTYPE=image/jpeg:https://ogdenmuseum.org/wp-content/uploads/2017/06/7.18-CHH-2.jpg
END:VEVENT
BEGIN:VEVENT
DTSTART;TZID=America/Chicago:20170720T110000
DTEND;TZID=America/Chicago:20170720T120000
DTSTAMP:20260423T060622
CREATED:20170719T191933Z
LAST-MODIFIED:20170719T193414Z
UID:10004065-1500548400-1500552000@ogdenmuseum.org
SUMMARY:Teen Docent Puppet Show
DESCRIPTION:The Ogden Museum’s Teen Docent Puppet Theater brings art to life\, giving young audiences a window into the world of a work of art. Seven short\, interactive performances provide a whimsical introduction to the work of Southern art. \nBring your family and join us on July 20th at the Robert E. Smith Regional Library (6301 Canal Blvd.\, New Orleans\, LA\, 70124) to experience the teen docent puppet show!
URL:https://ogdenmuseum.org/event/teen-docent-puppet-show/
CATEGORIES:Events for Kids
ATTACH;FMTTYPE=image/jpeg:https://ogdenmuseum.org/wp-content/uploads/2017/07/IMG_1841.jpg
END:VEVENT
BEGIN:VEVENT
DTSTART;TZID=America/Chicago:20170720T180000
DTEND;TZID=America/Chicago:20170720T200000
DTSTAMP:20260423T060622
CREATED:20170703T185346Z
LAST-MODIFIED:20170703T185346Z
UID:10003931-1500573600-1500580800@ogdenmuseum.org
SUMMARY:Renshaw Davies
DESCRIPTION:Nominated by Offbeat Magazine for best emerging artist\, Renshaw Davies is an indie pop duo based in New Orleans\, comprised of John Renshaw (vocals\, guitar) and Emily Davies (vocals\, keys\, percussion). They draw influences from Beach House\, Beck\, Father John Misty\, Fleetwood Mac\, Gillian Welch and David Rawlings\, Jeff Lynn\, and Bob Dylan. \nA native New Orleanian\, John Renshaw grew up all over the country: Oklahoma\, Florida\, Virginia\, Ohio\, and Georgia. Ultimately\, he was drawn back to his roots. Meanwhile\, Emily\, born and raised in Maryland\, felt the pull towards New Orleans\, and went to find out where music would take her. \nThe pair met four years ago one fateful open mic night at Neutral Ground Coffeehouse in Uptown\, New Orleans. Since that day\, Emily and John have been playing together in various formations and bands before finding their true voice as the two-piece\, Renshaw Davies. \nPurchase Tickets
URL:https://ogdenmuseum.org/event/renshaw-davies/
CATEGORIES:Ogden After Hours
ATTACH;FMTTYPE=image/png:https://ogdenmuseum.org/wp-content/uploads/2017/07/Screen-Shot-2017-07-03-at-1.52.06-PM.png
END:VEVENT
BEGIN:VEVENT
DTSTART;TZID=America/Chicago:20170721T103000
DTEND;TZID=America/Chicago:20170721T113000
DTSTAMP:20260423T060622
CREATED:20170719T192230Z
LAST-MODIFIED:20170719T193609Z
UID:10004074-1500633000-1500636600@ogdenmuseum.org
SUMMARY:Teen Docent Puppet Show
DESCRIPTION:The Ogden Museum’s Teen Docent Puppet Theater brings art to life\, giving young audiences a window into the world of a work of art. Seven short\, interactive performances provide a whimsical introduction to the work of Southern art. \nBring your family and join us on July 21st at the Alvar Library (913 Alvar Street\, New Orleans\, LA\, 70117) to experience the teen docent puppet show!
URL:https://ogdenmuseum.org/event/teen-docent-puppet-show-2/
CATEGORIES:Events for Kids
ATTACH;FMTTYPE=image/jpeg:https://ogdenmuseum.org/wp-content/uploads/2017/07/IMG_1841-1.jpg
END:VEVENT
BEGIN:VEVENT
DTSTART;TZID=America/Chicago:20170724T103000
DTEND;TZID=America/Chicago:20170724T113000
DTSTAMP:20260423T060622
CREATED:20170719T192412Z
LAST-MODIFIED:20170719T193813Z
UID:10004097-1500892200-1500895800@ogdenmuseum.org
SUMMARY:Teen Docent Puppet Show
DESCRIPTION:The Ogden Museum’s Teen Docent Puppet Theater brings art to life\, giving young audiences a window into the world of a work of art. Seven short\, interactive performances provide a whimsical introduction to the work of Southern art. \nBring your family and join us on July 24th at the Cita Dennis Hubbell Branch Library (725 Pelican Avenue\, New Orleans\, LA\, 70114) to experience the teen docent puppet show!
URL:https://ogdenmuseum.org/event/teen-docent-puppet-show-3/
CATEGORIES:Events for Kids
ATTACH;FMTTYPE=image/jpeg:https://ogdenmuseum.org/wp-content/uploads/2017/07/IMG_1841-2.jpg
END:VEVENT
BEGIN:VEVENT
DTSTART;TZID=America/Chicago:20170725T133000
DTEND;TZID=America/Chicago:20170725T143000
DTSTAMP:20260423T060622
CREATED:20170719T192605Z
LAST-MODIFIED:20170719T193948Z
UID:10004098-1500989400-1500993000@ogdenmuseum.org
SUMMARY:Teen Docent Puppet Show
DESCRIPTION:The Ogden Museum’s Teen Docent Puppet Theater brings art to life\, giving young audiences a window into the world of a work of art. Seven short\, interactive performances provide a whimsical introduction to the work of Southern art. \nBring your family and join us on July 25th at the Algiers Regional Library (3014 Holiday Drive\, New Orleans\, LA\, 70131) to experience the teen docent puppet show!
URL:https://ogdenmuseum.org/event/teen-docent-puppet-show-4/
CATEGORIES:Events for Kids
ATTACH;FMTTYPE=image/jpeg:https://ogdenmuseum.org/wp-content/uploads/2017/07/IMG_1841-3.jpg
END:VEVENT
BEGIN:VEVENT
DTSTART;TZID=America/Chicago:20170726T110000
DTEND;TZID=America/Chicago:20170726T120000
DTSTAMP:20260423T060622
CREATED:20170719T192801Z
LAST-MODIFIED:20170719T194122Z
UID:10004099-1501066800-1501070400@ogdenmuseum.org
SUMMARY:Teen Docent Puppet Show
DESCRIPTION:The Ogden Museum’s Teen Docent Puppet Theater brings art to life\, giving young audiences a window into the world of a work of art. Seven short\, interactive performances provide a whimsical introduction to the work of Southern art. \nBring your family and join us on July 26th at the Mid-City Library (4140 Canal Street\, New Orleans\, LA\, 70119) to experience the teen docent puppet show!
URL:https://ogdenmuseum.org/event/teen-docent-puppet-show-5/
CATEGORIES:Events for Kids
ATTACH;FMTTYPE=image/jpeg:https://ogdenmuseum.org/wp-content/uploads/2017/07/IMG_1841-4.jpg
END:VEVENT
BEGIN:VEVENT
DTSTART;TZID=America/Chicago:20170727T180000
DTEND;TZID=America/Chicago:20170727T200000
DTSTAMP:20260423T060622
CREATED:20170623T174053Z
LAST-MODIFIED:20170623T174053Z
UID:10003922-1501178400-1501185600@ogdenmuseum.org
SUMMARY:Paul Sanchez
DESCRIPTION:Fans may know native New Orleanian Paul Sanchez as a founding member of the rock band Cowboy Mouth\, with whom he has 11 albums; for his role in the HBO series Treme where he played himself; or as the creative force behind the musical Nine Lives\, a musical adaptation of the best-selling novel by Dan Baum. Nine Lives follows the lives of nine people in New Orleans from 1965 (the year Hurricane Betsy ravaged the city) through 2005 (the year of Hurricane Katrina) and beyond. Paul Sanchez\,  transforms audiences with his unique blend of music and storytelling – at once powerful\, sad\, humorous\, entertaining\, and hopeful. \nPurchase Tickets
URL:https://ogdenmuseum.org/event/paul-sanchez/
CATEGORIES:Ogden After Hours
ATTACH;FMTTYPE=image/jpeg:https://ogdenmuseum.org/wp-content/uploads/2017/06/unnamed-1.jpg
END:VEVENT
END:VCALENDAR