BEGIN:VCALENDAR
VERSION:2.0
PRODID:-//Ogden Museum of Southern Art - ECPv6.15.20//NONSGML v1.0//EN
CALSCALE:GREGORIAN
METHOD:PUBLISH
X-WR-CALNAME:Ogden Museum of Southern Art
X-ORIGINAL-URL:https://ogdenmuseum.org
X-WR-CALDESC:Events for Ogden Museum of Southern Art
REFRESH-INTERVAL;VALUE=DURATION:PT1H
X-Robots-Tag:noindex
X-PUBLISHED-TTL:PT1H
BEGIN:VTIMEZONE
TZID:America/Chicago
BEGIN:DAYLIGHT
TZOFFSETFROM:-0600
TZOFFSETTO:-0500
TZNAME:CDT
DTSTART:20150308T080000
END:DAYLIGHT
BEGIN:STANDARD
TZOFFSETFROM:-0500
TZOFFSETTO:-0600
TZNAME:CST
DTSTART:20151101T070000
END:STANDARD
BEGIN:DAYLIGHT
TZOFFSETFROM:-0600
TZOFFSETTO:-0500
TZNAME:CDT
DTSTART:20160313T080000
END:DAYLIGHT
BEGIN:STANDARD
TZOFFSETFROM:-0500
TZOFFSETTO:-0600
TZNAME:CST
DTSTART:20161106T070000
END:STANDARD
BEGIN:DAYLIGHT
TZOFFSETFROM:-0600
TZOFFSETTO:-0500
TZNAME:CDT
DTSTART:20170312T080000
END:DAYLIGHT
BEGIN:STANDARD
TZOFFSETFROM:-0500
TZOFFSETTO:-0600
TZNAME:CST
DTSTART:20171105T070000
END:STANDARD
END:VTIMEZONE
BEGIN:VEVENT
DTSTART;TZID=America/Chicago:20161201T180000
DTEND;TZID=America/Chicago:20161201T200000
DTSTAMP:20260423T104611
CREATED:20161118T215225Z
LAST-MODIFIED:20161118T215447Z
UID:10003895-1480615200-1480622400@ogdenmuseum.org
SUMMARY:Peter Bradley Adams
DESCRIPTION:This week singer songwriter Peter Bradley Adams visits from Nashville\, Tennesee. Originally from Birmingham\, Alabama and the grandson of a professional Jazz clarinetist\, Adams started his musical journey at the age of six studying piano\, and continuing to play through high school and college where he studied music and composition. He formed the critically acclaimed folk duo eastmountainsouth in 2001\, which was signed to Dreamworks by Robbie Robertson. Adams music has appeared in film and television including the film Elizabeth Town\, and TV shows One Tree Hill and Dawson’s Creek. He has toured with Lucinda Williams\, Tracy Chapmen\, Joan Baez and Nelly Furtado\, and been a session musician alongside Juliana Hatfield and Josh Groban. Venturing on a solo career since 2005\, Adams continues to garner praise for his emotional lyrics the Wall Street Journal called\, “one of the 21st-Century writers whose songs are worth exploring.” \nPurchase Tickets
URL:https://ogdenmuseum.org/event/peter-bradley-adams/
CATEGORIES:Ogden After Hours
ATTACH;FMTTYPE=image/jpeg:https://ogdenmuseum.org/wp-content/uploads/2016/11/unnamed-2-720x492.jpg
END:VEVENT
BEGIN:VEVENT
DTSTART;TZID=America/Chicago:20161206T170000
DTEND;TZID=America/Chicago:20161206T200000
DTSTAMP:20260423T104611
CREATED:20161118T215906Z
LAST-MODIFIED:20161118T215906Z
UID:10003896-1481043600-1481054400@ogdenmuseum.org
SUMMARY:Art of Giving
DESCRIPTION:Art of Giving is an annual holiday shopping event featuring selected craftsmen and vendors from the Center for Southern Craft & Design.  Visitors can do all of their holiday shopping in one spot and enjoy meeting favorite vendors in person.  Featuring original glass works\, jewelry\, ceramics\, wood crafts\, textiles\, and books. There will also be cocktails\, crafts\, piano by Jesse McBride\, food and free gift wrap (courtesy of YELP NoLa.) Members receive a 15% discount off purchases and free wine. \nThis event is free and open to the public. \nVendors that will be at the Art of Giving: Bern Ceramics\, Goods That Matter\, Hess & Co\, Saint Claude\, Tchoup Industries\, Smoke Perfume\, Earth Reverie\, Brandi Couvillion\, The Stacks Art & Design Bookstore\, Bare Bones Studio\, Pistil & Stamen\, Alexandra Kilburn\, Luna Press\, NOLA Boards\, Oxalis Apothecary\, The Southern Letterpress\, Hale Stewart\, Holt McCall\, Juliet Meeks and more!
URL:https://ogdenmuseum.org/event/art-of-giving-2/
CATEGORIES:Special Event
ATTACH;FMTTYPE=image/jpeg:https://ogdenmuseum.org/wp-content/uploads/2016/11/AOFG.jpg
END:VEVENT
BEGIN:VEVENT
DTSTART;TZID=America/Chicago:20161206T173000
DTEND;TZID=America/Chicago:20161206T190000
DTSTAMP:20260423T104611
CREATED:20161021T184703Z
LAST-MODIFIED:20161021T184703Z
UID:10003891-1481045400-1481050800@ogdenmuseum.org
SUMMARY:Ogden Museum Book Club
DESCRIPTION:Join Ogden Museum docent and former teacher Maureen O’Dwyer for a lively discussion about Southern art\, literature and culture. This club will meet approximately every 6 weeks. Members may arrive at 5:30 p.m. Discussion will begin at 6 p.m. and last approximately one hour.
URL:https://ogdenmuseum.org/event/ogden-museum-book-club-2/
CATEGORIES:Book Club
ATTACH;FMTTYPE=image/jpeg:https://ogdenmuseum.org/wp-content/uploads/2016/10/A-Rasin-in-the-Sun-e1473435280663.jpg
END:VEVENT
BEGIN:VEVENT
DTSTART;TZID=America/Chicago:20161206T180000
DTEND;TZID=America/Chicago:20161206T200000
DTSTAMP:20260423T104611
CREATED:20161118T220636Z
LAST-MODIFIED:20161118T220927Z
UID:10003897-1481047200-1481054400@ogdenmuseum.org
SUMMARY:Book Signing
DESCRIPTION:Artist Simon Gunning will be signing his newly released book “The River and the Painter: Simon Gunning\, New Orleans\, the Mississippi River and its Bayous\,” published by Ogden Museum of Southern Art on Tuesday\, December 6 at Art of Giving between 5:00 and 8:00. Books will be available for purchase at a retail price of $59. \nThe book includes over 90 full-color plates of his paintings and sketches and includes an introductory essay and interview with the artist by author John M. Barry. This book is the very first survey of Gunning’s work and depicts his three collections of paintings: The River\, The City\, and The Bayous and Swamps. \nProduced in conjunction with the exhibit: Simon Gunning and the Southern Louisiana Landscape is on view until Feb 5th. \nAustralian-born Simon Gunning left his native country in the 1970s with plans to attend a graduate program in England for painting. On his way\, he traveled through the United States and to New Orleans\, where he was captivated by the city’s urban landscape set amongst a lush backdrop of tropical flora and cypress swamps. Gunning moved to New Orleans in 1981 and began painting its neighborhood streets and later\, the natural scenery of South Louisiana. Gunning’s paintings depict a range of local subject matter\, such as the Creole cottage-lined streets of the city’s historic neighborhoods\, passing barges on the Mississippi River\, and the serenity of two fishermen in the Honey Island Swamp. This exhibition will highlight Gunning’s mastery of the Southern Louisiana landscape\, which he has been painting for over thirty years. \nJohn M. Barry is a prize-winning and New York Times best-selling author whose books have won multiple awards. The National Academies of Science named his 2004 book The Great Influenza: The story of the deadliest pandemic in history\, a study of the 1918 pandemic\, the year’s outstanding book on science or medicine. His earlier book Rising Tide: The Great Mississippi Flood of 1927 and How It Changed America\, won the Francis Parkman Prize of the Society of American Historians for the year’s best book of American history and in 2005 the New York Public Library named it one of the 50 best books in the preceding 50 years\, including fiction\, nonfiction\, and poetry. His latest book is Roger Williams and The Creation of the American Soul: Church\, State\, and the Birth of Liberty\, a finalist for the Los Angeles Times Book Prize and winner of the New England Society Book Award. \nGenerous Supporters of the book: \nColeman Adler\, James and Minnie Coleman\, Tommy and Dathel Coleman\, Dathel and John Georges\, Anna Beth and John Goodman\, Bill Goldring\, Jeffrey and Walton Goldring\, The Helis Foundation\, Gregory Holt and Lucy Burnett\, Allison Kendrick\, Cathy and Hunter Pierson\, Arthur Roger \, Karen Solomon\, Michael Wilkinson
URL:https://ogdenmuseum.org/event/book-signing-2/
CATEGORIES:Book Signings
ATTACH;FMTTYPE=image/png:https://ogdenmuseum.org/wp-content/uploads/2016/11/Screen-Shot-2016-11-18-at-4.08.56-PM.png
END:VEVENT
BEGIN:VEVENT
DTSTART;TZID=America/Chicago:20161208T180000
DTEND;TZID=America/Chicago:20161208T200000
DTSTAMP:20260423T104611
CREATED:20161118T221915Z
LAST-MODIFIED:20161118T221947Z
UID:10003898-1481220000-1481227200@ogdenmuseum.org
SUMMARY:Evan Christopher's Clarinet Road with David Torkanowsky
DESCRIPTION:Evan Christopher combines virtuosity\, immaculate taste\, and enthusiasm with a commitment to exploring the full range of possibilities in the New Orleans clarinet tradition. His highly personal brand of “contemporary\, early jazz” strives to extend the legacies of early Creole clarinetists such as Sidney Bechet\, Barney Bigard and Omer Simeon. Critics remarking on Christopher’s dynamic expressiveness have coined his style “close-encounter music” (New York Times) and have called his respect for the music traditions of New Orleans\, “a triumph\, joining the present seamlessly to a glorious past.” (The Observer\, UK). Joining Evan\, will be one of New Orleans premier pianists\, David Torkanowsky.
URL:https://ogdenmuseum.org/event/evan-christophers-clarinet-road-david-torkanowsky/
CATEGORIES:Ogden After Hours
ATTACH;FMTTYPE=image/jpeg:https://ogdenmuseum.org/wp-content/uploads/2016/11/unnamed.jpg
END:VEVENT
BEGIN:VEVENT
DTSTART;TZID=America/Chicago:20161208T183000
DTEND;TZID=America/Chicago:20161208T203000
DTSTAMP:20260423T104611
CREATED:20161121T153522Z
LAST-MODIFIED:20161121T154308Z
UID:10003899-1481221800-1481229000@ogdenmuseum.org
SUMMARY:Happy Hour with a Healthy Twist
DESCRIPTION:Join us for a “A Night at the Museum” with Footprints to Fitness. There will be a Holiday Themed Costume Contest\,  Yoga\, Pilates\, Barre\, Food\, Cocktails\, Live Music and Giveaways! Enjoy a “Healthy Happy Hour” and exercise surrounded by art! This event will take place during our regular Ogden After Hours\, you can register for it and purchase tickets at footprintstofitness.com.
URL:https://ogdenmuseum.org/event/happy-hour-healthy-twist/
CATEGORIES:Special Event
ATTACH;FMTTYPE=image/jpeg:https://ogdenmuseum.org/wp-content/uploads/2016/11/One-Legged-Downward-Dog.jpg
END:VEVENT
BEGIN:VEVENT
DTSTART;TZID=America/Chicago:20161209T170000
DTEND;TZID=America/Chicago:20161209T190000
DTSTAMP:20260423T104611
CREATED:20161021T185134Z
LAST-MODIFIED:20161130T173621Z
UID:10003892-1481302800-1481310000@ogdenmuseum.org
SUMMARY:CURRENTS 2016:NOPA Opening Reception
DESCRIPTION:This reception celebrates the opening of CURRENTS 2016: New Orleans Photo Alliance Members Showcase on view at the Ogden Museum of Southern Art from December 8 through January 29\, 2017. The reception will feature a juror’s talk by Kevin Miller\, Associate Curator at the Southeast Museum of Photography located in Daytona Beach\, Florida. This event is free and open to the public.
URL:https://ogdenmuseum.org/event/opening-reception/
CATEGORIES:Opening Receptions
ATTACH;FMTTYPE=image/jpeg:https://ogdenmuseum.org/wp-content/uploads/2016/10/et-venue-new-orleans-photo-alliance-logojpg-fba6d4b36c12daa2.jpg
END:VEVENT
BEGIN:VEVENT
DTSTART;TZID=America/Chicago:20161211T150000
DTEND;TZID=America/Chicago:20161211T160000
DTSTAMP:20260423T104611
CREATED:20161021T185539Z
LAST-MODIFIED:20161121T162402Z
UID:10003893-1481468400-1481472000@ogdenmuseum.org
SUMMARY:Gallery Talk and Book Signing
DESCRIPTION:Maude Schuyler Clay will lead a gallery talk of her exhibition Mississippi History followed by a question and answer session. She will be joined by the Ogden Museum’s Curator of Photography Richard McCabe. She will also sign copies of her book – Mississippi History\, published by Steidl in 2015.  The Ogden Museum organized and hosted the exhibition Maude Schuyler Clay: Mississippi History in 2016.
URL:https://ogdenmuseum.org/event/gallery-talk-book-signing/
CATEGORIES:Book Signings,Gallery Talks
ATTACH;FMTTYPE=image/jpeg:https://ogdenmuseum.org/wp-content/uploads/2016/10/maude-schuyler-clay-my-mississippi-history-42.jpg
END:VEVENT
BEGIN:VEVENT
DTSTART;TZID=America/Chicago:20161211T160000
DTEND;TZID=America/Chicago:20161211T170000
DTSTAMP:20260423T104611
CREATED:20161021T185656Z
LAST-MODIFIED:20161121T162248Z
UID:10003894-1481472000-1481475600@ogdenmuseum.org
SUMMARY:Book Signing
DESCRIPTION:Bill Yates will be present to sign copies of his book – Sweetheart Roller Skating Rink\, published by Fall Line Press in 2016. The Sweetheart Roller Skating Rink book includes an essay by the Ogden Museum’s Curator of Photography Richard McCabe. The Ogden Museum organized and hosted the exhibition Bill Yates: Sweetheart Roller Skating Rink in 2015.
URL:https://ogdenmuseum.org/event/book-signing/
CATEGORIES:Book Signings
ATTACH;FMTTYPE=image/jpeg:https://ogdenmuseum.org/wp-content/uploads/2016/10/Sweetheartbook_2016-1025-005.jpg
END:VEVENT
BEGIN:VEVENT
DTSTART;TZID=America/Chicago:20161215T180000
DTEND;TZID=America/Chicago:20161215T200000
DTSTAMP:20260423T104611
CREATED:20161121T162742Z
LAST-MODIFIED:20161121T162836Z
UID:10003889-1481824800-1481832000@ogdenmuseum.org
SUMMARY:Roman Street Guitar Duo
DESCRIPTION:Join us for our annual holiday celebration with Roman Street!\nBrothers Noah and Josh Thompson put their guitars together to form Roman Street. Since the college years\, this brotherly jam session has developed into a Billboard/iTunes charting band who many have dubbed ‘the next generation’ of Jazz Fusion. Roman Street\, named for an old roman street in the Alps\, is an internationally trained instrumental band specializing in improvisational fusion of Classical\, Gypsy and Contemporary Jazz\, Latin\, and Nuevo Flamenco. A departure from the over-produced music that is out there today\, they keep it simple—the beautifully organic sound of acoustic instruments played by talented people who love what they are doing. Whether performing as a guitar duo\, or with a backing band\, Roman Street astounds with music that appeals to fans of many genres. \nPurchase Tickets
URL:https://ogdenmuseum.org/event/roman-street-guitar-duo/
CATEGORIES:Ogden After Hours
ATTACH;FMTTYPE=image/jpeg:https://ogdenmuseum.org/wp-content/uploads/2016/11/unnamed-5.jpg
END:VEVENT
BEGIN:VEVENT
DTSTART;TZID=America/Chicago:20161215T180000
DTEND;TZID=America/Chicago:20161215T200000
DTSTAMP:20260423T104611
CREATED:20161121T163300Z
LAST-MODIFIED:20161121T163907Z
UID:10003888-1481824800-1481832000@ogdenmuseum.org
SUMMARY:Book Signing
DESCRIPTION:Join Troy Gilbert on December 15th during After Hours as he signs his book “On the Coast: Mississippi Tales and Recipes” with artwork by Billy Solitario. \nThe Mississippi Gulf Coast is a place where people and water are intertwined.  This collection of recipes from local chefs\, and essays showing the intimate relationship between people\, industry\, and environment provides a compelling portrait of one of the Gulf Coast’s most dynamic regions. \nAn avid sailor\, author Troy Gilbert grew up visiting the Mississippi Gulf Coast on weekends and attended St. Stanislaus in Bay St. Louis. As an adult\, he began sailing the coast and exploring the Gulf Islands and has written stories about these waters for many publications\, including Sailing World\, BoatUS\, Mississippi Magazine\, and Southern Boating. \nRaised in Gautier\, illustrator Billy Solitario began sailing and sketching scenes of the Gulf islands at a young age. He earned his BFA from the University of South Florida and his MFA in painting from Tulane University after receiving the prestigious Gwendolyn Ozol Scholarship.
URL:https://ogdenmuseum.org/event/book-signing-3/
CATEGORIES:Book Signings
ATTACH;FMTTYPE=image/jpeg:https://ogdenmuseum.org/wp-content/uploads/2016/11/OntheCoastMississippiTalesandRecipes.jpg
END:VEVENT
BEGIN:VEVENT
DTSTART;TZID=America/Chicago:20161219T090000
DTEND;TZID=America/Chicago:20161219T150000
DTSTAMP:20260423T104611
CREATED:20161121T182404Z
LAST-MODIFIED:20161216T184240Z
UID:10003887-1482138000-1482159600@ogdenmuseum.org
SUMMARY:Winter Holiday Camp
DESCRIPTION:Looking for something fun to do this winter break? Join us for Winter Holiday Camp and explore the museum’s collection\, spend time learning new art techniques\, and create beautiful holiday gifts for friends and family! New and different projects will be presented each day. \nDates: Monday\, December 19\, Tuesday\, December 20\,  and Wednesday\, December 21 \nTime: 9 am  – 3 pm \nAges: 1st – 5th grades \nCost: $45 member per day /$50 non-member per day \nWe’re sorry\, our Monday camp is full. Email ebalkin@ogdenmuseum.org to be placed on the wait list. \n 
URL:https://ogdenmuseum.org/event/winter-holiday-camp/
CATEGORIES:Events for Kids
ATTACH;FMTTYPE=image/jpeg:https://ogdenmuseum.org/wp-content/uploads/2016/11/Holiday-Camp.jpg
END:VEVENT
BEGIN:VEVENT
DTSTART;TZID=America/Chicago:20161220T090000
DTEND;TZID=America/Chicago:20161220T150000
DTSTAMP:20260423T104611
CREATED:20161121T183855Z
LAST-MODIFIED:20161215T183216Z
UID:10003877-1482224400-1482246000@ogdenmuseum.org
SUMMARY:Winter Holiday Camp
DESCRIPTION:Looking for something fun to do this winter break? Join us for Winter Holiday Camp and explore the museum’s collection\, spend time learning new art techniques\, and create beautiful holiday gifts for friends and family! New and different projects will be presented each day. \nDates: Monday\, December 19\, Tuesday\, December 20\,  and Wednesday\, December 21 \nTime: 9 am  – 3 pm \nAges: 1st – 5th grades \nCost: $45 member per day /$50 non-member per day \nWe’re sorry our Tuesday camp is full. Email ebalkin@ogdenmuseum.org to be placed on the wait list. \n 
URL:https://ogdenmuseum.org/event/winter-holiday-camp-2/
CATEGORIES:Events for Kids
ATTACH;FMTTYPE=image/jpeg:https://ogdenmuseum.org/wp-content/uploads/2016/11/summer-camp-young.jpg
END:VEVENT
BEGIN:VEVENT
DTSTART;TZID=America/Chicago:20161221T090000
DTEND;TZID=America/Chicago:20161221T150000
DTSTAMP:20260423T104611
CREATED:20161121T184022Z
LAST-MODIFIED:20161215T183211Z
UID:10003878-1482310800-1482332400@ogdenmuseum.org
SUMMARY:Winter Holiday Camp
DESCRIPTION:Looking for something fun to do this winter break? Join us for Winter Holiday Camp and explore the museum’s collection\, spend time learning new art techniques\, and create beautiful holiday gifts for friends and family! New and different projects will be presented each day. \nDates: Monday\, December 19\, Tuesday\, December 20\,  and Wednesday\, December 21 \nTime: 9 am  – 3 pm \nAges: 1st – 5th grades \nCost: $45 member per day /$50 non-member per day \nRegister for Wednesday
URL:https://ogdenmuseum.org/event/winter-holiday-camp-3/
CATEGORIES:Events for Kids
ATTACH;FMTTYPE=image/jpeg:https://ogdenmuseum.org/wp-content/uploads/2016/11/IMG_4616.jpg
END:VEVENT
BEGIN:VEVENT
DTSTART;TZID=America/Chicago:20161221T090000
DTEND;TZID=America/Chicago:20161221T150000
DTSTAMP:20260423T104611
CREATED:20161121T185129Z
LAST-MODIFIED:20161219T221047Z
UID:10003879-1482310800-1482332400@ogdenmuseum.org
SUMMARY:Winter Holiday Photography Camp
DESCRIPTION:Winter Holiday Photo Camp \nDate: Wednesday \, December 21\nTime: 9 am  – 3 pm\nAges: 5th – 8th grades\nCost: $45 member per day /$50 non-member per day \nDuring Winter Holiday Photo Camp\, students in grades 5th-8th will learn the anatomy and functions of point-and-shoot\, cell phone\, and SLR cameras. They will become comfortable with basic compositional elements\, lighting techniques\, and will learn to recreate images from the museum’s permanent collection.  Ultimately\, students will produce a five-photo series within a track of their choice: still life\, landscape or portraiture. \nCameras provided as needed\, though students are encouraged to bring their own.\nNo previous photography knowledge is necessary. \nWe’re sorry this camp is full\, please email ebalkin@ogdenmuseum.org to be placed on the wait list.
URL:https://ogdenmuseum.org/event/winter-holiday-photography-camp/
CATEGORIES:Events for Kids
ATTACH;FMTTYPE=image/jpeg:https://ogdenmuseum.org/wp-content/uploads/2016/11/Ogden-Museum-Photography-Camp.jpg
END:VEVENT
BEGIN:VEVENT
DTSTART;TZID=America/Chicago:20161224T100000
DTEND;TZID=America/Chicago:20161224T150000
DTSTAMP:20260423T104611
CREATED:20161207T171759Z
LAST-MODIFIED:20161207T171759Z
UID:10003946-1482573600-1482591600@ogdenmuseum.org
SUMMARY:Museum Closes at 3pm
DESCRIPTION:The museum will close today at 3pm in observance of the Christmas holiday.
URL:https://ogdenmuseum.org/event/museum-closes-3pm/
ATTACH;FMTTYPE=image/png:https://ogdenmuseum.org/wp-content/uploads/2016/11/Screen-Shot-2016-11-17-at-12.20.25-PM.png
END:VEVENT
BEGIN:VEVENT
DTSTART;TZID=America/Chicago:20161225T080000
DTEND;TZID=America/Chicago:20161225T170000
DTSTAMP:20260423T104611
CREATED:20161207T171620Z
LAST-MODIFIED:20161207T171620Z
UID:10003965-1482652800-1482685200@ogdenmuseum.org
SUMMARY:Museum Closed
DESCRIPTION:The museum is closed today in observance of the Christmas holiday.
URL:https://ogdenmuseum.org/event/museum-closed/
ATTACH;FMTTYPE=image/png:https://ogdenmuseum.org/wp-content/uploads/2016/11/Screen-Shot-2016-11-17-at-12.20.25-PM.png
END:VEVENT
BEGIN:VEVENT
DTSTART;TZID=America/Chicago:20161226T080000
DTEND;TZID=America/Chicago:20161226T170000
DTSTAMP:20260423T104611
CREATED:20161207T171703Z
LAST-MODIFIED:20161207T171703Z
UID:10003967-1482739200-1482771600@ogdenmuseum.org
SUMMARY:Museum Closed
DESCRIPTION:The museum will be closed today in observance of the Christmas holiday.
URL:https://ogdenmuseum.org/event/museum-closed-2/
ATTACH;FMTTYPE=image/png:https://ogdenmuseum.org/wp-content/uploads/2016/11/Screen-Shot-2016-11-17-at-12.20.25-PM.png
END:VEVENT
BEGIN:VEVENT
DTSTART;TZID=America/Chicago:20161231T080000
DTEND;TZID=America/Chicago:20161231T170000
DTSTAMP:20260423T104611
CREATED:20161207T171911Z
LAST-MODIFIED:20161207T171911Z
UID:10003945-1483171200-1483203600@ogdenmuseum.org
SUMMARY:Museum closes at 3pm
DESCRIPTION:The museum will close at 3pm today in observance of the New Year holiday.
URL:https://ogdenmuseum.org/event/museum-closes-3pm-2/
ATTACH;FMTTYPE=image/png:https://ogdenmuseum.org/wp-content/uploads/2016/11/Screen-Shot-2016-11-17-at-12.20.25-PM.png
END:VEVENT
END:VCALENDAR