BEGIN:VCALENDAR
VERSION:2.0
PRODID:-//Ogden Museum of Southern Art - ECPv6.15.20//NONSGML v1.0//EN
CALSCALE:GREGORIAN
METHOD:PUBLISH
X-WR-CALNAME:Ogden Museum of Southern Art
X-ORIGINAL-URL:https://ogdenmuseum.org
X-WR-CALDESC:Events for Ogden Museum of Southern Art
REFRESH-INTERVAL;VALUE=DURATION:PT1H
X-Robots-Tag:noindex
X-PUBLISHED-TTL:PT1H
BEGIN:VTIMEZONE
TZID:America/Chicago
BEGIN:DAYLIGHT
TZOFFSETFROM:-0600
TZOFFSETTO:-0500
TZNAME:CDT
DTSTART:20150308T080000
END:DAYLIGHT
BEGIN:STANDARD
TZOFFSETFROM:-0500
TZOFFSETTO:-0600
TZNAME:CST
DTSTART:20151101T070000
END:STANDARD
BEGIN:DAYLIGHT
TZOFFSETFROM:-0600
TZOFFSETTO:-0500
TZNAME:CDT
DTSTART:20160313T080000
END:DAYLIGHT
BEGIN:STANDARD
TZOFFSETFROM:-0500
TZOFFSETTO:-0600
TZNAME:CST
DTSTART:20161106T070000
END:STANDARD
BEGIN:DAYLIGHT
TZOFFSETFROM:-0600
TZOFFSETTO:-0500
TZNAME:CDT
DTSTART:20170312T080000
END:DAYLIGHT
BEGIN:STANDARD
TZOFFSETFROM:-0500
TZOFFSETTO:-0600
TZNAME:CST
DTSTART:20171105T070000
END:STANDARD
END:VTIMEZONE
BEGIN:VEVENT
DTSTART;TZID=America/Chicago:20161027T180000
DTEND;TZID=America/Chicago:20161027T200000
DTSTAMP:20260423T133047
CREATED:20161021T170104Z
LAST-MODIFIED:20180122T230339Z
UID:10003857-1477591200-1477598400@ogdenmuseum.org
SUMMARY:Los Poboycitos
DESCRIPTION:Los Po-Boy-Citos gets the party cooking with tasty Latin soul and raw New Orleans funk. Starting with a base of boogaloo born in 1960s Harlem\, the band adds horns reminiscent of a New Orleans second line to create something uniquely original. \nLos Po-Boy-Citos started out in 2006 by combining old-school boogaloo songs by Willie Bobo and Mongo Santamaria with New Orleans R&B hits. What began as some friends jamming together quickly morphed into a club favorite as they began to write originals that sounded as good as the classics. Their latest album Hasta introduced new boogaloo originals like “Mary Wants to Boogaloo” and “Oye Mamacita.” \nLos Po-Boy-Citos has recorded two previous CDs\, Brand New Dance and New Orleans Latin Soul\, and a 45rpm record. \n“The band’s horns vamp like the Rebirth Brass Band caught in a tangle of percussion…” – The Times Picayune  \n“A sweat-breaking blast of snaps\, handclaps and group-sung shouts…” – Gambit Weekly \n“The snappy ‘Long Way Home’ sounds like it has been around forever…” – Offbeat \nNamed Best Latin Band three years in a row at the Big Easy Awards\, Los Poboycitos has played every major festival and venue including Jazz Fest\, French Quarter Fest\, Tipitina’s and House of Blues. They have opened for Sharon Jones and the Dapkings\, Grupo Fantasma\, Tower of Power\, Dr. John\, Rebirth Brass Band\, and many more. \nCelebrate Dia De Los Muertos with us by dressing up for our costume contest! Come dressed to celebrate!\nO-Yum Pop Up: Holly’s Tamales\nOgden After Hours is a weekly entertainment series featuring Southern musicians\, films and more. Each OAH includes an art activity for kids in our Education Gallery\, a cash-bar and our galleries are open for viewing. OAH is free for museum members and $13.50 for guests. \nPhoto Credit: Pableaux Johnson \nPurchase Tickets\n 
URL:https://ogdenmuseum.org/event/los-poboycitos/
CATEGORIES:Ogden After Hours
ATTACH;FMTTYPE=image/jpeg:https://ogdenmuseum.org/wp-content/uploads/2016/11/ogden-placeholder.jpg
END:VEVENT
END:VCALENDAR