BEGIN:VCALENDAR
VERSION:2.0
PRODID:-//Ogden Museum of Southern Art - ECPv6.15.20//NONSGML v1.0//EN
CALSCALE:GREGORIAN
METHOD:PUBLISH
X-ORIGINAL-URL:https://ogdenmuseum.org
X-WR-CALDESC:Events for Ogden Museum of Southern Art
REFRESH-INTERVAL;VALUE=DURATION:PT1H
X-Robots-Tag:noindex
X-PUBLISHED-TTL:PT1H
BEGIN:VTIMEZONE
TZID:America/Chicago
BEGIN:DAYLIGHT
TZOFFSETFROM:-0600
TZOFFSETTO:-0500
TZNAME:CDT
DTSTART:20200308T080000
END:DAYLIGHT
BEGIN:STANDARD
TZOFFSETFROM:-0500
TZOFFSETTO:-0600
TZNAME:CST
DTSTART:20201101T070000
END:STANDARD
BEGIN:DAYLIGHT
TZOFFSETFROM:-0600
TZOFFSETTO:-0500
TZNAME:CDT
DTSTART:20210314T080000
END:DAYLIGHT
BEGIN:STANDARD
TZOFFSETFROM:-0500
TZOFFSETTO:-0600
TZNAME:CST
DTSTART:20211107T070000
END:STANDARD
BEGIN:DAYLIGHT
TZOFFSETFROM:-0600
TZOFFSETTO:-0500
TZNAME:CDT
DTSTART:20220313T080000
END:DAYLIGHT
BEGIN:STANDARD
TZOFFSETFROM:-0500
TZOFFSETTO:-0600
TZNAME:CST
DTSTART:20221106T070000
END:STANDARD
END:VTIMEZONE
BEGIN:VEVENT
DTSTART;TZID=America/Chicago:20211120T100000
DTEND;TZID=America/Chicago:20211120T130000
DTSTAMP:20260421T015004
CREATED:20211028T183325Z
LAST-MODIFIED:20211119T184428Z
UID:10005051-1637402400-1637413200@ogdenmuseum.org
SUMMARY:Outside the Frame: The Work of RaMell Ross
DESCRIPTION:Join sculptor Rontherin Ratliff for a deep dive into the work of renowned artist RaMell Ross. In Ross’ work\, individuals are often obscured or partially hidden\, leaving important details unattainable to the viewer’s gaze. Using found objects and a selection of prefabricated frames\, Ratliff will lead participants in a workshop to construct an assemblage that explores the tension between the obvious and the inferred\, employing the frame to represent both the literal and metaphorical. \nThe workshop includes a guided-tour of Spell\, Time\, Practice\, American\, Body: The Work of RaMell Ross. \nAll materials are included. \n$40 member / $45 non-member \nRegister\n\n			\n				\n			\n			\n				\n			\n			\n		\n\nImages courtesy of Rontherin Ratliff \nAbout Spell\, Time\, Practice\, American Body: The Work of RaMell Ross \nIn 2018\, photographer\, filmmaker\, and educator RaMell Ross released the documentary film Hale County This Morning\, This Evening to critical acclaim\, inspiring wide-ranging artistic dialogue on the nature and status of filmmaking and earning mainstream recognition through an Academy Award nomination. The film’s power to captivate is inextricably tied to Ross’ ability to connect with the individuals that inhabit the experiences rendered by his large-format photographs and DSLR video camera. Within his work\, the voyeuristic construction of a subject’s narrative – typical of film and often equally so of photography and other representational modes – is deconstructed and replaced with a fluid and unencumbered aesthetics. \nRoss’ approach – which evolved organically through his personal engagement with the people and spaces of Hale County\, Alabama – offers a fresh\, if not new\, methodology for documentary storytelling\, particularly in the treatment of the Black experience\, which for centuries has been articulated through an inherent sense of “otherness” by the white gaze. \nAbout RaMell Ross \nRaMell Ross is a visual artist\, filmmaker\, writer and liberated documentarian. His work has appeared in places like Hammer Museum\, Los Angeles\, CA; Institute of Contemporary Arts\, London; Birmingham Museum of Art\, Museum of Modern Art\, New York City\, NY; National Gallery of Art\, Washington\, D.C.\, Ogden Museum of Southern Art\, New Orleans\, LA; and Walker Art Center\, Minneapolis\, MN. He has been awarded an Aaron Siskind Foundation Individual Photographer’s Fellowship and was a 2020 USA Artist Fellow. His feature experimental documentary\, “Hale County This Morning\, This Evening\,” won a Special Jury Award for Creative Vision at the 2018 Sundance Film Festival and 2020 Peabody Award. It was nominated for an Oscar at the 91st Academy Awards and an Emmy for Exceptional Merit in Documentary Film. RaMell holds degrees in Sociology and English from Georgetown University and is an associate professor of art in Brown University’s Visual Art Department. His work is in various public and private collections\, and has been featured in Aperture\, ArtForum\, The Atlantic\, Daily Show\, Dissent Magazine\, Filmmaker Magazine\, IndieWire\, New Yorker\, NY Times\, TIME Magazine\, Variety\, Village Voice\, among others. \nIMPORTANT EVENT GUIDELINES  \nAnyone 12 years of age and older must provide proof of at least one dose of an approved COVID vaccine or a negative PCR test within 72 hours to access. \nWe will accept original vaccine cards\, the LA Wallet app or high-resolution photos of both sides of your vaccine card as proof of vaccination. Physical copies or a photo of a negative PCR test will also be accepted. \nMasks and online ticket reservations are required for this event. Reduced capacity is implemented. \nImage: RaMell Ross\, iHome\, 2012\, Archival pigment print\, 36″ x 46″\, Promised gift of the Roger H. Ogden Collection
URL:https://ogdenmuseum.org/event/outside-the-frame-the-work-of-ramell-ross/
CATEGORIES:Artist Workshops,Events for Adults,Workshops + Talks
ATTACH;FMTTYPE=image/jpeg:https://ogdenmuseum.org/wp-content/uploads/2021/10/iHome-Web-Event-Size.jpg
END:VEVENT
END:VCALENDAR