BEGIN:VCALENDAR
VERSION:2.0
PRODID:-//Ogden Museum of Southern Art - ECPv6.15.20//NONSGML v1.0//EN
CALSCALE:GREGORIAN
METHOD:PUBLISH
X-ORIGINAL-URL:https://ogdenmuseum.org
X-WR-CALDESC:Events for Ogden Museum of Southern Art
REFRESH-INTERVAL;VALUE=DURATION:PT1H
X-Robots-Tag:noindex
X-PUBLISHED-TTL:PT1H
BEGIN:VTIMEZONE
TZID:America/Chicago
BEGIN:DAYLIGHT
TZOFFSETFROM:-0600
TZOFFSETTO:-0500
TZNAME:CDT
DTSTART:20200308T080000
END:DAYLIGHT
BEGIN:STANDARD
TZOFFSETFROM:-0500
TZOFFSETTO:-0600
TZNAME:CST
DTSTART:20201101T070000
END:STANDARD
BEGIN:DAYLIGHT
TZOFFSETFROM:-0600
TZOFFSETTO:-0500
TZNAME:CDT
DTSTART:20210314T080000
END:DAYLIGHT
BEGIN:STANDARD
TZOFFSETFROM:-0500
TZOFFSETTO:-0600
TZNAME:CST
DTSTART:20211107T070000
END:STANDARD
BEGIN:DAYLIGHT
TZOFFSETFROM:-0600
TZOFFSETTO:-0500
TZNAME:CDT
DTSTART:20220313T080000
END:DAYLIGHT
BEGIN:STANDARD
TZOFFSETFROM:-0500
TZOFFSETTO:-0600
TZNAME:CST
DTSTART:20221106T070000
END:STANDARD
END:VTIMEZONE
BEGIN:VEVENT
DTSTART;TZID=America/Chicago:20210304T120000
DTEND;TZID=America/Chicago:20210304T123000
DTSTAMP:20260423T130406
CREATED:20210125T192413Z
LAST-MODIFIED:20210219T164628Z
UID:10004910-1614859200-1614861000@ogdenmuseum.org
SUMMARY:Hey Y'all Art Talk
DESCRIPTION:Hey y’all! Please join us for a deep dive exploring the richness and diversity of Southern art and artists. You’re welcome to join in participatory discussions about the art\, or sit back\, look and listen. The choice is yours! \nEvery First Thursday at noon\, Museum Educator Sara Echaniz will facilitate an in-depth conversation about art and artists from Ogden Museum’s permanent collection and current exhibitions. \nFree\, but pre-registration is required and space is limited. We limit attendance for Hey Y’all as this program involves discussion and participation that is better suited for a smaller group. Before the program begins\, registrants will receive a link to join the workshop via Zoom. \nThis week we will discuss some of our favorite artworks from Ogden Museum\, such as Ida Kohlmeyer’s Mythic Series #31 (pictured). \nRegister\n\nIda Kohlmeyer\, Mythic Series #31 \, 1985\, Mixed media on canvas\, Gift of the Roger Houston Ogden Collection
URL:https://ogdenmuseum.org/event/hey-yall-art-talk-11/
CATEGORIES:Education Events for Adults,Events for Adults,Hey Y'all Art Talk,Live Events,Ogden Museum Online Events,Workshops + Talks
ATTACH;FMTTYPE=image/jpeg:https://ogdenmuseum.org/wp-content/uploads/2021/01/Ida-Kohlmeyer-_Mythic-Series-31_-detail-1985-Mixed-media-on-canvas-Gift-of-the-Roger-Houston-Ogden-Collection-768x528-Sara-Echaniz.jpg
END:VEVENT
BEGIN:VEVENT
DTSTART;TZID=America/Chicago:20210313T100000
DTEND;TZID=America/Chicago:20210313T120000
DTSTAMP:20260423T130406
CREATED:20210224T202256Z
LAST-MODIFIED:20210305T194711Z
UID:10004962-1615629600-1615636800@ogdenmuseum.org
SUMMARY:Virtual Artist Workshop
DESCRIPTION:Join us for a series of three sculpture workshops exploring BUILT: Sculptural Art from the Permanent Collection\, an exhibition of sculpture from the permanent collection. Each workshop will include an in-depth discussion with an artist featured in the exhibition\, followed by an art-making workshop led by the artist. \nIn this first workshop\, participants will explore the work of Martin Payton and construct a sculpture by assembling geometric and organic shapes. Learn to use improvisation with shape and space to build a cardboard sculpture. \nMaterials are not provided\, therefore students are encouraged to come to the session with the following materials: a few 8.5 x 11 sheets of 1/8 inch cardboard\, exacto knife\, ruler or straight edge. \n$40 members/$45 non-members \nRegistration required. After you register\, you will receive 2 emails: a virtual ticket and an email containing a Zoom meeting link. If you do not receive the email\, please make sure to check your junk folder. \nRegister\nMartin Payton Artist Statement:  \nComing to consciousness in New Orleans\, with its many African cultural retentions\, I have found the work of African American musicians to be an extremely important aesthetic model. Their work continued the chants and polyrhythms of our African past into gospel\, blues\, jazz and currently\, hip-hop. My response has been to explore the connections between the temporal forms of music and the plastic forms of sculpture. Actual and implied movement\, contrast\, improvisation\, rhythmically orchestrated intervals\, alternating dominance of shape\, then space have all been employed in my expressive efforts in welded steel. My idea has been to use welded steel to form poetic statements around the diaspora of African history and culture while acknowledging contemporary thought and practice in visual art. \nBio photo by David Humphreys \nMartin Payton\, Dexter\, 1998\, Welded Steel\, The Michael Brown and Linda Green Collection\, 2000.11.5.
URL:https://ogdenmuseum.org/event/virtual-artist-workshop/
CATEGORIES:Artist Workshops,Education Events for Adults,Events for Adults,Live Events,Workshops + Talks
ATTACH;FMTTYPE=image/jpeg:https://ogdenmuseum.org/wp-content/uploads/2021/02/Martian-Payton-.jpg
END:VEVENT
BEGIN:VEVENT
DTSTART;TZID=America/Chicago:20210318T120000
DTEND;TZID=America/Chicago:20210318T130000
DTSTAMP:20260423T130406
CREATED:20210212T212509Z
LAST-MODIFIED:20210315T180002Z
UID:10004493-1616068800-1616072400@ogdenmuseum.org
SUMMARY:Drawing 101
DESCRIPTION:Learn to draw from nature. Be inspired by Southern artists\, landscapes and the flora and fauna that live in this bioregion!\nParticipants are encouraged to tune in once a month for a new drawing exercise with Museum Educator\, Michelle Pontiff. Take a stress-free lunch break and join this beginner-level drawing class designed to build your drawing skills. In each class\, participants with learn about a Southern artist whose work is inspired by nature. In a guided conversation\, participants will explore the artists’ style and interpretation of nature; followed by an instructional drawing exercise. \nFREE\, but pre-registration is required. Space is limited. \nThis week\, we’ll examine From the Vine to the Vein by Jacqueline Bishop. \nRegister\nJacqueline Bishop\, From the Vine to the Vein\, 1992\, Oil on masonite\, Gift of Roger H. Ogden Collection \nPRIVATE GROUP ART TALKS AVAILABLE! For pricing information\, please contact education@ogdenmuseum.org. Virtual group tours are also available. \nLearn More About Virtual Group Tours
URL:https://ogdenmuseum.org/event/drawing-101-15/
CATEGORIES:Artist Workshops,Drawing 101,Education Events for Adults,Events for Adults,Live Events,Ogden Museum Online Events,Workshops + Talks
ATTACH;FMTTYPE=image/jpeg:https://ogdenmuseum.org/wp-content/uploads/2021/02/Bishop.jpg
END:VEVENT
BEGIN:VEVENT
DTSTART;TZID=America/Chicago:20210322T130000
DTEND;TZID=America/Chicago:20210322T150000
DTSTAMP:20260423T130406
CREATED:20210224T204830Z
LAST-MODIFIED:20210226T204030Z
UID:10004964-1616418000-1616425200@ogdenmuseum.org
SUMMARY:BUILD ON Virtual Adult Art Class
DESCRIPTION:Mondays\, March 22 – May 3\, 2021 (6 sessions). No class on April 5\n1 – 3 p.m. (presented on Zoom)\n$225 members/$285 non-members \nREGISTER\nThis six-week session will draw inspiration from Ogden Museum’s exhibitions\, Built: Sculptural Art from the Permanent Collection and Preservative Force: Recent Acquisitions to the Collection. Artists investigated will include Mel Chin\, William Dunlap\, Lin Emery\, George Dureau and Robert Tannen. Museum Educator Mikhayla Harrell will be live on Zoom to guide you through deep art observation\, critical thinking\, art making procedures and mindfulness practices.  \nStudents will use a range of materials from found natural organic materials\, intertubes\, wood\, cardboard\, paper mache\, collage\, paint and even strange objects from around the home to construct four outstanding sculptural works of art together. \nBefore the session begins\, students are encouraged to come prepared with the following art supplies: \n\nAcrylic paint: red\, blue\, yellow\, white and black\nCardboard scraps: boxes and cereal boxes\nScissors\nUtility blade and safe cutting surface\nPaintbrushes: flat and pointed\nSmall gesso or old white house paint\nSmall glue gun and hot glue sticks\nPencil\nEraser\n2 Thick Bristol board 24 X 36\n1 Large Mixed Media paper 24X 36\n2-3 Found wood pieces: driftwood if possible\nNails and hammer or screws and hand drill\nNew or old bike tire tubes\, recycled materials from around your house\nOld fabric like a towel\, sheet\, yarn\, twine\nWood scraps\nCollage materials\nBucket for paper mache\n1-2 cups of flour\nLiquid glue (like Elmer’s)\nLarge sheet of tracing paper\nColored pencils\n\nShop locally at Mo’s Art Supplies and receive a student discount of 15%. Simply mention Ogden Museum Adult Art Class when shopping. You may upgrade or downgrade any of the supplies at your discretion. \nAfter you register\, you will receive 2 emails: a virtual ticket and an email containing a Zoom meeting link. If you do not receive the email\, please make sure to check your junk folder. \nQuestions? Email education@ogdenmuseum.org. \n 
URL:https://ogdenmuseum.org/event/build-on-virtual-adult-art-class/
CATEGORIES:Events for Adults,Ogden Museum Online Events,Workshops + Talks
ATTACH;FMTTYPE=image/jpeg:https://ogdenmuseum.org/wp-content/uploads/2021/02/Dureau-767x737.jpg
END:VEVENT
END:VCALENDAR