BEGIN:VCALENDAR
VERSION:2.0
PRODID:-//Ogden Museum of Southern Art - ECPv6.15.20//NONSGML v1.0//EN
CALSCALE:GREGORIAN
METHOD:PUBLISH
X-ORIGINAL-URL:https://ogdenmuseum.org
X-WR-CALDESC:Events for Ogden Museum of Southern Art
REFRESH-INTERVAL;VALUE=DURATION:PT1H
X-Robots-Tag:noindex
X-PUBLISHED-TTL:PT1H
BEGIN:VTIMEZONE
TZID:America/Chicago
BEGIN:DAYLIGHT
TZOFFSETFROM:-0600
TZOFFSETTO:-0500
TZNAME:CDT
DTSTART:20190310T080000
END:DAYLIGHT
BEGIN:STANDARD
TZOFFSETFROM:-0500
TZOFFSETTO:-0600
TZNAME:CST
DTSTART:20191103T070000
END:STANDARD
BEGIN:DAYLIGHT
TZOFFSETFROM:-0600
TZOFFSETTO:-0500
TZNAME:CDT
DTSTART:20200308T080000
END:DAYLIGHT
BEGIN:STANDARD
TZOFFSETFROM:-0500
TZOFFSETTO:-0600
TZNAME:CST
DTSTART:20201101T070000
END:STANDARD
BEGIN:DAYLIGHT
TZOFFSETFROM:-0600
TZOFFSETTO:-0500
TZNAME:CDT
DTSTART:20210314T080000
END:DAYLIGHT
BEGIN:STANDARD
TZOFFSETFROM:-0500
TZOFFSETTO:-0600
TZNAME:CST
DTSTART:20211107T070000
END:STANDARD
END:VTIMEZONE
BEGIN:VEVENT
DTSTART;TZID=America/Chicago:20200701T120000
DTEND;TZID=America/Chicago:20200701T123000
DTSTAMP:20260423T224452
CREATED:20200629T184947Z
LAST-MODIFIED:20200629T184947Z
UID:10004828-1593604800-1593606600@ogdenmuseum.org
SUMMARY:Curated Conversation
DESCRIPTION:A Curated Conversation with Curator of the Collection\, Bradley Sumrall\, and Entwined artist\, Sonya Yong James\, will publish to the O Blog this Wednesday\, July 1 at noon. \nWatch on the O Blog\nSonya Yong James was born in 1971 in Knoxville\, Tennessee. A lifelong Southerner\, she has lived for the past forty years in Atlanta\, Georgia\, where she maintains her studio. Art making has been an integral part of her life since childhood. James attended Georgia State University – where she studied under renowned visual artist\, Larry Walker (father of Kara Walker) – earning a BFA in Printmaking in 1999. Although her degree was focused on printmaking\, her primary interest and production shifted into sculpture. Spending more time in the sculpture studio\, she explored the potential of fiber in her work\, a focus that has continued for over twenty years. \nThe studio practice of Sonya Yong James utilizes the textile techniques of weaving\, knitting\, spinning\, dying\, felting animal hair\, and sewing. Combined with ceramics and found art assemblage\, she engages fiber arts to produce abstract sculptures and installations. While referencing narrative and the figurative concepts of body and landscape\, her works remain formally abstract. \nSpirit is the Bone is a large-scale abstract fiber-arts landscape. While it was created specifically for this exhibition and inspired by the landscape of South Louisiana\, it incorporates elements from an earlier sculpture\, Phantom Threads. The former sculpture was installed in the Conklin Metal Industries building in Atlanta in 2019. Speaking directly to the narrative of the venue – the building was slated to be destroyed in 2020 – Phantom Threads was inspired by Gwisin – ghosts of Korean folklore that are said to inhabit abandoned buildings. James often reuses elements from previous installations in new work\, as if giving new life to old concepts and materials through a process of artistic reincarnation – in this case\, giving ghosts of the past new purpose in the present. \nHer work is often monochromatic\, and her choice of color is informed by the narrative of the piece. By choosing white for Spirit is the Bone\, James references Asian culture’s use of white as the color of mourning or grief. Having created this work during the tumultuous spring of 2020\, James used the process as an act of emotional repair – grieving those that were lost during the global pandemic and mourning those killed in police violence. The use of small white animal figures not only speaks to natural systems of ecology\, but also references the freedom of wildlife to roam while humans stayed home in isolation during the pandemic.  Although formally abstract\, this work speaks directly to this moment and this place\, while referencing history\, philosophy\, ecology and the artist’s own emotional state. \nFor James\, every element of her sculpture has significance and meaning. Bedsheets – which she spins on a wheel to create chains and chords – are highly charged materials. “We are born in bedsheets\,” she explains. “We sleep and dream in bedsheets. We are sick and healed in them\, and very often we die in bedsheets.” Clay is another charged element in her work – embodying the elements of earth\, air\, fire and water. Cotton and other plant fibers have significance for being tended\, cultivated and processed by humans for centuries. Wool felt comes from sheep who have been dependent on mankind for generations. Nets and webs can reference one of mankind’s earliest tools for survival\, or even the modern internet or worldwide web. Each element adds to both the formal abstract composition and the narrative motivation of the work. The title\, as the piece itself\, is intentionally allusive\, allowing space for the viewer to interject themselves and their feelings. Through binding all of these elements together\, the sculpture ultimately explores the tension between the abstract and the real\, emotion and body\, spirit and bone.
URL:https://ogdenmuseum.org/event/curated-conversation-4/
CATEGORIES:Ogden Museum Online Events,Workshops + Talks
ATTACH;FMTTYPE=image/jpeg:https://ogdenmuseum.org/wp-content/uploads/2020/06/IMG_5849.jpg
END:VEVENT
BEGIN:VEVENT
DTSTART;TZID=America/Chicago:20200709T140000
DTEND;TZID=America/Chicago:20200709T143000
DTSTAMP:20260423T224452
CREATED:20200615T162928Z
LAST-MODIFIED:20200706T154501Z
UID:10004417-1594303200-1594305000@ogdenmuseum.org
SUMMARY:Hey Y’all\, Art Talk!
DESCRIPTION:Hey y’all! Please join us for a series of engaging conversations about Southern art and artists! On four Thursday afternoons this summer\, Museum Educator\, Sara Echaniz\, will lead an in-depth participatory discussion about an artwork from Ogden Museum’s permanent collection and provide background information about the artist and artwork. Before the program begins\, registrants will receive a link to join the workshop via Zoom. \nThis week\, we’re looking at Clementine Hunter’s memory paintings depicting Louisiana life in the early 20th Century. \nClementine Hunter\, Cotton to Gin/Baptism\, ca. 1950\, Oil on panel\, Gift of Dr. and Mrs. James Michael Fortino \nFree\, but pre-registration is required. \nRegister\nSummer dates and times: 2-2:30 p.m. on June 25\, July 9\, July 23 and August 6. \n 
URL:https://ogdenmuseum.org/event/arttalk-2020-07-09/
CATEGORIES:Ogden Museum Online Events,Workshops + Talks
ATTACH;FMTTYPE=image/png:https://ogdenmuseum.org/wp-content/uploads/2020/06/Website-Event-Graphic-Dimensions-2.png
END:VEVENT
BEGIN:VEVENT
DTSTART;TZID=America/Chicago:20200714T120000
DTEND;TZID=America/Chicago:20200714T123000
DTSTAMP:20260423T224452
CREATED:20200713T164133Z
LAST-MODIFIED:20200713T214043Z
UID:10004437-1594728000-1594729800@ogdenmuseum.org
SUMMARY:Curated Conversation
DESCRIPTION:Last month\, our Kohlmeyer Circle members enjoyed a special talk with artist Jeremy Novy and Bradley Sumrall\, Curator of the Collection.\n\n\nIn this conversation with Jeremy Novy and Bradley Sumrall\, we learn about Jeremy’s artistic background\, see other pieces of his work from around the country and discuss his role in the queer street art movement.\n\nWatch on the O Blog\n\nABOUT JEREMY NOVY\n\n\nJeremy Novy is a contemporary artist\, currently based in San Francisco\, whose practice is firmly rooted in street art traditions and uses stencils as his primary medium. You may recognize the koi fish that he has painted on sidewalks and buildings around New Orleans. He has created other pieces around the city as well\, some that you may be less familiar with; “Jeremy Novy’s unique brand of street art is ripe with thoughtful social examinations. Novy has combated a homophobic lack of representation with a celebration of gay iconography\, bringing joviality and warmth to disused urban spaces.”
URL:https://ogdenmuseum.org/event/curated-conversation-6/
CATEGORIES:Ogden Museum Online Events,Workshops + Talks
ATTACH;FMTTYPE=image/jpeg:https://ogdenmuseum.org/wp-content/uploads/2020/07/Novy_Koi_Wall-Allison-Bailey-1536x1056.jpg
END:VEVENT
BEGIN:VEVENT
DTSTART;TZID=America/Chicago:20200716T120000
DTEND;TZID=America/Chicago:20200716T123000
DTSTAMP:20260423T224452
CREATED:20200713T155922Z
LAST-MODIFIED:20200713T155922Z
UID:10004436-1594900800-1594902600@ogdenmuseum.org
SUMMARY:Curated Conversation
DESCRIPTION:Join What Music is Within artist\, John Barnes\, and Bradley Sumrall\, Curator of the Collection\, as they discuss Mr. Barnes’ studio practice\, career and inspiration. The conversation will be posted to the O Blog at noon on Thursday. \nWatch on the O Blog\nABOUT JOHN BARNES \nJohn Barnes is a sculptor who mainly deals in wood assemblages. Barnes first took an interest in art when he enrolled in the Baton Rouge public school system\, but his passion flourished while enrolled at Southern A&M University. Using wood found in his Algiers neighborhood\, Barnes pieces the debris and refuse into intricate designs influenced by racial politics\, gentrification and income inequality. New Orleans and the Mississippi Delta region\, more broadly\, form the backdrop for the artist’s work\, while the material\, subject matter and final display are directly of the place. \nBarnes is currently the director of the Visual Arts Program at Dillard University\, a position he has held since 2004. John Barnes’ assemblages have been on exhibit all around New Orleans\, and he was featured in the Prospect.1 International Biennial in 2008. \nABOUT WHAT MUSIC IS WITHIN: BLACK ABSTRACTION FROM THE PERMANENT COLLECTION \n“My poetry\, I think\, has become the way of my giving out what music is within me.” ― Countee Cullen \nAt a time when American museums are reassessing the history of 20th century art by correcting the omissions of the past and including more artists of color in meaningful and significant ways in collections and exhibitions\, What Music is Within: Black Abstraction from the Permanent Collection presents some of the strongest voices from the Ogden Museum of Southern Art’s permanent collection. These works use abstraction as a powerful modality of expression. Each of these artists project their own voice to convey their individual visions. With work that spans almost five decades\, this exhibition includes masters such as Sam Gilliam and emerging practitioners like Horton Humble. The critical contributions of Xavier University\, a keystone New Orleans art program\, is also strongly represented through artists John T. Scott\, Ron Bechet\, Martin Payton and Jeffrey Cook. \nThe creative process is a highly individual and personal endeavor – a way of giving physical form to abstract ideas or emotions. The African American artists in this exhibition all have deep ties to the American South and they each create through the language of abstraction. Yet\, even with those shared elements of identity\, they maintain strong unique voices\, expressing\, as Countee Cullen wrote\, “what music is within.”
URL:https://ogdenmuseum.org/event/curated-conversation-5/
CATEGORIES:Ogden Museum Online Events,Workshops + Talks
ATTACH;FMTTYPE=image/jpeg:https://ogdenmuseum.org/wp-content/uploads/2020/07/John-Barnes-edit-767x1471.jpg
END:VEVENT
BEGIN:VEVENT
DTSTART;TZID=America/Chicago:20200723T140000
DTEND;TZID=America/Chicago:20200723T143000
DTSTAMP:20260423T224452
CREATED:20200615T183519Z
LAST-MODIFIED:20200616T205306Z
UID:10004848-1595512800-1595514600@ogdenmuseum.org
SUMMARY:Hey Y’all\, Art Talk!
DESCRIPTION:Hey y’all! Please join us for a series of engaging conversations about Southern art and artists! On four Thursday afternoons this summer\, Museum Educator\, Sara Echaniz\, will lead an in-depth participatory discussion about an artwork from Ogden Museum’s permanent collection and provide background information about the artist and artwork. \nThis week\, we’re looking outside at this panoramic landscape\, View from the Prairie\, by Elemore Morgan Jr. \nElemore Morgan\, Jr.\, View from the Prairie\, 1988\, Acrylic on masonite\, Gift of the Roger Houston Ogden Collection \nFree\, but pre-registration is required.  \nRegister\nSummer dates and times: 2-2:30 p.m. on June 25\, July 9\, July 23 and August 6.
URL:https://ogdenmuseum.org/event/hey-yall-art-talk/
CATEGORIES:Ogden Museum Online Events,Workshops + Talks
ATTACH;FMTTYPE=image/png:https://ogdenmuseum.org/wp-content/uploads/2020/06/Website-Event-Graphic-Dimensions-2.png
END:VEVENT
END:VCALENDAR