BEGIN:VCALENDAR
VERSION:2.0
PRODID:-//Ogden Museum of Southern Art - ECPv6.15.20//NONSGML v1.0//EN
CALSCALE:GREGORIAN
METHOD:PUBLISH
X-WR-CALNAME:Ogden Museum of Southern Art
X-ORIGINAL-URL:https://ogdenmuseum.org
X-WR-CALDESC:Events for Ogden Museum of Southern Art
REFRESH-INTERVAL;VALUE=DURATION:PT1H
X-Robots-Tag:noindex
X-PUBLISHED-TTL:PT1H
BEGIN:VTIMEZONE
TZID:America/Chicago
BEGIN:DAYLIGHT
TZOFFSETFROM:-0600
TZOFFSETTO:-0500
TZNAME:CDT
DTSTART:20190310T080000
END:DAYLIGHT
BEGIN:STANDARD
TZOFFSETFROM:-0500
TZOFFSETTO:-0600
TZNAME:CST
DTSTART:20191103T070000
END:STANDARD
BEGIN:DAYLIGHT
TZOFFSETFROM:-0600
TZOFFSETTO:-0500
TZNAME:CDT
DTSTART:20200308T080000
END:DAYLIGHT
BEGIN:STANDARD
TZOFFSETFROM:-0500
TZOFFSETTO:-0600
TZNAME:CST
DTSTART:20201101T070000
END:STANDARD
BEGIN:DAYLIGHT
TZOFFSETFROM:-0600
TZOFFSETTO:-0500
TZNAME:CDT
DTSTART:20210314T080000
END:DAYLIGHT
BEGIN:STANDARD
TZOFFSETFROM:-0500
TZOFFSETTO:-0600
TZNAME:CST
DTSTART:20211107T070000
END:STANDARD
END:VTIMEZONE
BEGIN:VEVENT
DTSTART;TZID=America/Chicago:20200603T120000
DTEND;TZID=America/Chicago:20200603T130000
DTSTAMP:20260423T235530
CREATED:20200601T181535Z
LAST-MODIFIED:20200602T195440Z
UID:10004393-1591185600-1591189200@ogdenmuseum.org
SUMMARY:Curated Conversation with Revelations Photographer\, Lee Deigaard Part Two
DESCRIPTION:Last week\, we shared this Curated Conversation with Lee Deigaard\, a photographer featured in our current exhibition\, Revelations: Recent Photography Acquisitions. This week\, we’ll post part two on the O Blog. This video will feature Deigaard speaking about photographs in her series\, Unbidden. \nWatch Part Two on The Blog
URL:https://ogdenmuseum.org/event/curatedconversationparttwo/
CATEGORIES:Ogden Museum Online Events,Workshops + Talks
ATTACH;FMTTYPE=image/jpeg:https://ogdenmuseum.org/wp-content/uploads/2020/06/Deigaard_Lee_Salome_05.jpg
END:VEVENT
BEGIN:VEVENT
DTSTART;TZID=America/Chicago:20200618T140000
DTEND;TZID=America/Chicago:20200618T150000
DTSTAMP:20260423T235530
CREATED:20200608T194147Z
LAST-MODIFIED:20200615T221151Z
UID:10004408-1592488800-1592492400@ogdenmuseum.org
SUMMARY:Stencil Making with Jeremy Novy
DESCRIPTION:Jeremy Novy is a contemporary artist\, currently based in San Francisco\, whose practice is firmly rooted in street art traditions and uses stencils as his primary medium. You may recognize the koi fish that Novy has painted on sidewalks and buildings around New Orleans. With his koi\, he is honoring the traditions of Chinese art\, commenting on the ways that images affect popular opinion\, and exploring the tension between the old and the new. His schools of koi also brighten the dirty grey sidewalks of American cities with colorful symbols of good fortune and strength. Join us for a live art challenge led by Jeremy Novy\, who will teach us how to create a unique stencil that can be used to apply images to variety of mediums. \nStencil Image \n  \n\nSUPPLIES\n\n8×10 printed image\nXacto and blades\nSmall piece of masking tape preferable blue painters tape\nMarker\, preferably not black\nWhiteout\, but can do without\nGlue stick or spray mount\n8×10 section of a cereal box\, file folder or card stick paper\nCutting board or corrugated cardboard. Thicker than the cereal box\n1 can of Rust-o-Leum spray paint Or spray chalk your chose of color  Or Montana brand.  Don’t use Krylon brand\nItem to spray stencil on (need second for second layer). You may want to do a second layer\, but not required. \n8×10 section or larger\, sticker paper\, paper\, cardboard\, wood\, fabric for patch\, T-shirt\, Mardi Gras throw item etc.\n\n\n\nCreating Together Apart. A stencils line is strongest when it is socially distanced apart.\n\nThis virtual event will be streamed on Ogden Museum’s Facebook. \nWatch on Facebook
URL:https://ogdenmuseum.org/event/stencil-making-with-jeremy-novy/
CATEGORIES:Ogden Museum Online Events,Workshops + Talks
ATTACH;FMTTYPE=image/jpeg:https://ogdenmuseum.org/wp-content/uploads/2020/06/Novy_Koi-Allison-Bailey.jpg
END:VEVENT
BEGIN:VEVENT
DTSTART;TZID=America/Chicago:20200625T110000
DTEND;TZID=America/Chicago:20200625T113000
DTSTAMP:20260423T235530
CREATED:20200616T155432Z
LAST-MODIFIED:20200616T155549Z
UID:10004849-1593082800-1593084600@ogdenmuseum.org
SUMMARY:Sketching Demo Workshop
DESCRIPTION:The Monuments Men are known for rescuing priceless art pieces from the Nazis. Works such as the Mona Lisa\, Beethoven’s original manuscript of his Sixth Symphony\, and the golden Bust of Charlemagne were recovered through their missions. In appreciation for artworks of all kinds\, enjoy a short sketching workshop with Michelle Pontiff\, Education Coordinator\, from the Ogden Museum of Southern Art! \nThis event is a collaboration with the World War II Museum. \nWATCH ON ZOOM  Watch on Facebook
URL:https://ogdenmuseum.org/event/sketching-demo-workshop/
CATEGORIES:Ogden Museum Online Events,Workshops + Talks
ATTACH;FMTTYPE=image/jpeg:https://ogdenmuseum.org/wp-content/uploads/2020/06/national-ww2-museum-june25-webinar-event_header-r3.jpg
END:VEVENT
BEGIN:VEVENT
DTSTART;TZID=America/Chicago:20200625T140000
DTEND;TZID=America/Chicago:20200625T143000
DTSTAMP:20260423T235530
CREATED:20200615T162928Z
LAST-MODIFIED:20200616T204651Z
UID:10004409-1593093600-1593095400@ogdenmuseum.org
SUMMARY:Hey Y’all\, Art Talk!
DESCRIPTION:Hey y’all! Please join us for a series of engaging conversations about Southern art and artists! On four Thursday afternoons this summer\, Museum Educator\, Sara Echaniz\, will lead an in-depth participatory discussion about an artwork from Ogden Museum’s permanent collection and provide background information about the artist and artwork. \nOn June 25\, let’s chat about Grandmother’s Dinner by Benny Andrews as well as some pieces created by his father\, George Andrews. \nBenny Andrews\,  Grandmother’s Dinner\, 1992\, Oil and collage \nFree\, but pre-registration is required. \nRegister\nSummer dates and times: 2-2:30 p.m. on June 25\, July 9\, July 23 and August 6. \n 
URL:https://ogdenmuseum.org/event/arttalk/
CATEGORIES:Ogden Museum Online Events,Workshops + Talks
ATTACH;FMTTYPE=image/png:https://ogdenmuseum.org/wp-content/uploads/2020/06/Website-Event-Graphic-Dimensions-2.png
END:VEVENT
BEGIN:VEVENT
DTSTART;VALUE=DATE:20200626
DTEND;VALUE=DATE:20200628
DTSTAMP:20260423T235530
CREATED:20200624T154549Z
LAST-MODIFIED:20200626T175926Z
UID:10004837-1593129600-1593302399@ogdenmuseum.org
SUMMARY:Virtual John T. Scott Celebration
DESCRIPTION:Ogden Museum is proud to play a role in a special annual event celebrating the life of artist John T. Scott\, happening this Friday\, June 26 and Saturday\, June 27! \nJohn T. Scott died in September 2007\, and his memorial took place at Xavier University. A community of artists\, Xavier alumnae\, friends\, colleagues and people who Scott had influenced came together to celebrate his life. It was at that time that a group of these individuals decided the best way to honor John T. Scott was to gather each year on his birthday\, June 30\, to celebrate his life and expand on what he gave us through his art\, his teaching and his humanity. The first gathering took place in 2008 and lasted for 24 hours. It has happened every year to this date in different forms but always sharing work and working together\, remembering Scott said\, “The way you spell art is W.O.R.K.” \nThe different workshops and activities are always free and open to the public. This year\, we are challenged with the current pandemic. In the spirit of improvisation and making the best out of the worst\, we will again gather in the virtual space and celebrate. \nThis event is free\, but registration is required. You will receive an email with a link to participate on Zoom.  \nYou can view several works by John T. Scott at Ogden Museum.  \nFriday Schedule:\n8 – 8:15 p.m. – Pass It On opens with DJ Chris Stylez \n8:30 – 11 p.m. – Pass It On poetry and music \nPass It On is the longest running NOLA open mic series that began in 2008\, in tribute to John T. Scott and his mantra\, “Pass it On.” This year Pass It On will be teaming up with Scott Fest to kick off this years’ series of demos and discussions. Pass It On will be hosted by John James\, featuring Deuce the Poet and the sounds of DJ Chris Stylez. Are you Ready for the Word? \nRegister for Friday\nSaturday Schedule:\n9:30 – 10:30 a.m. \nDemo / Workshop – Najee Dorsey\, Artist\, Founder and CEO – Black Art in America; \nColumbus\, GA; mixed media collage\, digital media collage \n10:30 – 11 a.m.      \nInterlude \n11 a.m. – 12 p.m.       \nLecture – Dr. Mora J. Beauchamp-Byrd; Visiting Assistant Professor of Art and Design\, University of Tampa; Tampa\, FL; John Scott’s “Ocean Song” (1990): Picturing Congo Square in Late 20th c. New Orleans \n12 – 1:30 p.m.      \nLunch Break \n1:30 – 2:30 p.m.           \nDemo / Workshop – Steve Prince; Director of Engagement and Distinguished Artist in Residence;  Muscarelle Museum of Art at William and Mary; Williamsburg\, VA; drawing\, with charcoal and solvents \n2:30 – 3 p.m. \nInterlude \n3 – 4:30 p.m.  \n\nPanel Discussion – details forthcoming\n\n\n4:30 – 5 p.m.\n\nClosing Remarks\nRegister for Saturday\n  \n 
URL:https://ogdenmuseum.org/event/virtual-john-t-scott-celebration/
CATEGORIES:Ogden Museum Online Events,Workshops + Talks
ATTACH;FMTTYPE=image/jpeg:https://ogdenmuseum.org/wp-content/uploads/2020/06/John-T.-Scott.jpeg
END:VEVENT
BEGIN:VEVENT
DTSTART;TZID=America/Chicago:20200626T120000
DTEND;TZID=America/Chicago:20200626T130000
DTSTAMP:20260423T235530
CREATED:20200622T170341Z
LAST-MODIFIED:20200622T171359Z
UID:10004839-1593172800-1593176400@ogdenmuseum.org
SUMMARY:Curated Conversation
DESCRIPTION:A Curated Conversation with Ogden Museum’s Curator of Photography\, Richard McCabe\, and Mississippi photographer\, David McCarty. The two will discuss McCarty’s photograph\, Phil Campbell\, Alabama 2019\, included in the Online Magnolia Ball Silent Auction. This conversation will also touch on McCarty’s instant photography practice\, self-publishing zines\, driving the back roads of the South photographing vernacular signage\, on the road playlists\, and McCarty’s involvement with the art collective – DUE SOUTH CO-OP. \n  \nBid On David McCarty's Photograph  Watch the Talk on the O Blog \n  \nDavid McCarty is an artist in Jackson\, Mississippi. Born in Alabama and a lifelong resident of the South\, David uses instant film to attempt to preserve the fading impressions of growing up in the 1970s and 80s. \nIn this effort he uses primarily Polaroid cameras\, shooting with a Polaroid SX-70 and a thrift store Polaroid 600. David’s instant work has been featured at the Ogden Museum of Southern Art in the exhibition Self-Processing—Instant Photography\, in New Orleans; at the Redux Contemporary Art Center\, for the Instant Gratification exhibit\, in Charleston; and in other juried exhibitions throughout the South. He is a member of the Due South Co-Op\, and with their group exhibitions has shown work in Memphis\, Tennessee; Greenville\, South Carolina; Jackson\, Mississippi; and Zebulon\, Georgia. \nIn 2017\, David was one of the SlowExposures artists in residence through the exhibition’s annual SlowAIR program. In 2015\, he co-curated the exhibition Best Before: Instant Photography by Southern Artists at the Blaylock Photography Gallery in Jackson. His Polaroid diptych “Biloxi Hotel” is in the permanent collection of the Ogden Museum.
URL:https://ogdenmuseum.org/event/curated-conversation-2/
CATEGORIES:Ogden Museum Online Events,Workshops + Talks
ATTACH;FMTTYPE=image/jpeg:https://ogdenmuseum.org/wp-content/uploads/2020/06/McCarty-Space-Station-Fireworks.jpg
END:VEVENT
BEGIN:VEVENT
DTSTART;TZID=America/Chicago:20200628T120000
DTEND;TZID=America/Chicago:20200628T130000
DTSTAMP:20260423T235530
CREATED:20200622T171111Z
LAST-MODIFIED:20200622T182722Z
UID:10004838-1593345600-1593349200@ogdenmuseum.org
SUMMARY:Curated Conversation
DESCRIPTION:Sharon Kopriva is featured in the Online Magnolia Ball Silent Auction and the exhibition\, Entwined: Ritual Wrapping and Binding in Contemporary Southern Art. Curator of the Collection\, Bradley Sumrall\, will talk with Sharon about her work\, Owls & Oleanders\, included in the silent auction and her work in Entwined. \nBid on Sharon's Work in the Silent Auction. Watch the Talk on the O Blog \nSharon Kopriva\, a Texas native\, currently works in Houston\, Texas and Hope\, Idaho. She earned her MFA in painting from the University of Houston in 1981. Since her inauguration with the Fresh Paint exhibition at the Museum of Fine Arts\, Houston in 1985\, Kopriva has exhibited nationally and internationally including at The Menil Collection\, Houston; The Ogden Museum\, New Orleans; and The National Museum of Peru in Lima. For more than thirty years\, Sharon has combined two-and three dimensional media often with fusions of papier-mâché and found objects. Her career has taken her through investigations of pre-Colombian cultures in Peru\, examinations of her Catholic faith\, and inspirations from the spiritual forests of the beautiful Pacific Northwest.
URL:https://ogdenmuseum.org/event/curated-conversation-3/
CATEGORIES:Ogden Museum Online Events,Workshops + Talks
ATTACH;FMTTYPE=image/jpeg:https://ogdenmuseum.org/wp-content/uploads/2020/06/Owls-and-Oleanders.jpg
END:VEVENT
END:VCALENDAR