BEGIN:VCALENDAR
VERSION:2.0
PRODID:-//Ogden Museum of Southern Art - ECPv6.15.20//NONSGML v1.0//EN
CALSCALE:GREGORIAN
METHOD:PUBLISH
X-WR-CALNAME:Ogden Museum of Southern Art
X-ORIGINAL-URL:https://ogdenmuseum.org
X-WR-CALDESC:Events for Ogden Museum of Southern Art
REFRESH-INTERVAL;VALUE=DURATION:PT1H
X-Robots-Tag:noindex
X-PUBLISHED-TTL:PT1H
BEGIN:VTIMEZONE
TZID:America/Chicago
BEGIN:DAYLIGHT
TZOFFSETFROM:-0600
TZOFFSETTO:-0500
TZNAME:CDT
DTSTART:20190310T080000
END:DAYLIGHT
BEGIN:STANDARD
TZOFFSETFROM:-0500
TZOFFSETTO:-0600
TZNAME:CST
DTSTART:20191103T070000
END:STANDARD
BEGIN:DAYLIGHT
TZOFFSETFROM:-0600
TZOFFSETTO:-0500
TZNAME:CDT
DTSTART:20200308T080000
END:DAYLIGHT
BEGIN:STANDARD
TZOFFSETFROM:-0500
TZOFFSETTO:-0600
TZNAME:CST
DTSTART:20201101T070000
END:STANDARD
BEGIN:DAYLIGHT
TZOFFSETFROM:-0600
TZOFFSETTO:-0500
TZNAME:CDT
DTSTART:20210314T080000
END:DAYLIGHT
BEGIN:STANDARD
TZOFFSETFROM:-0500
TZOFFSETTO:-0600
TZNAME:CST
DTSTART:20211107T070000
END:STANDARD
END:VTIMEZONE
BEGIN:VEVENT
DTSTART;TZID=America/Chicago:20200507T120000
DTEND;TZID=America/Chicago:20200507T130000
DTSTAMP:20260424T010430
CREATED:20200504T195359Z
LAST-MODIFIED:20200507T144214Z
UID:10004844-1588852800-1588856400@ogdenmuseum.org
SUMMARY:Curated Conversation
DESCRIPTION:Watch a Curated Conversation with Richard McCabe\, Curator of Photography\, and L. Kasimu Harris\, Revelations photographer\, on the O Blog this Thursday at noon!\nA conversation on art and life between Richard McCabe\, Curator of Photography at the Ogden Museum of Southern Art\, and photographer and writer\, L. Kasimu Harris. Harris’ photographs\, The Monday Faithful (Purple Rain Bar) and Meet Me at the Alter #2 (Verret’s Lounge)\, are currently included in the Revelations: Recent Photography Acquisitions exhibition. In 2018\, Harris wrote the essay\, The Dismantling of Southern Photography for the New Southern Photography exhibition catalogue\, published by University of New Orleans Press. \nMcCabe and Harris will discuss subjects and issues pertaining to contemporary Southern photography\, Harris’ writing and photography practices\, the influence of the written word on visual imagery\, Harris’ current project\, Vanishing Black Bars and Lounges\, and his commercial work for the New York Times. \nWatch on the O Blog\nL. Kasimu Harris is a storyteller who uses writing\, photography and video to push the narrative. He is a New Orleans native and has been in more than 20 group exhibitions across America\, two abroad and three solo photography exhibitions.  In 2016\, the “L. Kasimu\,” at Warehouse Gallery in Red Hook\, marked Harris’ New York exhibition debut. In 2015\, he was in both The Rising and Louisiana Contemporary at the Ogden Museum of Southern Art and garnered coverage in The New York Times\, NPR and other publications. In summer 2018\, Harris was an Artist-in-Residence at the Center for Photography at Woodstock and participated in New Orleans Museum of Art’s\, tercentennial group exhibition\, Changing Course: Reflecting on New Orleans Histories. \nHe has work in Dandy Lion (Re) Articulating Black Masculinity\, curated by Shantrelle P. Lewis\, a group exhibition at the Museum of Contemporary Photography in Chicago a traveling exhibition that has stopped in San Francisco\, London and Miami. That exhibition was published in a book\, “Dandy Lion: The Black Dandy and Street Style\,” by Aperture in 2017. \nHarris’ work modulates between photojournalism\, documenting culture and constructed realities\, all in an effort to tell stories of underrepresented communities in New Orleans and beyond.  He created Parish Chic\, a style column for the Oxford American and has been published in Yahoo Food\, Southern Living and The FADER and Thrillist. Most recently\, a feature he wrote for Edible New Orleans was selected for the book “Best Food Writing 2016.” Currently\, he writes a food column for the Bitter Southerner. \nHe graduated with a B.B.A. in entrepreneurship from Middle Tennessee State University and earned a M.A. in Journalism from the University of Mississippi. He furthered his studies at the Fellowship for Young Journalists at the Poynter Institute and the Oxford American Summit for Ambitious Writers. Harris is also on Board of Trustees for the Ogden Museum of Southern Art. \nHarris was named one of 8 Louisianans of the Year\, for 2017\, by Louisiana Life magazine.
URL:https://ogdenmuseum.org/event/curatedconversationrevelations/
CATEGORIES:Ogden Museum Online Events,Workshops + Talks
ATTACH;FMTTYPE=image/jpeg:https://ogdenmuseum.org/wp-content/uploads/2019/12/Harris-Purple-Rain-Bar-1.jpg
END:VEVENT
BEGIN:VEVENT
DTSTART;TZID=America/Chicago:20200507T140000
DTEND;TZID=America/Chicago:20200507T150000
DTSTAMP:20260424T010430
CREATED:20200330T032554Z
LAST-MODIFIED:20200504T175849Z
UID:10004821-1588860000-1588863600@ogdenmuseum.org
SUMMARY:Live Art Challenge
DESCRIPTION:Experience the Art of the American South with the O from home! \nEvery other Thursday\, from 2 – 3 p.m.\, join us for a LIVE Art Challenge inspired by a work of Southern art. Use everyday household items to create your own masterpiece! \nThis live class is led by Ogden Museum Educator\, Mikhayla Harrell. Ages 18 and up. All experience levels welcome. \nThis week we’re looking at Weaving Ritual by Susan Jamison\, an artist in Entwined.  \nSusan Jamison\, Weaving Ritual\, 2016\, Egg tempera on panel\, Collection of the artist \nSupplies: eggs\, food coloring or liquid watercolor paint\, paintbrushes\, heavier paper like mixed-media or watercolor \nNew to Zoom? \nYou do not have to have a Zoom account to attend a Zoom event. If you have never participated in a Zoom event\, you will be prompted to download the software after clicking the event link. You may also wish to create an account\, but it is not required to participate in a Zoom event. Please make sure to click the link to install the software a few minutes before the webinar is scheduled to begin to allow time for installation. \nJoin
URL:https://ogdenmuseum.org/event/art-challenge-2020-05-07/
CATEGORIES:Artist Workshops,Live Events,Ogden Museum Online Events,Workshops + Talks
ATTACH;FMTTYPE=image/png:https://ogdenmuseum.org/wp-content/uploads/2020/03/1-2.png
END:VEVENT
BEGIN:VEVENT
DTSTART;TZID=America/Chicago:20200514T140000
DTEND;TZID=America/Chicago:20200514T141500
DTSTAMP:20260424T010430
CREATED:20200330T024623Z
LAST-MODIFIED:20200511T175319Z
UID:10004379-1589464800-1589465700@ogdenmuseum.org
SUMMARY:Ogden Kids Art Break
DESCRIPTION:Experience the art of the American South with the O from home! Every other Thursday at 2 p.m.\, visit the O Blog for a pre-recorded “Ogden Kids Art Break” inspired by a work of Southern art. Use everyday household items to create your own masterpiece! This online video series is led by Ogden Museum Educator\, Mikhayla Harrell. \nThis is a quick lesson for kids from pre-k – 6th grade. \nThis week\, we are finding inspiration in Lulu King Saxon’s Uptown Street.  \nSupplies needed:  \n\npencil and eraser\nruler\nwatercolor or thicker stock paper\nwatercolor paints\, or colored pencils\, markers\, crayons\, or pastels\nimages of a Southern landscape that is inspiring to you\n\nLulu King Saxon\, Uptown Street\, 1890\, Oil on canvas\, Gift of the Roger Houston Ogden Collection \nWatch on the O Blog
URL:https://ogdenmuseum.org/event/ogden-kids-art-break-2020-05-14/
CATEGORIES:Events for Kids,Ogden Museum Online Events,Workshops + Talks
ATTACH;FMTTYPE=image/png:https://ogdenmuseum.org/wp-content/uploads/2020/03/OGDEN-KIDS-ART-BREAK.png
END:VEVENT
BEGIN:VEVENT
DTSTART;TZID=America/Chicago:20200515T140000
DTEND;TZID=America/Chicago:20200515T150000
DTSTAMP:20260424T010430
CREATED:20200508T184526Z
LAST-MODIFIED:20200508T190749Z
UID:10004845-1589551200-1589554800@ogdenmuseum.org
SUMMARY:Instagram Takeover: The Vine that Binds
DESCRIPTION:Please join artist\, Kristin Meyers\, and Ogden Museum Curator of the Collection\, Bradley Sumrall\, for a live Instagram event. They will discuss the exhibition Entwined: Ritual Wrapping and Binding in Contemporary Southern Art\, the artist’s history and work\, and how our current situation has influenced her practice. \n\n			\n				\n			\n			\n				\n			\n			\n				\n			\n			\n				\n			\n			\n		\n\nWatch on Instagram
URL:https://ogdenmuseum.org/event/instagram-takeover-the-vine-that-binds/
CATEGORIES:Ogden Museum Online Events,Workshops + Talks
ATTACH;FMTTYPE=image/jpeg:https://ogdenmuseum.org/wp-content/uploads/2020/05/P20190402GB-F8137__pp_2048px.jpg
END:VEVENT
BEGIN:VEVENT
DTSTART;TZID=America/Chicago:20200521T140000
DTEND;TZID=America/Chicago:20200521T150000
DTSTAMP:20260424T010430
CREATED:20200330T032554Z
LAST-MODIFIED:20200518T171912Z
UID:10004820-1590069600-1590073200@ogdenmuseum.org
SUMMARY:Live Art Challenge
DESCRIPTION:Experience the Art of the American South with the O from home! Join us for a LIVE Art Challenge inspired by a work of Southern art. Use everyday household items to create your own masterpiece! During this session\, we’re looking at Turning Wheels by Moses Hogan\, featured in What Music is Within. \nMoses Hogan\, Turning Wheels\, 1984\, Oil on canvas\, Gift of the artist and Roger H. Ogden \nSupplies: Heavy paper to paint on\, watercolor or acrylic paints\, paint brushes\, water cup\, paper towels \nThis live class is led by Ogden Museum Educator\, Mikhayla Harrell. Ages 18 and up. All experience levels welcome. \nNew to Zoom? \nYou do not have to have a Zoom account to attend a Zoom event. If you have never participated in a Zoom event\, you will be prompted to download the software after clicking the event link. You may also wish to create an account\, but it is not required to participate in a Zoom event. Please make sure to click the link to install the software a few minutes before the webinar is scheduled to begin to allow time for installation. \nJoin
URL:https://ogdenmuseum.org/event/art-challenge-2020-05-07-2020-05-21/
CATEGORIES:Artist Workshops,Live Events,Ogden Museum Online Events,Workshops + Talks
ATTACH;FMTTYPE=image/png:https://ogdenmuseum.org/wp-content/uploads/2020/03/1-2.png
END:VEVENT
BEGIN:VEVENT
DTSTART;TZID=America/Chicago:20200527T120000
DTEND;TZID=America/Chicago:20200527T130000
DTSTAMP:20260424T010430
CREATED:20200511T170213Z
LAST-MODIFIED:20200527T155458Z
UID:10004846-1590580800-1590584400@ogdenmuseum.org
SUMMARY:Curated Conversation
DESCRIPTION:Ogden Museum continues Curated Conversations\, our popular series of intimate talks\, now online! Curated Conversations bring curators and artists together to discuss art\, exchange ideas and explore exhibitions. Deepen your understanding of Ogden Museum exhibitions and get to know our curatorial team at the same time! \nThis Curated Conversation features photographer and artist\, Lee Deigaard\, and Ogden Museum’s Curator of Photography\, Richard McCabe. This discussion will focus on Deigaard’s photography practice and her photography series\, Unbidden. Deigaard is one of 45 photographers whose work is featured in Revelations: Recent Photography Acquisitions. In 2014\, Deigaard had a solo exhibition at the Ogden Museum\, Trespass\, which featured photographs from the Unbidden series. \nThis Curated Conversation will be posted to the O Blog. \nWatch on the O Blog\nLee Deigaard\, Border Crossing\, 2011\, Archival pigment print\, Gift of the artist \nAbout Lee Deigaard \nLee Deigaard grew up in Atlanta\, Georgia. She graduated with honors from Yale University with a major in fine arts and earned graduate degrees from the University of Michigan School of Art and Design and from the University of Texas at Austin\, where she held a Michener Fellowship in Creative Writing. In 2012\, she won the Clarence John Laughlin Award for photography administered by the New Orleans Photo Alliance. In 2014\,  she had a solo exhibition at the Ogden Museum\, Trespass\, which featured photographs from the Unbidden series. \nUnbidden\n \nEquipped with the same infrared camera that hunters use to track animals\, Lee Deigaard photographs the fauna that transverse the “No Hunting” zone of her families’ farm in North Georgia. As the animals pass through her families’ property\, they are safe from the surrounding hunting areas. Unbidden is an ongoing photographic series that began in 2007. These photographs are part of Deigaard’s continued exploration into the complex relationship between humans and nature. \nLee Deigaard makes art that speaks for and brings attention to those who have no voice – the flora and fauna of planet Earth. The creatures that inhabit the Unbidden series are memorialized through her art. The Unbidden photographs are painterly and poetic\, combining elements of art\, nature\, and landscape photography. Light\, shadow\, and movement within these photographs culminates into the white light that reflects from the tapeta lucida or discs at the backs of the animal’s eyes resulting from the camera’s infrared flash. \nThe raccoon\, deer\, bobcat\, rabbit\, turkey and coyote are Deigaard’s collaborators in the Unbidden photographs. She trespasses into their world\, and finds that they are as curious about her as she is about them. \nThe hunter or the gatherer- a classic dualism in photography- gains resonance when photographing animals. We say to “shoot” or “take” a photo\, to “capture” a likeness. There is no informed consent. In the privacy of the woods\, to be human is to trespass. My photographic series “Unbidden” repurposes the stealth of the hunter’s camera\, inviting a collaboration at the edge of woods and darkness that underscores animal singularity and autonomous response. \n– Lee Deigaard  \nThe Unbidden photographs are heroic portraits of the animal protagonists that roam the Southern landscape. A camera made to aid hunters becomes a tool repurposed\, serving as an interface between the artist and nature. The photographer becomes a gatherer not a hunter. Onto a memory card\, Deigaard gathers images of fauna to be preserved and admired as the beautiful creatures they are.
URL:https://ogdenmuseum.org/event/curated-conversation/
CATEGORIES:Ogden Museum Online Events,Workshops + Talks
ATTACH;FMTTYPE=image/jpeg:https://ogdenmuseum.org/wp-content/uploads/2020/05/copy-Deigaard-BorderCrossing-Richard-McCabe.jpg
END:VEVENT
END:VCALENDAR