BEGIN:VCALENDAR
VERSION:2.0
PRODID:-//Ogden Museum of Southern Art - ECPv6.15.20//NONSGML v1.0//EN
CALSCALE:GREGORIAN
METHOD:PUBLISH
X-WR-CALNAME:Ogden Museum of Southern Art
X-ORIGINAL-URL:https://ogdenmuseum.org
X-WR-CALDESC:Events for Ogden Museum of Southern Art
REFRESH-INTERVAL;VALUE=DURATION:PT1H
X-Robots-Tag:noindex
X-PUBLISHED-TTL:PT1H
BEGIN:VTIMEZONE
TZID:America/Chicago
BEGIN:DAYLIGHT
TZOFFSETFROM:-0600
TZOFFSETTO:-0500
TZNAME:CDT
DTSTART:20180311T080000
END:DAYLIGHT
BEGIN:STANDARD
TZOFFSETFROM:-0500
TZOFFSETTO:-0600
TZNAME:CST
DTSTART:20181104T070000
END:STANDARD
BEGIN:DAYLIGHT
TZOFFSETFROM:-0600
TZOFFSETTO:-0500
TZNAME:CDT
DTSTART:20190310T080000
END:DAYLIGHT
BEGIN:STANDARD
TZOFFSETFROM:-0500
TZOFFSETTO:-0600
TZNAME:CST
DTSTART:20191103T070000
END:STANDARD
BEGIN:DAYLIGHT
TZOFFSETFROM:-0600
TZOFFSETTO:-0500
TZNAME:CDT
DTSTART:20200308T080000
END:DAYLIGHT
BEGIN:STANDARD
TZOFFSETFROM:-0500
TZOFFSETTO:-0600
TZNAME:CST
DTSTART:20201101T070000
END:STANDARD
END:VTIMEZONE
BEGIN:VEVENT
DTSTART;TZID=America/Chicago:20190912T180000
DTEND;TZID=America/Chicago:20190912T200000
DTSTAMP:20260424T120124
CREATED:20190613T192908Z
LAST-MODIFIED:20190910T212022Z
UID:10004527-1568311200-1568318400@ogdenmuseum.org
SUMMARY:Teacher Night
DESCRIPTION:Join us in the Teachers’ Lounge at the Ogden Museum and learn about ways to incorporate art into your curriculum. This FREE evening for area educators\, held in conjunction with Ogden After Hours featuring Michael Doucet\, will include a guided tour\, art activity\, lesson plans\, resources and complementary refreshments!\n\nDid you know the Ogden Museum is always free to Orleans and Jefferson Parish Public Schools and is free to Louisiana residents on Thursdays?\n\nTeacher Night is free\, but registration is required.\nRegister\n/// Photo by Ogden Museum Staff
URL:https://ogdenmuseum.org/event/teacher-night-6/
CATEGORIES:Educators,Workshops + Talks
ATTACH;FMTTYPE=image/jpeg:https://ogdenmuseum.org/wp-content/uploads/2019/06/teacher-workshop-1.jpg
END:VEVENT
BEGIN:VEVENT
DTSTART;TZID=America/Chicago:20190921T130000
DTEND;TZID=America/Chicago:20190921T160000
DTSTAMP:20260424T120124
CREATED:20190613T184656Z
LAST-MODIFIED:20190918T144947Z
UID:10004525-1569070800-1569081600@ogdenmuseum.org
SUMMARY:Artist Workshop: Observing the Inner Landscape
DESCRIPTION:Inspired by artist Will Henry Stevens’ use of familiar representational motifs alongside abstract improvisations\, this workshop will explore the fundamentals of pastel techniques and approaches to landscape\, with an emphasis on inner observation through a led mindfulness practice. \nFor adults 18 and up. Materials will be provided. $40 member\, $45 non-member. \nThis workshop is full! Please email education@ogdenmuseum.org to be placed on the waitlist.  \n/// Will Henry Stevens\, Untitled (detail)\, c. 1940\, Pastel and watercolor on paper \n 
URL:https://ogdenmuseum.org/event/artist-workshop-observing-the-inner-landscape/
CATEGORIES:Artist Workshops,Workshops + Talks
ATTACH;FMTTYPE=image/jpeg:https://ogdenmuseum.org/wp-content/uploads/2019/06/Will-Henry-Stevens.jpg
END:VEVENT
END:VCALENDAR