BEGIN:VCALENDAR
VERSION:2.0
PRODID:-//Ogden Museum of Southern Art - ECPv6.15.20//NONSGML v1.0//EN
CALSCALE:GREGORIAN
METHOD:PUBLISH
X-WR-CALNAME:Ogden Museum of Southern Art
X-ORIGINAL-URL:https://ogdenmuseum.org
X-WR-CALDESC:Events for Ogden Museum of Southern Art
REFRESH-INTERVAL;VALUE=DURATION:PT1H
X-Robots-Tag:noindex
X-PUBLISHED-TTL:PT1H
BEGIN:VTIMEZONE
TZID:America/Chicago
BEGIN:DAYLIGHT
TZOFFSETFROM:-0600
TZOFFSETTO:-0500
TZNAME:CDT
DTSTART:20180311T080000
END:DAYLIGHT
BEGIN:STANDARD
TZOFFSETFROM:-0500
TZOFFSETTO:-0600
TZNAME:CST
DTSTART:20181104T070000
END:STANDARD
BEGIN:DAYLIGHT
TZOFFSETFROM:-0600
TZOFFSETTO:-0500
TZNAME:CDT
DTSTART:20190310T080000
END:DAYLIGHT
BEGIN:STANDARD
TZOFFSETFROM:-0500
TZOFFSETTO:-0600
TZNAME:CST
DTSTART:20191103T070000
END:STANDARD
BEGIN:DAYLIGHT
TZOFFSETFROM:-0600
TZOFFSETTO:-0500
TZNAME:CDT
DTSTART:20200308T080000
END:DAYLIGHT
BEGIN:STANDARD
TZOFFSETFROM:-0500
TZOFFSETTO:-0600
TZNAME:CST
DTSTART:20201101T070000
END:STANDARD
END:VTIMEZONE
BEGIN:VEVENT
DTSTART;TZID=America/Chicago:20190803T100000
DTEND;TZID=America/Chicago:20190803T130000
DTSTAMP:20260424T131642
CREATED:20190724T200310Z
LAST-MODIFIED:20190724T202251Z
UID:10004578-1564826400-1564837200@ogdenmuseum.org
SUMMARY:Public Portfolio Review
DESCRIPTION:Please join us on Saturday\, August 3 from 10 a.m. – 1 p.m. to experience the vibrancy of Louisiana’s contemporary artists in a public portfolio review. Celebrated curators\, and jurors of the 2018 and 2019 Louisiana Contemporary\, Presented by The Helis Foundation exhibitions\, Courtney Martin and David Breslin\, will spend the morning reviewing selected artists’ work with a deep dive into vision and practice. \nPlease also join the curators from 4 – 5 p.m. for a public gallery talk\, reviewing the breadth of the presented works and the processes that informed their selection. \nThese events are free and open to the public. \nAbout Louisiana Contemporary\, Presented by The Helis Foundation\nEstablished in 2012\, this statewide\, juried exhibition promotes the contemporary art practices in the state of Louisiana\, provides an exhibition space for the exposition of living artists’ work and engages a contemporary audience that recognizes the vibrant visual arts culture of Louisiana and the role of New Orleans as a rising international art center. \nImage: Sarrah Danziger\, Fen and Jake in Their Garden\, 2018\, Archival pigment print\, 22″ x 30″\, Collection of the artist
URL:https://ogdenmuseum.org/event/public-portfolio-review/
CATEGORIES:Gallery Talks,Workshops + Talks
ATTACH;FMTTYPE=image/png:https://ogdenmuseum.org/wp-content/uploads/2019/07/Sarrah_Danziger-359071.1436170-768x528.png
END:VEVENT
BEGIN:VEVENT
DTSTART;TZID=America/Chicago:20190803T160000
DTEND;TZID=America/Chicago:20190803T170000
DTSTAMP:20260424T131642
CREATED:20190724T201350Z
LAST-MODIFIED:20190724T202143Z
UID:10004581-1564848000-1564851600@ogdenmuseum.org
SUMMARY:Gallery Talk
DESCRIPTION:Please join us on Saturday\, August 3 from 4 – 5 p.m. to experience the vibrancy of Louisiana’s contemporary artists. Celebrated curators\, and jurors of the 2018 and 2019 Louisiana Contemporary\, Presented by The Helis Foundation exhibitions\, Courtney Martin and David Breslin\, will review the breadth of the presented works and the processes that informed their selection. Free and open to the public. \nAbout Louisiana Contemporary\, Presented by The Helis Foundation\nEstablished in 2012\, this statewide\, juried exhibition promotes the contemporary art practices in the state of Louisiana\, provides an exhibition space for the exposition of living artists’ work and engages a contemporary audience that recognizes the vibrant visual arts culture of Louisiana and the role of New Orleans as a rising international art center. \nImage: Lara Morgan\, New Windows\, 2019\, C-print\, 24″ x 24″ framed\, Collection of the artist
URL:https://ogdenmuseum.org/event/gallery-talk-6/
CATEGORIES:Gallery Talks,Workshops + Talks
ATTACH;FMTTYPE=image/png:https://ogdenmuseum.org/wp-content/uploads/2019/07/Lara_Morgan-359253.1436928-copy-768x528.png
END:VEVENT
BEGIN:VEVENT
DTSTART;TZID=America/Chicago:20190805T130000
DTEND;TZID=America/Chicago:20190805T160000
DTSTAMP:20260424T131642
CREATED:20190613T180523Z
LAST-MODIFIED:20190708T183318Z
UID:10004523-1565010000-1565020800@ogdenmuseum.org
SUMMARY:Adult Summer Camp
DESCRIPTION:Monday\, August 5 – Friday\, August 9\, 1 – 4 p.m.  \nThis one-week intensive provides opportunities for artists to deeply dive into their work\, hone artistic skills and explore new areas of expression. We’ll focus on traditional techniques like life drawing\, painting\, sculpture and collage and then add in mixed media and printmaking. Participants will work with teaching artist\, Mikhayla Anderson\, to create both individual and collaborative works inspired by the Museum’s collection and great works of art from around the world. \nFor adults of all levels seeking a new or refined creative edge. Materials will be provided. $250 members / $300 non-members.  \nRegister
URL:https://ogdenmuseum.org/event/adult-summer-camp/
CATEGORIES:Artist Workshops,Workshops + Talks
ATTACH;FMTTYPE=image/png:https://ogdenmuseum.org/wp-content/uploads/2019/06/art-camp-2.png
END:VEVENT
BEGIN:VEVENT
DTSTART;TZID=America/Chicago:20190824T140000
DTEND;TZID=America/Chicago:20190824T150000
DTSTAMP:20260424T131642
CREATED:20190805T165704Z
LAST-MODIFIED:20190805T174805Z
UID:10004588-1566655200-1566658800@ogdenmuseum.org
SUMMARY:Gallery Talk: Virtual Idylls
DESCRIPTION:Exhibiting artist Courtney Egan will conduct a gallery talk for Virtual Idylls\, an exhibition featuring her projection-based installations that weave botanical art with sculpture and technology. The gallery talk will be moderated by Ogden Museum Curator of Photography\, Richard McCabe. \nThis event is free and open to the public. \n\nABOUT COURTNEY EGAN \nCourtney Egan’s projection-based installations weave the tradition of botanical art with sculpture and technology. Strongly inspired by the profusion of native and non-native flora in New Orleans\, where she has lived and worked in since 1991\, her work digitally manipulates the natural world\, questioning how our perception of nature is augmented by technology. \nCourtney has displayed her work in solo shows at Arthur Roger Gallery in New Orleans\, Bradbury Museum of Art\, Louisiana Art and Science Museum\, Colorado State University Art Museum and University of Louisiana’s Hilliard Museum. Group and two-person shows include Digital Nature at the Los Angeles Arboretum\, Between Nature and Technology at the Sonoma Museum of Art\, Digital Graffiti in Alys Beach\, FL\, Laumeier Sculpture Park in St. Louis\, MO\, Ballroom Marfa in Marfa\, Texas and The Soap Factory in Minneapolis. \nShe was an artist-in-residence at the Santa Fe Art Institute and at Louisiana Artworks in New Orleans.  She is a founding member of the New Orleans-based visual arts collective Antenna Gallery. Courtney holds an M.F.A. from Maryland Institute College of Art. \nHer artwork has been reviewed in Sculpture Magazine\, OxfordAmerican.com\, PelicanBomb.com\, Artforum.com and the New Orleans weekly Gambit. Her work is a part of the Frederick R. Weisman Art Foundation collection\, University Medical Center art collection in New Orleans and multiple private collections. \nImage: Courtney Egan\, Sleepwalkers\, 2013\, HD Video Projection\, Collection of the Artist\, Courtesy of Arthur Roger Gallery
URL:https://ogdenmuseum.org/event/gallery-talk-virtual-idylls/
CATEGORIES:Gallery Talks,Workshops + Talks
ATTACH;FMTTYPE=image/jpeg:https://ogdenmuseum.org/wp-content/uploads/2019/02/Courtney-Egan-Sleepwalkers-2013-HD-Video-Projection-Collection-of-the-Artist-Courtesy-of-Arthur-Roger-Gallery.jpg
END:VEVENT
BEGIN:VEVENT
DTSTART;TZID=America/Chicago:20190827T180000
DTEND;TZID=America/Chicago:20190827T200000
DTSTAMP:20260424T131642
CREATED:20190725T180402Z
LAST-MODIFIED:20190725T180510Z
UID:10004583-1566928800-1566936000@ogdenmuseum.org
SUMMARY:Craft Happy Hour
DESCRIPTION:Learn to make strong\, useful and decorative rope from plastic bags! Participants will have the opportunity to interact with a handmade rope-making device\, with the option to turn the rope into a hanging pot holder or jump-rope. Please bring plastic grocery bags from home to contribute. Help bring awareness to the environmental impact of single-use plastics while engaging in this fun craft project! \n$20 members / $25 non-members\n\nRegister
URL:https://ogdenmuseum.org/event/craft-happy-hour-25/
CATEGORIES:Craft Happy Hour,Workshops + Talks
ATTACH;FMTTYPE=image/jpeg:https://ogdenmuseum.org/wp-content/uploads/2019/07/IMG_0229.jpg
END:VEVENT
END:VCALENDAR