BEGIN:VCALENDAR
VERSION:2.0
PRODID:-//Ogden Museum of Southern Art - ECPv6.15.20//NONSGML v1.0//EN
CALSCALE:GREGORIAN
METHOD:PUBLISH
X-WR-CALNAME:Ogden Museum of Southern Art
X-ORIGINAL-URL:https://ogdenmuseum.org
X-WR-CALDESC:Events for Ogden Museum of Southern Art
REFRESH-INTERVAL;VALUE=DURATION:PT1H
X-Robots-Tag:noindex
X-PUBLISHED-TTL:PT1H
BEGIN:VTIMEZONE
TZID:America/Chicago
BEGIN:DAYLIGHT
TZOFFSETFROM:-0600
TZOFFSETTO:-0500
TZNAME:CDT
DTSTART:20180311T080000
END:DAYLIGHT
BEGIN:STANDARD
TZOFFSETFROM:-0500
TZOFFSETTO:-0600
TZNAME:CST
DTSTART:20181104T070000
END:STANDARD
BEGIN:DAYLIGHT
TZOFFSETFROM:-0600
TZOFFSETTO:-0500
TZNAME:CDT
DTSTART:20190310T080000
END:DAYLIGHT
BEGIN:STANDARD
TZOFFSETFROM:-0500
TZOFFSETTO:-0600
TZNAME:CST
DTSTART:20191103T070000
END:STANDARD
BEGIN:DAYLIGHT
TZOFFSETFROM:-0600
TZOFFSETTO:-0500
TZNAME:CDT
DTSTART:20200308T080000
END:DAYLIGHT
BEGIN:STANDARD
TZOFFSETFROM:-0500
TZOFFSETTO:-0600
TZNAME:CST
DTSTART:20201101T070000
END:STANDARD
END:VTIMEZONE
BEGIN:VEVENT
DTSTART;TZID=America/Chicago:20190711T180000
DTEND;TZID=America/Chicago:20190711T203000
DTSTAMP:20260424T144300
CREATED:20190613T160357Z
LAST-MODIFIED:20190711T163019Z
UID:10004234-1562868000-1562877000@ogdenmuseum.org
SUMMARY:CANCELLED - Film Screening & Talk During OAH
DESCRIPTION:In anticipation of inclement weather\, the Ogden Museum will close at 5 p.m. today and the Ogden After Hours film screening for this evening has been cancelled. \n⁣⁣ \nIn collaboration with the New Orleans Film Society\, the Ogden Museum presents “Bill Traylor: Chasing Ghosts\,” a film exploring the life of a unique African American artist\, a man with a remarkable and unlikely biography. \nPrior to the screening\, Leslie Umberger\, Curator of Folk and Self-Taught Art\, Smithsonian American Art Museum\, will discuss “The Art of Bill Traylor: Interpreting a Visual History.”  \nFollowing the screening\, Ogden Museum Curator of the Collection\, Bradley Sumrall will moderate a Q&A with Umberger and Jeffrey Wolf\, the film’s director\, producer and editor. \nThis event is free to Ogden Museum and New Orleans Film Society members. \nAbout the Talk \nIn “The Art of Bill Traylor: Interpreting a Visual History\,” Leslie Umberger\, curator of folk and self-taught art at the Smithsonian American Art Museum (SAAM) in Washington\, will discuss the art and life of the artist Bill Traylor\, as well as the challenges of researching and interpreting an autobiographical oeuvre recorded almost solely in pictures. Umberger organized Between Worlds: the Art of Bill Traylor for SAAM in 2018-19\, and is the author of the accompanying monograph\, which presents an unparalleled look at an enigmatic artist whose lifetime in Alabama bridged the final years of slavery and the dawning civil rights movement.  \n/// Photograph by Albert Kraus/Collection of Tommy Giles Photographic Services \nPurchase Tickets
URL:https://ogdenmuseum.org/event/film-screening-and-talk/
CATEGORIES:Ogden After Hours,Workshops + Talks
ATTACH;FMTTYPE=image/png:https://ogdenmuseum.org/wp-content/uploads/2019/06/chasingghosts_1.png
END:VEVENT
BEGIN:VEVENT
DTSTART;TZID=America/Chicago:20190713T130000
DTEND;TZID=America/Chicago:20190713T160000
DTSTAMP:20260424T144300
CREATED:20190321T214413Z
LAST-MODIFIED:20190715T172312Z
UID:10004478-1563022800-1563033600@ogdenmuseum.org
SUMMARY:CANCELLED - Artist Workshop: Arrow in the Wall
DESCRIPTION:This event has been rescheduled for July 27. Click here to learn more.  \nJoin us for the final workshop in a three part series incorporating simple mindfulness meditation practices and observation techniques to create contemplative abstract paintings inspired by the styles of Dusti Bongé’s abstract expressionist oeuvre. \nDusti Bongé and her son Lyle were known to read and discuss books together over her lifetime. This workshop examines excerpts from “The Zen of Archery” by Eugan Herrigel\, a book they explored repeatedly\, and how if affected her later works. Put your keen focus and painting into play while creating your own Abstract Expressionist piece. \n$40 for members\, $45 for non-members. \nThe “Arrow in the Wall” artist workshop is full! Please email education@ogdenmuseum.org to be placed on the waitlist.  \nIf you missed one of the artist workshops\, please consider joining our Adult Art Camp: Fine Arts Immersion\, Aug 5 – 9 at the O! \nFine Arts Immersion \n/// Dusti Bongé\, Void #4 (detail)\, 1982\, Oil on canvas\, Collection of the Dusti Bongé Art Foundation
URL:https://ogdenmuseum.org/event/artist-workshops-3/
CATEGORIES:Workshops + Talks
ATTACH;FMTTYPE=image/png:https://ogdenmuseum.org/wp-content/uploads/2019/03/AW3.png
END:VEVENT
BEGIN:VEVENT
DTSTART;TZID=America/Chicago:20190713T140000
DTEND;TZID=America/Chicago:20190713T150000
DTSTAMP:20260424T144300
CREATED:20190613T161953Z
LAST-MODIFIED:20190711T165015Z
UID:10004240-1563026400-1563030000@ogdenmuseum.org
SUMMARY:CANCELLED - Gallery Talk
DESCRIPTION:In anticipation of inclement weather\, the Courtney Egan gallery talk has been cancelled.  \nArtist Courtney Egan will conduct a gallery talk of Virtual Idylls\, an exhibition featuring her projection-based installations that weave botanical art with sculpture and technology. The gallery talk with be moderated by Ogden Museum Curator of Photography\, Richard McCabe. This event is free and open to the public. \n/// Courtney Egan\, Self-fullfilling Prophecy\, 2019\, HD video projection and clay
URL:https://ogdenmuseum.org/event/gallery-talk-5/
CATEGORIES:Workshops + Talks
ATTACH;FMTTYPE=image/jpeg:https://ogdenmuseum.org/wp-content/uploads/2019/06/self-fullfilling-prophesy_1.jpg
END:VEVENT
BEGIN:VEVENT
DTSTART;TZID=America/Chicago:20190727T130000
DTEND;TZID=America/Chicago:20190727T160000
DTSTAMP:20260424T144300
CREATED:20190715T171849Z
LAST-MODIFIED:20190715T172115Z
UID:10004576-1564232400-1564243200@ogdenmuseum.org
SUMMARY:Artist Workshop: Arrow in the Wall
DESCRIPTION:Join us for the final workshop in a three part series incorporating simple mindfulness meditation practices and observation techniques to create contemplative abstract paintings inspired by the styles of Dusti Bongé’s abstract expressionist oeuvre. \nDusti Bongé and her son Lyle were known to read and discuss books together over her lifetime. This workshop examines excerpts from “The Zen of Archery” by Eugan Herrigel\, a book they explored repeatedly\, and how if affected her later works. Put your keen focus and painting into play while creating your own Abstract Expressionist piece. \n$40 for members\, $45 for non-members. \nRegister\nPlease also consider joining our Adult Art Camp: Fine Arts Immersion\, Aug 5 – 9 at the O! \nfine arts immersion\n/// Dusti Bongé\, Void #4 (detail)\, 1982\, Oil on canvas\, Collection of the Dusti Bongé Art Foundation
URL:https://ogdenmuseum.org/event/artist-workshop-arrow-in-the-wall/
CATEGORIES:Artist Workshops,Workshops + Talks
ATTACH;FMTTYPE=image/png:https://ogdenmuseum.org/wp-content/uploads/2019/07/AW3.png
END:VEVENT
END:VCALENDAR