BEGIN:VCALENDAR
VERSION:2.0
PRODID:-//Ogden Museum of Southern Art - ECPv6.15.20//NONSGML v1.0//EN
CALSCALE:GREGORIAN
METHOD:PUBLISH
X-ORIGINAL-URL:https://ogdenmuseum.org
X-WR-CALDESC:Events for Ogden Museum of Southern Art
REFRESH-INTERVAL;VALUE=DURATION:PT1H
X-Robots-Tag:noindex
X-PUBLISHED-TTL:PT1H
BEGIN:VTIMEZONE
TZID:America/Chicago
BEGIN:DAYLIGHT
TZOFFSETFROM:-0600
TZOFFSETTO:-0500
TZNAME:CDT
DTSTART:20180311T080000
END:DAYLIGHT
BEGIN:STANDARD
TZOFFSETFROM:-0500
TZOFFSETTO:-0600
TZNAME:CST
DTSTART:20181104T070000
END:STANDARD
BEGIN:DAYLIGHT
TZOFFSETFROM:-0600
TZOFFSETTO:-0500
TZNAME:CDT
DTSTART:20190310T080000
END:DAYLIGHT
BEGIN:STANDARD
TZOFFSETFROM:-0500
TZOFFSETTO:-0600
TZNAME:CST
DTSTART:20191103T070000
END:STANDARD
BEGIN:DAYLIGHT
TZOFFSETFROM:-0600
TZOFFSETTO:-0500
TZNAME:CDT
DTSTART:20200308T080000
END:DAYLIGHT
BEGIN:STANDARD
TZOFFSETFROM:-0500
TZOFFSETTO:-0600
TZNAME:CST
DTSTART:20201101T070000
END:STANDARD
END:VTIMEZONE
BEGIN:VEVENT
DTSTART;TZID=America/Chicago:20190108T180000
DTEND;TZID=America/Chicago:20190108T200000
DTSTAMP:20260424T223100
CREATED:20181218T160236Z
LAST-MODIFIED:20181218T161218Z
UID:10004146-1546970400-1546977600@ogdenmuseum.org
SUMMARY:Craft Happy Hour
DESCRIPTION:Remy Diamond will be teaching participants basic clay techniques as they craft miniature food\, which can be turned into pins or magnets. Polymer clay\, liquid polymer clay\, chalk pastels and acrylic paints will he provided. Join us at the O for drinks and crafts! \n$20 for members\, $25 for non-members. \nRegister\n/// Photo provided by Remy Diamond
URL:https://ogdenmuseum.org/event/minifood/
CATEGORIES:Artist Workshops,Craft Happy Hour,Workshops + Talks
ATTACH;FMTTYPE=image/jpeg:https://ogdenmuseum.org/wp-content/uploads/2018/12/IMG_0170.jpg
END:VEVENT
BEGIN:VEVENT
DTSTART;TZID=America/Chicago:20190111T190000
DTEND;TZID=America/Chicago:20190111T190000
DTSTAMP:20260424T223100
CREATED:20181218T161010Z
LAST-MODIFIED:20190107T222032Z
UID:10004147-1547233200-1547233200@ogdenmuseum.org
SUMMARY:Film Screening: “Hale County This Morning\, This Evening”
DESCRIPTION:“Hale County This Morning\, This Evening” by New Southern Photography artist\, RaMell Ross\, allows the viewer an emotive impression of the Historic South\, showing the consequences of the social construction of race\, while simultaneously trumpeting the beauty of life and offering a testament to dreaming despite the odds. Q&A with Ross moderated by Ogden Museum Curator of Photography\, Richard McCabe. \nDoors open at 6:30 p.m. Cash bar available. FREE and open to the public. \nPlease also join us on Saturday\, Jan. 12 at 2 p.m. for The Dismantling of Southern Photography\, a panel discussion with New Southern Photography photographers\, RaMell Ross\, Jared Soares and Celestia Morgan. Moderated by L. Kasimu Harris. FREE and open to the public. Click here to learn more. \n/// Film still courtesy of Cinema Guild
URL:https://ogdenmuseum.org/event/film-screening-hale-county-this-morning-this-evening/
CATEGORIES:Special Event,Workshops + Talks
ATTACH;FMTTYPE=image/jpeg:https://ogdenmuseum.org/wp-content/uploads/2018/12/crop.jpg
END:VEVENT
BEGIN:VEVENT
DTSTART;TZID=America/Chicago:20190112T140000
DTEND;TZID=America/Chicago:20190112T140000
DTSTAMP:20260424T223100
CREATED:20181218T164834Z
LAST-MODIFIED:20181228T183752Z
UID:10004148-1547301600-1547301600@ogdenmuseum.org
SUMMARY:Panel Discussion
DESCRIPTION:Panelists and New Southern Photography photographers\, RaMell Ross\, Jared Soares and Celestia Morgan\, will examine the New Southern Photography exhibition and L. Kasimu Harris’ essay\, “The Dismantling of Southern Photography\,” touching on the historical and contemporary disparities within the canon of Southern photography that exist along lines of race\, gender and sexual orientation. Moderated by L. Kasimu Harris. \nFREE and open to the public. \nA live stream of this event will be available at ogdenmuseum.org and on the Museum’s Facebook and YouTube pages.  \nPlease also join us on Friday\, January 11 at 7 p.m. for the film screening of  “Hale County This Morning\, This Evening” by New Southern Photography artist\, RaMell Ross. Q&A with Ross moderated by Ogden Museum Curator of Photography\, Richard McCabe. FREE and open to the public. Click here to learn more. \n/// Jared Soares\, Blizz and Brooke\, 2011\, Archival pigment print\, Courtesy of the artist
URL:https://ogdenmuseum.org/event/panel-discussion/
CATEGORIES:Special Event,Workshops + Talks
ATTACH;FMTTYPE=image/jpeg:https://ogdenmuseum.org/wp-content/uploads/2018/12/smalltownhiphop_011.jpg
END:VEVENT
END:VCALENDAR