BEGIN:VCALENDAR
VERSION:2.0
PRODID:-//Ogden Museum of Southern Art - ECPv6.15.20//NONSGML v1.0//EN
CALSCALE:GREGORIAN
METHOD:PUBLISH
X-ORIGINAL-URL:https://ogdenmuseum.org
X-WR-CALDESC:Events for Ogden Museum of Southern Art
REFRESH-INTERVAL;VALUE=DURATION:PT1H
X-Robots-Tag:noindex
X-PUBLISHED-TTL:PT1H
BEGIN:VTIMEZONE
TZID:America/Chicago
BEGIN:DAYLIGHT
TZOFFSETFROM:-0600
TZOFFSETTO:-0500
TZNAME:CDT
DTSTART:20170312T080000
END:DAYLIGHT
BEGIN:STANDARD
TZOFFSETFROM:-0500
TZOFFSETTO:-0600
TZNAME:CST
DTSTART:20171105T070000
END:STANDARD
BEGIN:DAYLIGHT
TZOFFSETFROM:-0600
TZOFFSETTO:-0500
TZNAME:CDT
DTSTART:20180311T080000
END:DAYLIGHT
BEGIN:STANDARD
TZOFFSETFROM:-0500
TZOFFSETTO:-0600
TZNAME:CST
DTSTART:20181104T070000
END:STANDARD
BEGIN:DAYLIGHT
TZOFFSETFROM:-0600
TZOFFSETTO:-0500
TZNAME:CDT
DTSTART:20190310T080000
END:DAYLIGHT
BEGIN:STANDARD
TZOFFSETFROM:-0500
TZOFFSETTO:-0600
TZNAME:CST
DTSTART:20191103T070000
END:STANDARD
END:VTIMEZONE
BEGIN:VEVENT
DTSTART;TZID=America/Chicago:20180301T170000
DTEND;TZID=America/Chicago:20180301T170000
DTSTAMP:20260425T115339
CREATED:20180201T200712Z
LAST-MODIFIED:20180205T205225Z
UID:10004241-1519923600-1519923600@ogdenmuseum.org
SUMMARY:Grad Student Gathering: Curation and Special Exhibitions
DESCRIPTION:Session 1: Curation and Special Exhibitions \nBefore Ogden After Hours – FREE admission to OAH for attendees \nThe first in a series of programs tailored specifically for graduate students in Arts Administration and Museum Studies\, this Grad School Gathering will focus on the curatorial process\, how a museum chooses works for its collection and what considerations are given to special exhibitions. Join us for a tour of current exhibitions followed by a roundtable discussion. Feel free to stay for Ogden After Hours\, the weekly entertainment series with drinks and access to the galleries with musical guest\, Dustan Louque. \nProgram is FREE but registration is required. \nRegister\nAbout Grad Student Gatherings\nThis new series\, tailored specifically for graduate students in Arts Administration and Museum Studies\, aims to connect young professionals in the museum and nonprofit fields from across the Greater New Orleans area. Join us and explore topics such as: What is involved in running a Museum? Who decides what exhibitions are presented? What makes the Ogden Museum of Southern Art different from other museums? Planned on select Thursdays\, each Grad Student Gathering will include a tour of the Museum followed by an engaging roundtable discussion. Participants are then invited to stay for Ogden After Hours\, the weekly entertainment series showcasing Southern musicians\, drinks and access to the galleries (FREE admission to OAH for all attendees). Don’t miss the chance to network and take a peek behind the scenes at the O! \n 
URL:https://ogdenmuseum.org/event/grad-student-gathering-curation-special-exhibitions/
CATEGORIES:Workshops + Talks
ATTACH;FMTTYPE=image/jpeg:https://ogdenmuseum.org/wp-content/uploads/2018/02/IMG_7450.jpg
END:VEVENT
BEGIN:VEVENT
DTSTART;TZID=America/Chicago:20180325T140000
DTEND;TZID=America/Chicago:20180325T150000
DTSTAMP:20260425T115339
CREATED:20180228T221124Z
LAST-MODIFIED:20180305T180358Z
UID:10004207-1521986400-1521990000@ogdenmuseum.org
SUMMARY:Gallery Talk
DESCRIPTION:Join Curator of Photography for the Ogden Museum\, Richard McCabe\, the founder of The Do Good Fund\, Alan Rothschild\, and Director of Atlanta Celebrates Photography\, Amy Miller\, as they discuss the Museum’s latest photography exhibition One Place Understood: Photographs from The Do Good Fund Collection. \nFree with Museum admission. \nImage Credit: Jennifer Garza-Cuen\, Untitled – Girl with Snake\, Rabun\, GA\, 2016\, Archival pigment print on cason platine fiber rag\, © Jennifer Garza-Cuen\, The Do Good Fund\, Inc.\, 2017-124
URL:https://ogdenmuseum.org/event/gallery-talk-4/
CATEGORIES:Workshops + Talks
ATTACH;FMTTYPE=image/jpeg:https://ogdenmuseum.org/wp-content/uploads/2017/12/Garza-Cuen-Untitled-Girl-with-Snake-Rabun-GAhighres-768x525-2.jpg
END:VEVENT
BEGIN:VEVENT
DTSTART;TZID=America/Chicago:20180329T173000
DTEND;TZID=America/Chicago:20180329T183000
DTSTAMP:20260425T115339
CREATED:20180201T200624Z
LAST-MODIFIED:20180319T145817Z
UID:10004239-1522344600-1522348200@ogdenmuseum.org
SUMMARY:Grad Student Gathering: Education and Community Engagement
DESCRIPTION:Session 2: Education and Community Engagement\nBefore Ogden After Hours – FREE admission to OAH for attendees \nThis Grad School Gathering will focus on educational programming and explore how a museum caters to young audiences. Join us for a tour of current exhibitions and stay after the program for Ogden After Hours. \nProgram is FREE but registration is required. \nRegister\nAbout Grad Student Gatherings\nThis new series\, tailored specifically for graduate students in Arts Administration and Museum Studies\, aims to connect young professionals in the museum and nonprofit fields from across the Greater New Orleans area. Join us and explore topics such as: What is involved in running a Museum? Who decides what exhibitions are presented? What makes the Ogden Museum of Southern Art different from other museums? Planned on select Thursdays\, each Grad Student Gathering will include a tour of the Museum followed by an engaging roundtable discussion. Participants are then invited to stay for Ogden After Hours\, the weekly entertainment series showcasing Southern musicians\, drinks and access to the galleries (FREE admission to OAH for all attendees). Don’t miss the chance to network and take a peek behind the scenes at the O!
URL:https://ogdenmuseum.org/event/grad-student-gathering-education-community-engagement/
CATEGORIES:Workshops + Talks
ATTACH;FMTTYPE=image/jpeg:https://ogdenmuseum.org/wp-content/uploads/2018/02/FullSizeRender-1.jpg
END:VEVENT
END:VCALENDAR