BEGIN:VCALENDAR
VERSION:2.0
PRODID:-//Ogden Museum of Southern Art - ECPv6.15.20//NONSGML v1.0//EN
CALSCALE:GREGORIAN
METHOD:PUBLISH
X-ORIGINAL-URL:https://ogdenmuseum.org
X-WR-CALDESC:Events for Ogden Museum of Southern Art
REFRESH-INTERVAL;VALUE=DURATION:PT1H
X-Robots-Tag:noindex
X-PUBLISHED-TTL:PT1H
BEGIN:VTIMEZONE
TZID:America/Chicago
BEGIN:DAYLIGHT
TZOFFSETFROM:-0600
TZOFFSETTO:-0500
TZNAME:CDT
DTSTART:20170312T080000
END:DAYLIGHT
BEGIN:STANDARD
TZOFFSETFROM:-0500
TZOFFSETTO:-0600
TZNAME:CST
DTSTART:20171105T070000
END:STANDARD
BEGIN:DAYLIGHT
TZOFFSETFROM:-0600
TZOFFSETTO:-0500
TZNAME:CDT
DTSTART:20180311T080000
END:DAYLIGHT
BEGIN:STANDARD
TZOFFSETFROM:-0500
TZOFFSETTO:-0600
TZNAME:CST
DTSTART:20181104T070000
END:STANDARD
BEGIN:DAYLIGHT
TZOFFSETFROM:-0600
TZOFFSETTO:-0500
TZNAME:CDT
DTSTART:20190310T080000
END:DAYLIGHT
BEGIN:STANDARD
TZOFFSETFROM:-0500
TZOFFSETTO:-0600
TZNAME:CST
DTSTART:20191103T070000
END:STANDARD
END:VTIMEZONE
BEGIN:VEVENT
DTSTART;TZID=America/Chicago:20180217T130000
DTEND;TZID=America/Chicago:20180217T130000
DTSTAMP:20260425T132155
CREATED:20180130T202852Z
LAST-MODIFIED:20180215T162712Z
UID:10004161-1518872400-1518872400@ogdenmuseum.org
SUMMARY:A Comprehensive World History of Puppetry with Miss Pussycat!
DESCRIPTION:In conjunction with Prospect.4\, Miss Pussycat\, a New Orleans-based filmmaker\, musician\, artist and puppeteer\, will lead a guided tour through her exhibition\, which brings together over 20 puppets from her last three live shows: Clothes Made by Small Furry Animals\, Happy Castle and The Cookie Carnival Baking Contest. Miss Pussycat describes her puppet shows as ritualistic\, kinetic and intuitive\, and the puppets embody personalities and stories of their own. Also included in this exhibition are ceramic sculptures of her puppets\, on view for the first time\, as well as large photographs and her film The Mystery in Old Bathbath\, featuring puppets Trixie and Marsha. \n\nPlease meet in the 5th floor gallery. Admission is free and open to the public.
URL:https://ogdenmuseum.org/event/comprehensive-world-history-puppetry-miss-pussycat/
CATEGORIES:Events for Kids,Workshops + Talks
ATTACH;FMTTYPE=image/jpeg:https://ogdenmuseum.org/wp-content/uploads/2018/01/puppetgroupphotoSMALL.jpg
END:VEVENT
BEGIN:VEVENT
DTSTART;TZID=America/Chicago:20180224T100000
DTEND;TZID=America/Chicago:20180224T130000
DTSTAMP:20260425T132155
CREATED:20171218T205854Z
LAST-MODIFIED:20180124T173009Z
UID:10004127-1519466400-1519477200@ogdenmuseum.org
SUMMARY:Artist Workshop
DESCRIPTION:After a tour of Prospect.4 and examining how artists use symbology to address social or environmental concerns\, Prospect.4 artist and educator Michel Varisco will guide participants in a process of discovery to create symbols that express an area of personal or global interest. Students will then create a lantern using this pieces of metal and wire armature\, incorporating their personal images. This event is sponsored by the Susan J. Landry Education Fund. \n$30 member; $35 non-member \nRegister Here\nPhoto by Sage Sohier
URL:https://ogdenmuseum.org/event/artist-workshop-5/
CATEGORIES:Workshops + Talks
ATTACH;FMTTYPE=image/jpeg:https://ogdenmuseum.org/wp-content/uploads/2017/12/MVarisco_CSageSohier.jpg
END:VEVENT
BEGIN:VEVENT
DTSTART;TZID=America/Chicago:20180224T130000
DTEND;TZID=America/Chicago:20180224T130000
DTSTAMP:20260425T132155
CREATED:20180201T192757Z
LAST-MODIFIED:20180205T160516Z
UID:10004186-1519477200-1519477200@ogdenmuseum.org
SUMMARY:Gallery Talk with Ayo Scott
DESCRIPTION:Join Ayo Scott\, artist and son of legendary artist and educator\, John Scott\, for a Gallery Talk exploring his father’s works on view in the Prospect.4 exhibition at the Ogden Museum. Scott will also discuss his father’s life\, artistic practice and the important contribution he made to the New Orleans community. \nAdmission is free and open to the public. \nAbout John Scott\nJohn Scott is best known for creating vibrantly colored\, dynamic artworks across many media\, particularly print and kinetic sculpture. Throughout his career\, he created work that solidified the elusive feel of New Orleans and the historical and spiritual influence of its rich culture and musical heritage. Christian imagery was predominant in his early work\, followed by a focus on African\, African-American\, Caribbean and Creole cultures. His work has been referred to as “optical jazz\,” evoking the spirits of music and dance. John Scott was born in New Orleans in 1940 and raised in the Lower Ninth Ward. He attended Xavier University of Louisiana where he received a B.A. in 1962. He went on to earn an M.F.A. from Michigan State University in 1965. He later returned to New Orleans as a Professor of Fine Arts at Xavier\, where he was an influential and inspirational teacher for 40 years. He also exhibited throughout the United States and internationally. In 1992\, he was a recipient of the prestigious John D. and Catherine T. MacArthur Foundation “Genius” Grant. He received an honorary Doctor of Humanities from Michigan State University in 1995 and a Doctor of Humanities from Tulane University in 1997. He passed away in Houston\, Texas in September 2007.\nSource: prospectneworleans.org \nPictured: Ayo Scott
URL:https://ogdenmuseum.org/event/gallery-talk-ayo-scott/
CATEGORIES:Gallery Talks,Workshops + Talks
ATTACH;FMTTYPE=image/jpeg:https://ogdenmuseum.org/wp-content/uploads/2018/02/image001.jpg
END:VEVENT
BEGIN:VEVENT
DTSTART;TZID=America/Chicago:20180227T180000
DTEND;TZID=America/Chicago:20180227T200000
DTSTAMP:20260425T132155
CREATED:20180216T194333Z
LAST-MODIFIED:20180219T204938Z
UID:10004253-1519754400-1519761600@ogdenmuseum.org
SUMMARY:Drawing in the Galleries
DESCRIPTION:Featuring a live costumed model! \n\nAll ranges of drawing experience are welcome\, including those who are picking up a pencil for the first time! Basic materials will be provided\, but guests are invited to bring their favorite drawing tools.  Local artist\, Bonnie Maygarden\, will be on hand to offer guidance and instruction. \nBonnie Maygarden was born in 1987 in New Orleans\, Louisiana. She attended Pratt Institute\, where she received her Bachelor’s of Fine Arts in 2010. Maygarden returned to New Orleans to attend Tulane University\, where she received a Master of Fine Arts in 2014. Maygarden has exhibited in the U.S. and abroad\, including exhibitions at Jonathan Ferrara Gallery\, the Ogden Museum of Southern Art and the Contemporary Art Center. Her work has been featured in publications such as New American Paintings and Artforum. Maygarden lives and works in New Orleans\, Louisiana. \n$8 members/$10 non-members \nRegister
URL:https://ogdenmuseum.org/event/drawing-in-the-galleries-3/
CATEGORIES:Drawing in the Galleries,Workshops + Talks
ATTACH;FMTTYPE=image/jpeg:https://ogdenmuseum.org/wp-content/uploads/2018/02/figure-2017.jpg
END:VEVENT
END:VCALENDAR