BEGIN:VCALENDAR
VERSION:2.0
PRODID:-//Ogden Museum of Southern Art - ECPv6.15.20//NONSGML v1.0//EN
CALSCALE:GREGORIAN
METHOD:PUBLISH
X-WR-CALNAME:Ogden Museum of Southern Art
X-ORIGINAL-URL:https://ogdenmuseum.org
X-WR-CALDESC:Events for Ogden Museum of Southern Art
REFRESH-INTERVAL;VALUE=DURATION:PT1H
X-Robots-Tag:noindex
X-PUBLISHED-TTL:PT1H
BEGIN:VTIMEZONE
TZID:America/Chicago
BEGIN:DAYLIGHT
TZOFFSETFROM:-0600
TZOFFSETTO:-0500
TZNAME:CDT
DTSTART:20170312T080000
END:DAYLIGHT
BEGIN:STANDARD
TZOFFSETFROM:-0500
TZOFFSETTO:-0600
TZNAME:CST
DTSTART:20171105T070000
END:STANDARD
BEGIN:DAYLIGHT
TZOFFSETFROM:-0600
TZOFFSETTO:-0500
TZNAME:CDT
DTSTART:20180311T080000
END:DAYLIGHT
BEGIN:STANDARD
TZOFFSETFROM:-0500
TZOFFSETTO:-0600
TZNAME:CST
DTSTART:20181104T070000
END:STANDARD
BEGIN:DAYLIGHT
TZOFFSETFROM:-0600
TZOFFSETTO:-0500
TZNAME:CDT
DTSTART:20190310T080000
END:DAYLIGHT
BEGIN:STANDARD
TZOFFSETFROM:-0500
TZOFFSETTO:-0600
TZNAME:CST
DTSTART:20191103T070000
END:STANDARD
END:VTIMEZONE
BEGIN:VEVENT
DTSTART;TZID=America/Chicago:20180116T180000
DTEND;TZID=America/Chicago:20180116T200000
DTSTAMP:20260425T145228
CREATED:20171117T204334Z
LAST-MODIFIED:20180216T194447Z
UID:10003989-1516125600-1516132800@ogdenmuseum.org
SUMMARY:Drawing in the Galleries
DESCRIPTION:All levels of drawing experience are welcome including those who are picking up a pencil for the first time. Basic materials will be provided\, but guests are invited to bring their favorite drawing tools.  Local artist\, Bonnie Maygarden will be on hand to offer guidance and instruction. \nBonnie Maygarden was born in 1987 in New Orleans\, Louisiana. She attended Pratt Institute\, where she received her Bachelor’s of Fine Arts in 2010. Maygarden returned to New Orleans to attend Tulane University\, where she received a Master of Fine Arts in 2014. Maygarden has exhibited in the US and abroad\, including exhibitions at Jonathan Ferrara Gallery\, The Ogden Museum of Southern Art\, and the Contemporary Art Center. Her work has been featured in publications such as New American Paintings and Artforum. Maygarden lives and works in New Orleans\, Louisiana. \n\n\n\n  \n$10 members\n\n$12 non-members \n\n\nRegister Here
URL:https://ogdenmuseum.org/event/drawing-in-the-galleries-2/
CATEGORIES:Drawing in the Galleries,Workshops + Talks
ATTACH;FMTTYPE=image/jpeg:https://ogdenmuseum.org/wp-content/uploads/2017/11/image1-1-e1510951477188.jpg
END:VEVENT
END:VCALENDAR