BEGIN:VCALENDAR
VERSION:2.0
PRODID:-//Ogden Museum of Southern Art - ECPv6.15.20//NONSGML v1.0//EN
CALSCALE:GREGORIAN
METHOD:PUBLISH
X-WR-CALNAME:Ogden Museum of Southern Art
X-ORIGINAL-URL:https://ogdenmuseum.org
X-WR-CALDESC:Events for Ogden Museum of Southern Art
REFRESH-INTERVAL;VALUE=DURATION:PT1H
X-Robots-Tag:noindex
X-PUBLISHED-TTL:PT1H
BEGIN:VTIMEZONE
TZID:America/Chicago
BEGIN:DAYLIGHT
TZOFFSETFROM:-0600
TZOFFSETTO:-0500
TZNAME:CDT
DTSTART:20160313T080000
END:DAYLIGHT
BEGIN:STANDARD
TZOFFSETFROM:-0500
TZOFFSETTO:-0600
TZNAME:CST
DTSTART:20161106T070000
END:STANDARD
BEGIN:DAYLIGHT
TZOFFSETFROM:-0600
TZOFFSETTO:-0500
TZNAME:CDT
DTSTART:20170312T080000
END:DAYLIGHT
BEGIN:STANDARD
TZOFFSETFROM:-0500
TZOFFSETTO:-0600
TZNAME:CST
DTSTART:20171105T070000
END:STANDARD
BEGIN:DAYLIGHT
TZOFFSETFROM:-0600
TZOFFSETTO:-0500
TZNAME:CDT
DTSTART:20180311T080000
END:DAYLIGHT
BEGIN:STANDARD
TZOFFSETFROM:-0500
TZOFFSETTO:-0600
TZNAME:CST
DTSTART:20181104T070000
END:STANDARD
END:VTIMEZONE
BEGIN:VEVENT
DTSTART;TZID=America/Chicago:20171118T153000
DTEND;TZID=America/Chicago:20171118T170000
DTSTAMP:20260425T174628
CREATED:20170915T003538Z
LAST-MODIFIED:20171127T154419Z
UID:10004081-1511019000-1511024400@ogdenmuseum.org
SUMMARY:Solos and Duets: Artists Making History
DESCRIPTION:WATCH THE RECORDED TALK ON YOUTUBE \nJoin us for an in depth discussion with the curators and artists of Solidary & Solitary: The Joyner/Giuffrida Collection. Panelists will include Christopher Bedford\, Leonardo Drew\, Melvin Edwards\, Charles Gaines\, Katy Siegel and Shinique Smith. \n\n\n\nSolidary & Solitary\, drawn from The Joyner/Giuffrida Collection\, tells the history of art by African American artists from the 1940s to the present moment. Focused primarily on abstract art\, this exhibition celebrates the achievement of individual artists\, the collective history told by their art\, and the social changes that have changed the way we understand art history in the broadest sense. \n\nimage credit: Shinique Smith (born 1971). No Key\, No Question\, 2013\, Ink\, acrylic\, fabric\, and collage on canvas over panel; 60 x 60 x 2 in. Photo by Jason Mandella\, Courtesy of David Castillo Gallery
URL:https://ogdenmuseum.org/event/artists-curators-panel/
CATEGORIES:Workshops + Talks
ATTACH;FMTTYPE=image/jpeg:https://ogdenmuseum.org/wp-content/uploads/2017/01/AW4K_SMITH_No-Key-No-Question_2013_JCG6307-1.jpg
END:VEVENT
END:VCALENDAR