BEGIN:VCALENDAR
VERSION:2.0
PRODID:-//Ogden Museum of Southern Art - ECPv6.15.20//NONSGML v1.0//EN
CALSCALE:GREGORIAN
METHOD:PUBLISH
X-WR-CALNAME:Ogden Museum of Southern Art
X-ORIGINAL-URL:https://ogdenmuseum.org
X-WR-CALDESC:Events for Ogden Museum of Southern Art
REFRESH-INTERVAL;VALUE=DURATION:PT1H
X-Robots-Tag:noindex
X-PUBLISHED-TTL:PT1H
BEGIN:VTIMEZONE
TZID:America/Chicago
BEGIN:DAYLIGHT
TZOFFSETFROM:-0600
TZOFFSETTO:-0500
TZNAME:CDT
DTSTART:20160313T080000
END:DAYLIGHT
BEGIN:STANDARD
TZOFFSETFROM:-0500
TZOFFSETTO:-0600
TZNAME:CST
DTSTART:20161106T070000
END:STANDARD
BEGIN:DAYLIGHT
TZOFFSETFROM:-0600
TZOFFSETTO:-0500
TZNAME:CDT
DTSTART:20170312T080000
END:DAYLIGHT
BEGIN:STANDARD
TZOFFSETFROM:-0500
TZOFFSETTO:-0600
TZNAME:CST
DTSTART:20171105T070000
END:STANDARD
BEGIN:DAYLIGHT
TZOFFSETFROM:-0600
TZOFFSETTO:-0500
TZNAME:CDT
DTSTART:20180311T080000
END:DAYLIGHT
BEGIN:STANDARD
TZOFFSETFROM:-0500
TZOFFSETTO:-0600
TZNAME:CST
DTSTART:20181104T070000
END:STANDARD
END:VTIMEZONE
BEGIN:VEVENT
DTSTART;TZID=America/Chicago:20171004T173000
DTEND;TZID=America/Chicago:20171004T200000
DTSTAMP:20260425T192655
CREATED:20170911T182302Z
LAST-MODIFIED:20170919T144300Z
UID:10003956-1507138200-1507147200@ogdenmuseum.org
SUMMARY:Teacher Workshop
DESCRIPTION:Join us as we explore Solidary & Solitary: The Joyner/ Giuffrida Collection\, Presented by The Helis Foundation\, Organized by the Ogden Museum of Southern Art and The Baltimore Museum of Art. Beginning with a tour of the exhibition and dinner\, teachers will receive an overview of the support and activities provided in our new online Educator Resource Center. Workshop participants will also receive a free admission pass to any Ogden After Hours. Open to educators of all grades and subjects. The workshop is FREE\, but registration is required and space is limited.\n\nThis program has been made possible by the generous support of the Ella West Freeman Foundation and the Selley Foundation. \nRegister Here
URL:https://ogdenmuseum.org/event/teacher-workshop/
CATEGORIES:Workshops + Talks
ATTACH;FMTTYPE=image/jpeg:https://ogdenmuseum.org/wp-content/uploads/2017/09/IMG_2742.jpg
END:VEVENT
BEGIN:VEVENT
DTSTART;TZID=America/Chicago:20171014T100000
DTEND;TZID=America/Chicago:20171014T130000
DTSTAMP:20260425T192655
CREATED:20170926T161047Z
LAST-MODIFIED:20171009T201620Z
UID:10004090-1507975200-1507986000@ogdenmuseum.org
SUMMARY:Artist Workshop with Rontherin Ratliff
DESCRIPTION:Working with visual artist Rontherin Ratliff\, participants will explore Solidary & Solitary: The Joyner/Giuffrida Collection\, Presented by The Helis Foundation and create their own abstract works\, crafting visual languages from their own experiences that place everyday goods in arrangements using repetition and formal contrasts. The workshop will also explore the idea that it is an artist’s role to select items and serve them up in unexpected or meaningful juxtapositions. Each participant will be given a base on which to work and the opportunity to select from an arrangement of everyday objects and art materials. Facts about the artists on exhibition will be woven into the workshop\, as participants make connections between their artwork and the works on display. This program has been made possible by the generous support of the Ella West Freeman Foundation\, the Selley Foundation and Entergy. \nFor adults 18 and up.\n$30 member; $35 non-member \nRegister Here\nimage credit: Leonardo Drew (born 1961). Number 52S\, 2015\, Wood; 96 x 96 x 14 in. © Leonard Drew. Photo by John Berens
URL:https://ogdenmuseum.org/event/artist-workshop-rontherin-ratliff/
CATEGORIES:Workshops + Talks
ATTACH;FMTTYPE=image/jpeg:https://ogdenmuseum.org/wp-content/uploads/2017/09/AW4K_Drew_52S_2015_Diaz_VIEW2_-2.jpg
END:VEVENT
END:VCALENDAR