BEGIN:VCALENDAR
VERSION:2.0
PRODID:-//Ogden Museum of Southern Art - ECPv6.15.20//NONSGML v1.0//EN
CALSCALE:GREGORIAN
METHOD:PUBLISH
X-ORIGINAL-URL:https://ogdenmuseum.org
X-WR-CALDESC:Events for Ogden Museum of Southern Art
REFRESH-INTERVAL;VALUE=DURATION:PT1H
X-Robots-Tag:noindex
X-PUBLISHED-TTL:PT1H
BEGIN:VTIMEZONE
TZID:America/Chicago
BEGIN:DAYLIGHT
TZOFFSETFROM:-0600
TZOFFSETTO:-0500
TZNAME:CDT
DTSTART:20160313T080000
END:DAYLIGHT
BEGIN:STANDARD
TZOFFSETFROM:-0500
TZOFFSETTO:-0600
TZNAME:CST
DTSTART:20161106T070000
END:STANDARD
BEGIN:DAYLIGHT
TZOFFSETFROM:-0600
TZOFFSETTO:-0500
TZNAME:CDT
DTSTART:20170312T080000
END:DAYLIGHT
BEGIN:STANDARD
TZOFFSETFROM:-0500
TZOFFSETTO:-0600
TZNAME:CST
DTSTART:20171105T070000
END:STANDARD
BEGIN:DAYLIGHT
TZOFFSETFROM:-0600
TZOFFSETTO:-0500
TZNAME:CDT
DTSTART:20180311T080000
END:DAYLIGHT
BEGIN:STANDARD
TZOFFSETFROM:-0500
TZOFFSETTO:-0600
TZNAME:CST
DTSTART:20181104T070000
END:STANDARD
END:VTIMEZONE
BEGIN:VEVENT
DTSTART;TZID=America/Chicago:20170909T150000
DTEND;TZID=America/Chicago:20170909T160000
DTSTAMP:20260425T210500
CREATED:20170614T183828Z
LAST-MODIFIED:20170812T140341Z
UID:10004039-1504969200-1504972800@ogdenmuseum.org
SUMMARY:Gallery Talk
DESCRIPTION:Join Curator of Photography for the Ogden Museum\, Richard McCabe\, as he discusses the two latest photography exhibitions: William Eggleston: Troubled Waters\, from the Collection of William Greiner and The Colourful South\, from the Collection of the Ogden Museum of Southern Art.  \nimage credit: William Greiner\, Jet Over Blue and Black House\, Kenner\, LA\, 1994\, Chromogenic print\,  Collection of the Ogden Museum of Southern Art
URL:https://ogdenmuseum.org/event/gallery-talk-3/
CATEGORIES:Workshops + Talks
ATTACH;FMTTYPE=image/jpeg:https://ogdenmuseum.org/wp-content/uploads/2017/01/2001.5.13.jpg
END:VEVENT
BEGIN:VEVENT
DTSTART;TZID=America/Chicago:20170916T150000
DTEND;TZID=America/Chicago:20170916T170000
DTSTAMP:20260425T210500
CREATED:20170822T183252Z
LAST-MODIFIED:20170906T215058Z
UID:10004051-1505574000-1505581200@ogdenmuseum.org
SUMMARY:Contemporary Conversations: Louisiana Contemporary Artist Panel
DESCRIPTION:The Ogden Museum is pleased to host selected artists from this year’s Louisiana Contemporary Presented by The Helis Foundation\, including David Gamble\, James Flynn\, L. Kasimu Harris\, and Kristen Downing\, on a panel moderated by Ogden Museum Executive Director\, William Pittman Andrews. Artists will discuss their various art practices and processes\, what it means to be an artist working and reacting to contemporary issues\, and specifically what it means to be a contemporary artist in Louisiana. \nEntrance to the panel is included with admission\, $13.50 general admission\, free for members. \nThere will be wine and beer for purchase during the panel. Prior to the panel at 2pm\, is our regularly scheduled docent tour of the galleries. \nimage credit: Kristen Downing\, Baby Dolls\, 2017\, Acrylic and Paint Marker on Canvas\, 48 x 60 inches \nMore About the Exhibition
URL:https://ogdenmuseum.org/event/louisiana-contemporary-artist-panel/
CATEGORIES:Workshops + Talks
ATTACH;FMTTYPE=image/jpeg:https://ogdenmuseum.org/wp-content/uploads/2017/08/Kristen-Downing.jpg
END:VEVENT
BEGIN:VEVENT
DTSTART;TZID=America/Chicago:20170919T180000
DTEND;TZID=America/Chicago:20170919T200000
DTSTAMP:20260425T210500
CREATED:20170907T160738Z
LAST-MODIFIED:20180216T194503Z
UID:10003952-1505844000-1505851200@ogdenmuseum.org
SUMMARY:Drawing in the Galleries
DESCRIPTION:All ranges of drawing experience are welcome including those who are picking up a pencil for the first time. Basic materials will be provided\, but guests are invited to bring their favorite drawing tools.  Local artist\, Bonnie Maygarden will be on hand to offer guidance and instruction. \n\n\nBonnie Maygarden was born in 1987 in New Orleans\, Louisiana. She attended Pratt Institute\, where she received her Bachelor’s of Fine Arts in 2010. Maygarden returned to New Orleans to attend Tulane University\, where she received a Master of Fine Arts in 2014. Maygarden has exhibited in the US and abroad\, including exhibitions at Jonathan Ferrara Gallery\, The Ogden Museum of Southern Art\, and the Contemporary Art Center. Her work has been featured in publications such as New American Paintings and Artforum. Maygarden lives and works in New Orleans\, Louisiana. \n\n$10 non-members\n\n$8 members \nRegister Here
URL:https://ogdenmuseum.org/event/drawing-in-the-galleries/
CATEGORIES:Drawing in the Galleries,Workshops + Talks
ATTACH;FMTTYPE=image/jpeg:https://ogdenmuseum.org/wp-content/uploads/2017/09/can.jpg
END:VEVENT
BEGIN:VEVENT
DTSTART;TZID=America/Chicago:20170923T100000
DTEND;TZID=America/Chicago:20170923T130000
DTSTAMP:20260425T210500
CREATED:20170825T160626Z
LAST-MODIFIED:20170911T180648Z
UID:10004052-1506160800-1506171600@ogdenmuseum.org
SUMMARY:Photography Workshop
DESCRIPTION:Because we were not able to accommodate all those who wished to participate\, we are offering this workshop a second time. \nPulling inspiration and reflection from the exhibitions Troubled Waters and The Colourful South\, this color photography workshop will teach participants how to make aesthetic choices to create visual themes\, convey emotions\, and tell stories within their images. Photographer and teaching artist\, Aubrey Edwards\, will cover color palettes\, composition 101\, introduction to semi-manual and manual exposure settings\, depth of field\, movement\, and over/under exposure. DSLRs are recommended for this course. All levels welcome. Sponsored by the Susan J. Landry Education Fund. \nRegister Here\nImage Credit: William Eggleston\, Plate 9 of Fifteen\, Example 11 of thirty and V\, 1980\, Dye transfer print\, Collection of William Greiner
URL:https://ogdenmuseum.org/event/photography-workshop-2/
CATEGORIES:Artist Workshops,Workshops + Talks
ATTACH;FMTTYPE=image/jpeg:https://ogdenmuseum.org/wp-content/uploads/2017/01/Eggleston-Plate-9-of-Fifteen.jpg
END:VEVENT
BEGIN:VEVENT
DTSTART;TZID=America/Chicago:20170930T150000
DTEND;TZID=America/Chicago:20170930T160000
DTSTAMP:20260425T210500
CREATED:20170901T175341Z
LAST-MODIFIED:20170920T210108Z
UID:10003948-1506783600-1506787200@ogdenmuseum.org
SUMMARY:Black Artists/New Histories: A conversation with Christopher Bedford\, Courtney Martin & Katy Siegel
DESCRIPTION:Join us for a discussion about the exhibition Solidary & Solitary: The Joyner/Giuffrida Collection\, Presented by The Helis Foundation. Panelist include the curators of the exhibition Christopher Bedford\, Dorothy Wagner Wallis Director of The Baltimore Museum of Art; Katy Siegel\, Senior Curator for Research and Programming at The Baltimore Museum of Art; and Courtney Martin\, Deputy Director and Chief Curator at the Dia Art Foundation. \nThe conversation will encompass the spectrum of questions and possibilities around black artists and history. How have black artists been written into history\, and even more\, how have they changed history? \nThis panel is free and open to the public. \nimage credit: Melvin Edwards (born 1937)\, Central Ave. LA\, 1991\, Welded steel; 14 x 11 3/4 x 9 1/2 in. (35.6 x 29.8 x 24.1 cm)\, © 2016 Melvin Edwards / Artists Rights Society (ARS)\, New York\, [Photo: Courtesy of Alexander Gray Associates\, New York] \n 
URL:https://ogdenmuseum.org/event/black-artistsnew-histories-conversation-christopher-bedford-courtney-martin-katy-siegel/
CATEGORIES:Workshops + Talks
ATTACH;FMTTYPE=image/png:https://ogdenmuseum.org/wp-content/uploads/2017/09/Screen-Shot-2017-09-01-at-12.49.33-PM.png
END:VEVENT
END:VCALENDAR