BEGIN:VCALENDAR
VERSION:2.0
PRODID:-//Ogden Museum of Southern Art - ECPv6.15.20//NONSGML v1.0//EN
CALSCALE:GREGORIAN
METHOD:PUBLISH
X-WR-CALNAME:Ogden Museum of Southern Art
X-ORIGINAL-URL:https://ogdenmuseum.org
X-WR-CALDESC:Events for Ogden Museum of Southern Art
REFRESH-INTERVAL;VALUE=DURATION:PT1H
X-Robots-Tag:noindex
X-PUBLISHED-TTL:PT1H
BEGIN:VTIMEZONE
TZID:America/Chicago
BEGIN:DAYLIGHT
TZOFFSETFROM:-0600
TZOFFSETTO:-0500
TZNAME:CDT
DTSTART:20180311T080000
END:DAYLIGHT
BEGIN:STANDARD
TZOFFSETFROM:-0500
TZOFFSETTO:-0600
TZNAME:CST
DTSTART:20181104T070000
END:STANDARD
BEGIN:DAYLIGHT
TZOFFSETFROM:-0600
TZOFFSETTO:-0500
TZNAME:CDT
DTSTART:20190310T080000
END:DAYLIGHT
BEGIN:STANDARD
TZOFFSETFROM:-0500
TZOFFSETTO:-0600
TZNAME:CST
DTSTART:20191103T070000
END:STANDARD
BEGIN:DAYLIGHT
TZOFFSETFROM:-0600
TZOFFSETTO:-0500
TZNAME:CDT
DTSTART:20200308T080000
END:DAYLIGHT
BEGIN:STANDARD
TZOFFSETFROM:-0500
TZOFFSETTO:-0600
TZNAME:CST
DTSTART:20201101T070000
END:STANDARD
END:VTIMEZONE
BEGIN:VEVENT
DTSTART;TZID=America/Chicago:20190102T090000
DTEND;TZID=America/Chicago:20190102T150000
DTSTAMP:20260424T144635
CREATED:20181119T181912Z
LAST-MODIFIED:20181220T153955Z
UID:10004464-1546419600-1546441200@ogdenmuseum.org
SUMMARY:Winter Holiday Camp
DESCRIPTION:WINTER HOLIDAY CAMP IS FULL\nFOR STUDENTS IN 1ST – 5TH GRADE \nLooking for something fun to do this Winter Break? Hang out at the Ogden Museum of Southern Art! Spend the day looking at\, talking about and making art with a team of creative teaching artists. After exploring the Museum\, campers will try their hand at drawing\, painting\, collage and sculpture\, all inspired by the art they see and discuss. Each day will focus on different works of art and feature new projects. Register for one or all three dates! Register for all three dates and save $15 off your total registration fee! \nContact education@ogdenmuseum.org with any questions. \n$45 MEMBER PER DAY / $50 NON-MEMBER PER DAY \n 
URL:https://ogdenmuseum.org/event/winter-holiday-camp-5/2019-01-02/
CATEGORIES:Events for Kids,Winter Holiday Camp
ATTACH;FMTTYPE=image/jpeg:https://ogdenmuseum.org/wp-content/uploads/2018/11/IMG_6165-2.jpg
END:VEVENT
BEGIN:VEVENT
DTSTART;TZID=America/Chicago:20190103T090000
DTEND;TZID=America/Chicago:20190103T150000
DTSTAMP:20260424T144635
CREATED:20181119T181912Z
LAST-MODIFIED:20181220T153955Z
UID:10004465-1546506000-1546527600@ogdenmuseum.org
SUMMARY:Winter Holiday Camp
DESCRIPTION:WINTER HOLIDAY CAMP IS FULL\nFOR STUDENTS IN 1ST – 5TH GRADE \nLooking for something fun to do this Winter Break? Hang out at the Ogden Museum of Southern Art! Spend the day looking at\, talking about and making art with a team of creative teaching artists. After exploring the Museum\, campers will try their hand at drawing\, painting\, collage and sculpture\, all inspired by the art they see and discuss. Each day will focus on different works of art and feature new projects. Register for one or all three dates! Register for all three dates and save $15 off your total registration fee! \nContact education@ogdenmuseum.org with any questions. \n$45 MEMBER PER DAY / $50 NON-MEMBER PER DAY \n 
URL:https://ogdenmuseum.org/event/winter-holiday-camp-5/2019-01-03/
CATEGORIES:Events for Kids,Winter Holiday Camp
ATTACH;FMTTYPE=image/jpeg:https://ogdenmuseum.org/wp-content/uploads/2018/11/IMG_6165-2.jpg
END:VEVENT
BEGIN:VEVENT
DTSTART;TZID=America/Chicago:20190104T090000
DTEND;TZID=America/Chicago:20190104T150000
DTSTAMP:20260424T144635
CREATED:20181119T181912Z
LAST-MODIFIED:20181220T153908Z
UID:10004466-1546592400-1546614000@ogdenmuseum.org
SUMMARY:Winter Holiday Camp
DESCRIPTION:WINTER HOLIDAY CAMP IS FULL\nFOR STUDENTS IN 1ST – 5TH GRADE \nLooking for something fun to do this Winter Break? Hang out at the Ogden Museum of Southern Art! Spend the day looking at\, talking about and making art with a team of creative teaching artists. After exploring the Museum\, campers will try their hand at drawing\, painting\, collage and sculpture\, all inspired by the art they see and discuss. Each day will focus on different works of art and feature new projects. Register for one or all three dates! Register for all three dates and save $15 off your total registration fee! \nContact education@ogdenmuseum.org with any questions. \n$45 MEMBER PER DAY / $50 NON-MEMBER PER DAY \n  \n 
URL:https://ogdenmuseum.org/event/winter-holiday-camp-5-2019-01-04/
CATEGORIES:Events for Kids,Winter Holiday Camp
ATTACH;FMTTYPE=image/jpeg:https://ogdenmuseum.org/wp-content/uploads/2018/11/IMG_6165-2.jpg
END:VEVENT
END:VCALENDAR