BEGIN:VCALENDAR
VERSION:2.0
PRODID:-//Ogden Museum of Southern Art - ECPv6.15.20//NONSGML v1.0//EN
CALSCALE:GREGORIAN
METHOD:PUBLISH
X-ORIGINAL-URL:https://ogdenmuseum.org
X-WR-CALDESC:Events for Ogden Museum of Southern Art
REFRESH-INTERVAL;VALUE=DURATION:PT1H
X-Robots-Tag:noindex
X-PUBLISHED-TTL:PT1H
BEGIN:VTIMEZONE
TZID:America/Chicago
BEGIN:DAYLIGHT
TZOFFSETFROM:-0600
TZOFFSETTO:-0500
TZNAME:CDT
DTSTART:20240310T080000
END:DAYLIGHT
BEGIN:STANDARD
TZOFFSETFROM:-0500
TZOFFSETTO:-0600
TZNAME:CST
DTSTART:20241103T070000
END:STANDARD
BEGIN:DAYLIGHT
TZOFFSETFROM:-0600
TZOFFSETTO:-0500
TZNAME:CDT
DTSTART:20250309T080000
END:DAYLIGHT
BEGIN:STANDARD
TZOFFSETFROM:-0500
TZOFFSETTO:-0600
TZNAME:CST
DTSTART:20251102T070000
END:STANDARD
BEGIN:DAYLIGHT
TZOFFSETFROM:-0600
TZOFFSETTO:-0500
TZNAME:CDT
DTSTART:20260308T080000
END:DAYLIGHT
BEGIN:STANDARD
TZOFFSETFROM:-0500
TZOFFSETTO:-0600
TZNAME:CST
DTSTART:20261101T070000
END:STANDARD
END:VTIMEZONE
BEGIN:VEVENT
DTSTART;TZID=America/Chicago:20250102T090000
DTEND;TZID=America/Chicago:20250102T150000
DTSTAMP:20260419T082411
CREATED:20241101T150115Z
LAST-MODIFIED:20241209T172722Z
UID:10006040-1735808400-1735830000@ogdenmuseum.org
SUMMARY:SOLD OUT: Winter Holiday Art Camp
DESCRIPTION:This event is sold out! Follow us on Instagram or subscribe to our weekly newsletter to stay up-to-date on all upcoming events. \nFollow Us on Instagram Subscribe to our Newsletter \n\nJanuary 2\, 2025\n9 a.m. – 3 p.m.\nFor grades 2 – 5 \nThis winter break\, give your child the gift of artistic exploration and a playful creative outlet. Join Myron Solomon\, Museum Educator\, and Ogden Teen Interns for 2 days of joyful arts and crafts projects —all inspired by bright colors\, collage and Ogden Museum’s current exhibitions. Expect one to two craft projects per day to take home. \nThis is a full day event\, please bring a snack\, water and lunch each day of camp. \n$50 member/ $55 not-yet-member \n  \n\n\nNot a museum member? Save money on this camp and others like it\, plus receive exclusive privileges like unlimited free admission\, private exhibition previews and so much more when you join Ogden Museum today! Membership begins at the low price of $60. \nJoin the O today\n\n\nAbout Teaching Artist Myron Solomon\, Jr \n\n\n\nMyron Solomon\, Jr. is an interdisciplinary visual artist from New Orleans. A Dillard University BFA and School of Visual Arts MFA graduate\, his work pushes beyond traditional New Orleans art while honoring its cultural roots. Exploring existential themes\, Myron uses hyperbole to evoke introspection in his audience. His passion for the arts extends to education\, where he shares his knowledge with youth\, aiming to inspire the same transformative experiences that shaped his own journey.
URL:https://ogdenmuseum.org/event/winter-holiday-art-camp-4/
CATEGORIES:Classes for Kids,Events for Kids,Winter Camp,Winter Holiday Camp
ATTACH;FMTTYPE=image/png:https://ogdenmuseum.org/wp-content/uploads/2024/11/Winter-Holiday-Camp-2025-web-event.png
END:VEVENT
BEGIN:VEVENT
DTSTART;TZID=America/Chicago:20250103T090000
DTEND;TZID=America/Chicago:20250103T150000
DTSTAMP:20260419T082411
CREATED:20241106T223725Z
LAST-MODIFIED:20241209T192013Z
UID:10006043-1735894800-1735916400@ogdenmuseum.org
SUMMARY:SOLD OUT: Winter Holiday Art Camp
DESCRIPTION:This event is sold out! Follow us on Instagram or subscribe to our weekly newsletter to stay up-to-date on all upcoming events. \nFollow Us on Instagram Subscribe to our Newsletter \n\nJanuary 3\, 2025\n9 a.m. – 3 p.m.\nFor grades 2 – 5 \nThis winter break\, give your child the gift of artistic exploration and a playful creative outlet. Join Myron Solomon\, Museum Educator\, and Ogden Teen Interns for 2 days of joyful arts and crafts projects —all inspired by bright colors\, collage and Ogden Museum’s current exhibitions. Expect one to two craft projects per day to take home. \nThis is a full day event\, please bring a snack\, water and lunch each day of camp. \n$50 member/ $55 not-yet-member \n\n\nNot a museum member? Save money on this camp and others like it\, plus receive exclusive privileges like unlimited free admission\, private exhibition previews and so much more when you join Ogden Museum today! Membership begins at the low price of $60. \nJoin the O today\n\nAbout Teaching Artist Myron Solomon\, Jr \n\n\n\nMyron Solomon\, Jr. is an interdisciplinary visual artist from New Orleans. A Dillard University BFA and School of Visual Arts MFA graduate\, his work pushes beyond traditional New Orleans art while honoring its cultural roots. Exploring existential themes\, Myron uses hyperbole to evoke introspection in his audience. His passion for the arts extends to education\, where he shares his knowledge with youth\, aiming to inspire the same transformative experiences that shaped his own journey.
URL:https://ogdenmuseum.org/event/winter-holiday-art-camp-5/
CATEGORIES:Winter Camp,Winter Holiday Camp
ATTACH;FMTTYPE=image/png:https://ogdenmuseum.org/wp-content/uploads/2024/11/Winter-Holiday-Camp-2025-web-event.png
END:VEVENT
END:VCALENDAR