BEGIN:VCALENDAR
VERSION:2.0
PRODID:-//Ogden Museum of Southern Art - ECPv6.15.20//NONSGML v1.0//EN
CALSCALE:GREGORIAN
METHOD:PUBLISH
X-WR-CALNAME:Ogden Museum of Southern Art
X-ORIGINAL-URL:https://ogdenmuseum.org
X-WR-CALDESC:Events for Ogden Museum of Southern Art
REFRESH-INTERVAL;VALUE=DURATION:PT1H
X-Robots-Tag:noindex
X-PUBLISHED-TTL:PT1H
BEGIN:VTIMEZONE
TZID:America/Chicago
BEGIN:DAYLIGHT
TZOFFSETFROM:-0600
TZOFFSETTO:-0500
TZNAME:CDT
DTSTART:20250309T080000
END:DAYLIGHT
BEGIN:STANDARD
TZOFFSETFROM:-0500
TZOFFSETTO:-0600
TZNAME:CST
DTSTART:20251102T070000
END:STANDARD
BEGIN:DAYLIGHT
TZOFFSETFROM:-0600
TZOFFSETTO:-0500
TZNAME:CDT
DTSTART:20260308T080000
END:DAYLIGHT
BEGIN:STANDARD
TZOFFSETFROM:-0500
TZOFFSETTO:-0600
TZNAME:CST
DTSTART:20261101T070000
END:STANDARD
BEGIN:DAYLIGHT
TZOFFSETFROM:-0600
TZOFFSETTO:-0500
TZNAME:CDT
DTSTART:20270314T080000
END:DAYLIGHT
BEGIN:STANDARD
TZOFFSETFROM:-0500
TZOFFSETTO:-0600
TZNAME:CST
DTSTART:20271107T070000
END:STANDARD
END:VTIMEZONE
BEGIN:VEVENT
DTSTART;TZID=America/Chicago:20260429T180000
DTEND;TZID=America/Chicago:20260429T200000
DTSTAMP:20260423T060746
CREATED:20260311T195036Z
LAST-MODIFIED:20260420T164301Z
UID:10006401-1777485600-1777492800@ogdenmuseum.org
SUMMARY:Magnolia Ball Ticket Flash Sale
DESCRIPTION:This night only\, save $75 on General Tickets to the 2026 Magnolia Ball! \nJoin us from 6 to 8 p.m. during Ogden After Hours to take advantage of this flash sale. General Tickets to Magnolia Ball\, which are sold for $200\, will be on sale this night only for just $125. \nPlus\, enjoy free admission to Ogden After Hours\, as well as a drink ticket for the O Bar\, with the purchase of a Magnolia Ball General Ticket. \nAs an added bonus\, each Magnolia Ball ticket purchased during the flash sale will be entered into a raffle to win a copy of “The Photography of Herman Leonard” (one entry per ticket\, in-person purchases only). \nTickets can be purchased in-person or online to receive discount. \nPurchase Tickets\nlearn more about magnolia ball 2026 learn more about ogden after hours
URL:https://ogdenmuseum.org/event/magnolia-ball-ticket-flash-sale-4/
CATEGORIES:Pop-ups,Special Event
ATTACH;FMTTYPE=image/jpeg:https://ogdenmuseum.org/wp-content/uploads/2026/03/flash-sale.jpg
END:VEVENT
END:VCALENDAR