BEGIN:VCALENDAR
VERSION:2.0
PRODID:-//Ogden Museum of Southern Art - ECPv6.15.20//NONSGML v1.0//EN
CALSCALE:GREGORIAN
METHOD:PUBLISH
X-ORIGINAL-URL:https://ogdenmuseum.org
X-WR-CALDESC:Events for Ogden Museum of Southern Art
REFRESH-INTERVAL;VALUE=DURATION:PT1H
X-Robots-Tag:noindex
X-PUBLISHED-TTL:PT1H
BEGIN:VTIMEZONE
TZID:America/Chicago
BEGIN:DAYLIGHT
TZOFFSETFROM:-0600
TZOFFSETTO:-0500
TZNAME:CDT
DTSTART:20180311T080000
END:DAYLIGHT
BEGIN:STANDARD
TZOFFSETFROM:-0500
TZOFFSETTO:-0600
TZNAME:CST
DTSTART:20181104T070000
END:STANDARD
BEGIN:DAYLIGHT
TZOFFSETFROM:-0600
TZOFFSETTO:-0500
TZNAME:CDT
DTSTART:20190310T080000
END:DAYLIGHT
BEGIN:STANDARD
TZOFFSETFROM:-0500
TZOFFSETTO:-0600
TZNAME:CST
DTSTART:20191103T070000
END:STANDARD
BEGIN:DAYLIGHT
TZOFFSETFROM:-0600
TZOFFSETTO:-0500
TZNAME:CDT
DTSTART:20200308T080000
END:DAYLIGHT
BEGIN:STANDARD
TZOFFSETFROM:-0500
TZOFFSETTO:-0600
TZNAME:CST
DTSTART:20201101T070000
END:STANDARD
END:VTIMEZONE
BEGIN:VEVENT
DTSTART;VALUE=DATE:20190102
DTEND;VALUE=DATE:20190103
DTSTAMP:20260419T135050
CREATED:20181219T192858Z
LAST-MODIFIED:20181219T212054Z
UID:10004472-1546387200-1546473599@ogdenmuseum.org
SUMMARY:Pop-Up Opening
DESCRIPTION:OPENING IN THE MUSEUM STORE \nNew Orleans designer Caroline Masue Muneoka\, fascinated with patterns in nature and fine art\, uses natural linens and cottons to create one-of-a-kind pieces that capture the essence of nature’s design. The natural fabric is hand dyed and cut from a pattern block\, and each piece is printed with eco-friendly\, water-based ink. Muneoka’s lifestyle brand will be available in the Museum Store through January 31. \n  \n/// Image courtesy of Designs by Masue
URL:https://ogdenmuseum.org/event/pop-up/
CATEGORIES:Pop-ups
ATTACH;FMTTYPE=image/jpeg:https://ogdenmuseum.org/wp-content/uploads/2018/12/IMG_0172.jpg
END:VEVENT
END:VCALENDAR