BEGIN:VCALENDAR
VERSION:2.0
PRODID:-//Ogden Museum of Southern Art - ECPv6.15.20//NONSGML v1.0//EN
CALSCALE:GREGORIAN
METHOD:PUBLISH
X-WR-CALNAME:Ogden Museum of Southern Art
X-ORIGINAL-URL:https://ogdenmuseum.org
X-WR-CALDESC:Events for Ogden Museum of Southern Art
REFRESH-INTERVAL;VALUE=DURATION:PT1H
X-Robots-Tag:noindex
X-PUBLISHED-TTL:PT1H
BEGIN:VTIMEZONE
TZID:America/Chicago
BEGIN:DAYLIGHT
TZOFFSETFROM:-0600
TZOFFSETTO:-0500
TZNAME:CDT
DTSTART:20160313T080000
END:DAYLIGHT
BEGIN:STANDARD
TZOFFSETFROM:-0500
TZOFFSETTO:-0600
TZNAME:CST
DTSTART:20161106T070000
END:STANDARD
BEGIN:DAYLIGHT
TZOFFSETFROM:-0600
TZOFFSETTO:-0500
TZNAME:CDT
DTSTART:20170312T080000
END:DAYLIGHT
BEGIN:STANDARD
TZOFFSETFROM:-0500
TZOFFSETTO:-0600
TZNAME:CST
DTSTART:20171105T070000
END:STANDARD
BEGIN:DAYLIGHT
TZOFFSETFROM:-0600
TZOFFSETTO:-0500
TZNAME:CDT
DTSTART:20180311T080000
END:DAYLIGHT
BEGIN:STANDARD
TZOFFSETFROM:-0500
TZOFFSETTO:-0600
TZNAME:CST
DTSTART:20181104T070000
END:STANDARD
END:VTIMEZONE
BEGIN:VEVENT
DTSTART;TZID=America/Chicago:20170511T180000
DTEND;TZID=America/Chicago:20170511T200000
DTSTAMP:20260420T180842
CREATED:20170323T193434Z
LAST-MODIFIED:20170419T161020Z
UID:10004036-1494525600-1494532800@ogdenmuseum.org
SUMMARY:Jess Leigh Jewels Trunk Show
DESCRIPTION:Jess Leigh has the perfect gifts for Mother’s Day! Check out her jewelry in the Museum Store during Ogden After Hours.
URL:https://ogdenmuseum.org/event/jess-leigh-jewels-trunk-show/
CATEGORIES:Ogden After Hours,Pop-ups
ATTACH;FMTTYPE=image/png:https://ogdenmuseum.org/wp-content/uploads/2017/03/Screen-Shot-2017-03-21-at-3.56.10-PM.png
END:VEVENT
END:VCALENDAR