BEGIN:VCALENDAR
VERSION:2.0
PRODID:-//Ogden Museum of Southern Art - ECPv6.15.20//NONSGML v1.0//EN
CALSCALE:GREGORIAN
METHOD:PUBLISH
X-WR-CALNAME:Ogden Museum of Southern Art
X-ORIGINAL-URL:https://ogdenmuseum.org
X-WR-CALDESC:Events for Ogden Museum of Southern Art
REFRESH-INTERVAL;VALUE=DURATION:PT1H
X-Robots-Tag:noindex
X-PUBLISHED-TTL:PT1H
BEGIN:VTIMEZONE
TZID:America/Chicago
BEGIN:DAYLIGHT
TZOFFSETFROM:-0600
TZOFFSETTO:-0500
TZNAME:CDT
DTSTART:20190310T080000
END:DAYLIGHT
BEGIN:STANDARD
TZOFFSETFROM:-0500
TZOFFSETTO:-0600
TZNAME:CST
DTSTART:20191103T070000
END:STANDARD
BEGIN:DAYLIGHT
TZOFFSETFROM:-0600
TZOFFSETTO:-0500
TZNAME:CDT
DTSTART:20200308T080000
END:DAYLIGHT
BEGIN:STANDARD
TZOFFSETFROM:-0500
TZOFFSETTO:-0600
TZNAME:CST
DTSTART:20201101T070000
END:STANDARD
BEGIN:DAYLIGHT
TZOFFSETFROM:-0600
TZOFFSETTO:-0500
TZNAME:CDT
DTSTART:20210314T080000
END:DAYLIGHT
BEGIN:STANDARD
TZOFFSETFROM:-0500
TZOFFSETTO:-0600
TZNAME:CST
DTSTART:20211107T070000
END:STANDARD
END:VTIMEZONE
BEGIN:VEVENT
DTSTART;TZID=America/Chicago:20201017T200000
DTEND;TZID=America/Chicago:20201017T210000
DTSTAMP:20260420T151059
CREATED:20191118T154524Z
LAST-MODIFIED:20201008T161231Z
UID:10004292-1602964800-1602968400@ogdenmuseum.org
SUMMARY:O What A Night! Live Auction
DESCRIPTION:With the health and safety of its supporters in mind\, Ogden Museum of Southern Art has transitioned its annual O What a Night! Gala to an online format\, featuring live and silent art auctions that will support the Museum’s educational mission to share the art and culture of the American South.  \nLive Art Auction: Saturday\, October 17\, 8-9 p.m. \nSilent Art Auction: Monday\, October 12\, 12 a.m. – Sunday\, October 18\, 5 p.m. \nLearn More and Support
URL:https://ogdenmuseum.org/event/o-what-a-night-gala-2020/
CATEGORIES:Events for Adults,Opening Receptions + Special Events,Openings + Receptions,Special Event
ATTACH;FMTTYPE=image/jpeg:https://ogdenmuseum.org/wp-content/uploads/2019/11/Copy-of-Copy-of-OWAN-Webite-Slides.jpg
END:VEVENT
END:VCALENDAR