BEGIN:VCALENDAR
VERSION:2.0
PRODID:-//Ogden Museum of Southern Art - ECPv6.15.20//NONSGML v1.0//EN
CALSCALE:GREGORIAN
METHOD:PUBLISH
X-WR-CALNAME:Ogden Museum of Southern Art
X-ORIGINAL-URL:https://ogdenmuseum.org
X-WR-CALDESC:Events for Ogden Museum of Southern Art
REFRESH-INTERVAL;VALUE=DURATION:PT1H
X-Robots-Tag:noindex
X-PUBLISHED-TTL:PT1H
BEGIN:VTIMEZONE
TZID:America/Chicago
BEGIN:DAYLIGHT
TZOFFSETFROM:-0600
TZOFFSETTO:-0500
TZNAME:CDT
DTSTART:20220313T080000
END:DAYLIGHT
BEGIN:STANDARD
TZOFFSETFROM:-0500
TZOFFSETTO:-0600
TZNAME:CST
DTSTART:20221106T070000
END:STANDARD
BEGIN:DAYLIGHT
TZOFFSETFROM:-0600
TZOFFSETTO:-0500
TZNAME:CDT
DTSTART:20230312T080000
END:DAYLIGHT
BEGIN:STANDARD
TZOFFSETFROM:-0500
TZOFFSETTO:-0600
TZNAME:CST
DTSTART:20231105T070000
END:STANDARD
BEGIN:DAYLIGHT
TZOFFSETFROM:-0600
TZOFFSETTO:-0500
TZNAME:CDT
DTSTART:20240310T080000
END:DAYLIGHT
BEGIN:STANDARD
TZOFFSETFROM:-0500
TZOFFSETTO:-0600
TZNAME:CST
DTSTART:20241103T070000
END:STANDARD
END:VTIMEZONE
BEGIN:VEVENT
DTSTART;TZID=America/Chicago:20231207T123000
DTEND;TZID=America/Chicago:20231207T123000
DTSTAMP:20260419T130200
CREATED:20230717T221511Z
LAST-MODIFIED:20240126T201307Z
UID:10005295-1701952200-1701952200@ogdenmuseum.org
SUMMARY:Ogden Museum Meditation
DESCRIPTION:Ready to activate your individual and collective well-being and love of art through mindful meditation? Join Mikhayla Harrell every Thursday from 12:30 to 1 p.m. for Ogden Museum Meditation (OMM). Mikhayla is a seasoned yoga and meditation teacher who leans into the traditions of Mindfulness\, Vipassana and Shaivism. \nOMM is free with admission and if you are a Louisiana resident\, admission is free on Thursdays\, courtesy of The Helis Foundation. \n/// Image by Pixababy
URL:https://ogdenmuseum.org/event/ogden-museum-meditation-3/2023-12-07/
CATEGORIES:Events for Adults,Live Events,Museum Meditations
ATTACH;FMTTYPE=image/jpeg:https://ogdenmuseum.org/wp-content/uploads/2023/07/yoga-g4dd9dda37_1280-Mikhayla-Harrell.jpg
END:VEVENT
BEGIN:VEVENT
DTSTART;TZID=America/Chicago:20231214T123000
DTEND;TZID=America/Chicago:20231214T123000
DTSTAMP:20260419T130200
CREATED:20230717T221511Z
LAST-MODIFIED:20240126T201307Z
UID:10005296-1702557000-1702557000@ogdenmuseum.org
SUMMARY:Ogden Museum Meditation
DESCRIPTION:Ready to activate your individual and collective well-being and love of art through mindful meditation? Join Mikhayla Harrell every Thursday from 12:30 to 1 p.m. for Ogden Museum Meditation (OMM). Mikhayla is a seasoned yoga and meditation teacher who leans into the traditions of Mindfulness\, Vipassana and Shaivism. \nOMM is free with admission and if you are a Louisiana resident\, admission is free on Thursdays\, courtesy of The Helis Foundation. \n/// Image by Pixababy
URL:https://ogdenmuseum.org/event/ogden-museum-meditation-3/2023-12-14/
CATEGORIES:Events for Adults,Live Events,Museum Meditations
ATTACH;FMTTYPE=image/jpeg:https://ogdenmuseum.org/wp-content/uploads/2023/07/yoga-g4dd9dda37_1280-Mikhayla-Harrell.jpg
END:VEVENT
END:VCALENDAR