BEGIN:VCALENDAR
VERSION:2.0
PRODID:-//Ogden Museum of Southern Art - ECPv6.15.20//NONSGML v1.0//EN
CALSCALE:GREGORIAN
METHOD:PUBLISH
X-ORIGINAL-URL:https://ogdenmuseum.org
X-WR-CALDESC:Events for Ogden Museum of Southern Art
REFRESH-INTERVAL;VALUE=DURATION:PT1H
X-Robots-Tag:noindex
X-PUBLISHED-TTL:PT1H
BEGIN:VTIMEZONE
TZID:America/Chicago
BEGIN:DAYLIGHT
TZOFFSETFROM:-0600
TZOFFSETTO:-0500
TZNAME:CDT
DTSTART:20220313T080000
END:DAYLIGHT
BEGIN:STANDARD
TZOFFSETFROM:-0500
TZOFFSETTO:-0600
TZNAME:CST
DTSTART:20221106T070000
END:STANDARD
BEGIN:DAYLIGHT
TZOFFSETFROM:-0600
TZOFFSETTO:-0500
TZNAME:CDT
DTSTART:20230312T080000
END:DAYLIGHT
BEGIN:STANDARD
TZOFFSETFROM:-0500
TZOFFSETTO:-0600
TZNAME:CST
DTSTART:20231105T070000
END:STANDARD
BEGIN:DAYLIGHT
TZOFFSETFROM:-0600
TZOFFSETTO:-0500
TZNAME:CDT
DTSTART:20240310T080000
END:DAYLIGHT
BEGIN:STANDARD
TZOFFSETFROM:-0500
TZOFFSETTO:-0600
TZNAME:CST
DTSTART:20241103T070000
END:STANDARD
END:VTIMEZONE
BEGIN:VEVENT
DTSTART;TZID=America/Chicago:20230302T123000
DTEND;TZID=America/Chicago:20230302T130000
DTSTAMP:20260420T020521
CREATED:20230119T214911Z
LAST-MODIFIED:20230119T214911Z
UID:10005141-1677760200-1677762000@ogdenmuseum.org
SUMMARY:OMM
DESCRIPTION:Join yoga and meditation instructor\, Mikhayla Harrell\, on Thursday\, March 2 at 12:30 P.M. for a free\, thirty-minute drop-in mediation session at Ogden Museum. Cultivate calm and awareness in the midst of your busy day by taking a break with us. \nThis program is free with admission and if you are a Louisiana resident\, admission is free on Thursdays\, courtesy of The Helis Foundation. \nREGISTER
URL:https://ogdenmuseum.org/event/omm-5/
CATEGORIES:Museum Meditations
ATTACH;FMTTYPE=image/png:https://ogdenmuseum.org/wp-content/uploads/2023/01/OMM.png
END:VEVENT
BEGIN:VEVENT
DTSTART;TZID=America/Chicago:20230309T123000
DTEND;TZID=America/Chicago:20230309T130000
DTSTAMP:20260420T020521
CREATED:20230119T215605Z
LAST-MODIFIED:20230119T215605Z
UID:10005142-1678365000-1678366800@ogdenmuseum.org
SUMMARY:OMM
DESCRIPTION:Join yoga and meditation instructor\, Mikhayla Harrell\, on Thursday\, March 9 at 12:30 P.M. for a free\, thirty-minute drop-in mediation session at Ogden Museum. Cultivate calm and awareness in the midst of your busy day by taking a break with us. \nThis program is free with admission and if you are a Louisiana resident\, admission is free on Thursdays\, courtesy of The Helis Foundation. \nREGISTER
URL:https://ogdenmuseum.org/event/omm-6/
CATEGORIES:Museum Meditations
ATTACH;FMTTYPE=image/png:https://ogdenmuseum.org/wp-content/uploads/2023/01/OMM.png
END:VEVENT
BEGIN:VEVENT
DTSTART;TZID=America/Chicago:20230316T123000
DTEND;TZID=America/Chicago:20230316T130000
DTSTAMP:20260420T020521
CREATED:20230119T215910Z
LAST-MODIFIED:20230119T215910Z
UID:10005144-1678969800-1678971600@ogdenmuseum.org
SUMMARY:OMM
DESCRIPTION:Join yoga and meditation instructor\, Mikhayla Harrell\, on Thursday\, March 16 at 12:30 P.M. for a free\, thirty-minute drop-in mediation session at Ogden Museum. Cultivate calm and awareness in the midst of your busy day by taking a break with us. \nThis program is free with admission and if you are a Louisiana resident\, admission is free on Thursdays\, courtesy of The Helis Foundation. \nREGISTER
URL:https://ogdenmuseum.org/event/omm-7/
CATEGORIES:Museum Meditations
ATTACH;FMTTYPE=image/png:https://ogdenmuseum.org/wp-content/uploads/2023/01/OMM.png
END:VEVENT
BEGIN:VEVENT
DTSTART;TZID=America/Chicago:20230323T123000
DTEND;TZID=America/Chicago:20230323T130000
DTSTAMP:20260420T020521
CREATED:20230119T220553Z
LAST-MODIFIED:20230119T220553Z
UID:10005146-1679574600-1679576400@ogdenmuseum.org
SUMMARY:OMM
DESCRIPTION:Join yoga and meditation instructor\, Mikhayla Harrell\, on Thursday\, March 23 at 12:30 P.M. for a free\, thirty-minute drop-in mediation session at Ogden Museum. Cultivate calm and awareness in the midst of your busy day by taking a break with us. \nThis program is free with admission and if you are a Louisiana resident\, admission is free on Thursdays\, courtesy of The Helis Foundation. \nREGISTER
URL:https://ogdenmuseum.org/event/omm-8/
CATEGORIES:Museum Meditations
ATTACH;FMTTYPE=image/png:https://ogdenmuseum.org/wp-content/uploads/2023/01/OMM.png
END:VEVENT
BEGIN:VEVENT
DTSTART;TZID=America/Chicago:20230330T123000
DTEND;TZID=America/Chicago:20230330T130000
DTSTAMP:20260420T020521
CREATED:20230119T221136Z
LAST-MODIFIED:20230119T221136Z
UID:10004656-1680179400-1680181200@ogdenmuseum.org
SUMMARY:OMM
DESCRIPTION:Join yoga and meditation instructor\, Mikhayla Harrell\, on Thursday\, March 30 at 12:30 P.M. for a free\, thirty-minute drop-in mediation session at Ogden Museum. Cultivate calm and awareness in the midst of your busy day by taking a break with us. \nThis program is free with admission and if you are a Louisiana resident\, admission is free on Thursdays\, courtesy of The Helis Foundation. \nREGISTER
URL:https://ogdenmuseum.org/event/omm-9/
CATEGORIES:Museum Meditations
ATTACH;FMTTYPE=image/png:https://ogdenmuseum.org/wp-content/uploads/2023/01/OMM.png
END:VEVENT
END:VCALENDAR