BEGIN:VCALENDAR
VERSION:2.0
PRODID:-//Ogden Museum of Southern Art - ECPv6.15.20//NONSGML v1.0//EN
CALSCALE:GREGORIAN
METHOD:PUBLISH
X-WR-CALNAME:Ogden Museum of Southern Art
X-ORIGINAL-URL:https://ogdenmuseum.org
X-WR-CALDESC:Events for Ogden Museum of Southern Art
REFRESH-INTERVAL;VALUE=DURATION:PT1H
X-Robots-Tag:noindex
X-PUBLISHED-TTL:PT1H
BEGIN:VTIMEZONE
TZID:America/Chicago
BEGIN:DAYLIGHT
TZOFFSETFROM:-0600
TZOFFSETTO:-0500
TZNAME:CDT
DTSTART:20210314T080000
END:DAYLIGHT
BEGIN:STANDARD
TZOFFSETFROM:-0500
TZOFFSETTO:-0600
TZNAME:CST
DTSTART:20211107T070000
END:STANDARD
BEGIN:DAYLIGHT
TZOFFSETFROM:-0600
TZOFFSETTO:-0500
TZNAME:CDT
DTSTART:20220313T080000
END:DAYLIGHT
BEGIN:STANDARD
TZOFFSETFROM:-0500
TZOFFSETTO:-0600
TZNAME:CST
DTSTART:20221106T070000
END:STANDARD
BEGIN:DAYLIGHT
TZOFFSETFROM:-0600
TZOFFSETTO:-0500
TZNAME:CDT
DTSTART:20230312T080000
END:DAYLIGHT
BEGIN:STANDARD
TZOFFSETFROM:-0500
TZOFFSETTO:-0600
TZNAME:CST
DTSTART:20231105T070000
END:STANDARD
END:VTIMEZONE
BEGIN:VEVENT
DTSTART;TZID=America/Chicago:20220908T123000
DTEND;TZID=America/Chicago:20220908T130000
DTSTAMP:20260420T112032
CREATED:20220822T135348Z
LAST-MODIFIED:20220826T161913Z
UID:10005122-1662640200-1662642000@ogdenmuseum.org
SUMMARY:Ogden Museum Meditation
DESCRIPTION:Refresh your day with a free\, thirty-minute “drop-in” meditation at Ogden Museum led by Museum Educator and yoga instructor Mikhayla Harrell. \nBeing in the moment is essential for appreciating a great work of art. The tools of mindfulness meditation enhance our ability to stay present with our everyday lives and aesthetic experiences. By cultivating awareness\, we can create calm and peace amidst our to-do lists\, errands\, family and work life and bring the creative spark of Southern art into the art of our everyday lives. \nIn Buddhist traditions\, learning and practice is always free\, but the practice of Dāna is an act of practicing generosity. Please consider a donation to help us continue to present creative arts programming inspired by Southern art and artists. This program is free with admission. If you are a Louisiana resident\, admission is free on Thursdays. \nRegister for one or for all the upcoming sessions! \nSEPT. 8 SEPT. 15 SEPT. 22 SEPT. 29 OCT. 6 OCT. 13 OCT. 20 OCT. 27 NOV. 03 NOV. 10 NOV. 17 DEC. 1 DEC. 8 DEC. 15 \nAbout OMM \nOMM meets every Thursday from 12:30 – 1 p.m. All experience levels are welcome. Chairs and cushions are provided. The last Thursday of each month will include an art talk and meditation. Please arrive 5-10 minutes before the session begins. Advanced registration is preferred. This program is free with admission. If you are a Louisiana resident\, admission is free on Thursdays\, courtesy of The Helis Foundation. \nAbout the Facilitator \n\nMikhayla Harrell ERYT 500\, M.A.\, is a seasoned yoga\, meditation and art instructor. She specializes in strengthening the interconnected threads between creativity and equanimity to enhance the rich tapestry of joy in our lives. You can find her weaving these connections through her art classes at Ogden Museum and through her yoga courses at Balance Yoga and Wellness Studio.
URL:https://ogdenmuseum.org/event/ogden-museum-meditation-2/2022-09-08/
CATEGORIES:Art and Zen,Events for Adults,Museum Meditations
ATTACH;FMTTYPE=image/png:https://ogdenmuseum.org/wp-content/uploads/2020/08/Web-Event-Size.png
END:VEVENT
BEGIN:VEVENT
DTSTART;TZID=America/Chicago:20220915T123000
DTEND;TZID=America/Chicago:20220915T130000
DTSTAMP:20260420T112032
CREATED:20220822T135348Z
LAST-MODIFIED:20220826T161913Z
UID:10005123-1663245000-1663246800@ogdenmuseum.org
SUMMARY:Ogden Museum Meditation
DESCRIPTION:Refresh your day with a free\, thirty-minute “drop-in” meditation at Ogden Museum led by Museum Educator and yoga instructor Mikhayla Harrell. \nBeing in the moment is essential for appreciating a great work of art. The tools of mindfulness meditation enhance our ability to stay present with our everyday lives and aesthetic experiences. By cultivating awareness\, we can create calm and peace amidst our to-do lists\, errands\, family and work life and bring the creative spark of Southern art into the art of our everyday lives. \nIn Buddhist traditions\, learning and practice is always free\, but the practice of Dāna is an act of practicing generosity. Please consider a donation to help us continue to present creative arts programming inspired by Southern art and artists. This program is free with admission. If you are a Louisiana resident\, admission is free on Thursdays. \nRegister for one or for all the upcoming sessions! \nSEPT. 8 SEPT. 15 SEPT. 22 SEPT. 29 OCT. 6 OCT. 13 OCT. 20 OCT. 27 NOV. 03 NOV. 10 NOV. 17 DEC. 1 DEC. 8 DEC. 15 \nAbout OMM \nOMM meets every Thursday from 12:30 – 1 p.m. All experience levels are welcome. Chairs and cushions are provided. The last Thursday of each month will include an art talk and meditation. Please arrive 5-10 minutes before the session begins. Advanced registration is preferred. This program is free with admission. If you are a Louisiana resident\, admission is free on Thursdays\, courtesy of The Helis Foundation. \nAbout the Facilitator \n\nMikhayla Harrell ERYT 500\, M.A.\, is a seasoned yoga\, meditation and art instructor. She specializes in strengthening the interconnected threads between creativity and equanimity to enhance the rich tapestry of joy in our lives. You can find her weaving these connections through her art classes at Ogden Museum and through her yoga courses at Balance Yoga and Wellness Studio.
URL:https://ogdenmuseum.org/event/ogden-museum-meditation-2/2022-09-15/
CATEGORIES:Art and Zen,Events for Adults,Museum Meditations
ATTACH;FMTTYPE=image/png:https://ogdenmuseum.org/wp-content/uploads/2020/08/Web-Event-Size.png
END:VEVENT
BEGIN:VEVENT
DTSTART;TZID=America/Chicago:20220922T123000
DTEND;TZID=America/Chicago:20220922T130000
DTSTAMP:20260420T112032
CREATED:20220822T135348Z
LAST-MODIFIED:20220826T161913Z
UID:10005124-1663849800-1663851600@ogdenmuseum.org
SUMMARY:Ogden Museum Meditation
DESCRIPTION:Refresh your day with a free\, thirty-minute “drop-in” meditation at Ogden Museum led by Museum Educator and yoga instructor Mikhayla Harrell. \nBeing in the moment is essential for appreciating a great work of art. The tools of mindfulness meditation enhance our ability to stay present with our everyday lives and aesthetic experiences. By cultivating awareness\, we can create calm and peace amidst our to-do lists\, errands\, family and work life and bring the creative spark of Southern art into the art of our everyday lives. \nIn Buddhist traditions\, learning and practice is always free\, but the practice of Dāna is an act of practicing generosity. Please consider a donation to help us continue to present creative arts programming inspired by Southern art and artists. This program is free with admission. If you are a Louisiana resident\, admission is free on Thursdays. \nRegister for one or for all the upcoming sessions! \nSEPT. 8 SEPT. 15 SEPT. 22 SEPT. 29 OCT. 6 OCT. 13 OCT. 20 OCT. 27 NOV. 03 NOV. 10 NOV. 17 DEC. 1 DEC. 8 DEC. 15 \nAbout OMM \nOMM meets every Thursday from 12:30 – 1 p.m. All experience levels are welcome. Chairs and cushions are provided. The last Thursday of each month will include an art talk and meditation. Please arrive 5-10 minutes before the session begins. Advanced registration is preferred. This program is free with admission. If you are a Louisiana resident\, admission is free on Thursdays\, courtesy of The Helis Foundation. \nAbout the Facilitator \n\nMikhayla Harrell ERYT 500\, M.A.\, is a seasoned yoga\, meditation and art instructor. She specializes in strengthening the interconnected threads between creativity and equanimity to enhance the rich tapestry of joy in our lives. You can find her weaving these connections through her art classes at Ogden Museum and through her yoga courses at Balance Yoga and Wellness Studio.
URL:https://ogdenmuseum.org/event/ogden-museum-meditation-2/2022-09-22/
CATEGORIES:Art and Zen,Events for Adults,Museum Meditations
ATTACH;FMTTYPE=image/png:https://ogdenmuseum.org/wp-content/uploads/2020/08/Web-Event-Size.png
END:VEVENT
BEGIN:VEVENT
DTSTART;TZID=America/Chicago:20220929T123000
DTEND;TZID=America/Chicago:20220929T130000
DTSTAMP:20260420T112032
CREATED:20220822T135348Z
LAST-MODIFIED:20220826T161913Z
UID:10005125-1664454600-1664456400@ogdenmuseum.org
SUMMARY:Ogden Museum Meditation
DESCRIPTION:Refresh your day with a free\, thirty-minute “drop-in” meditation at Ogden Museum led by Museum Educator and yoga instructor Mikhayla Harrell. \nBeing in the moment is essential for appreciating a great work of art. The tools of mindfulness meditation enhance our ability to stay present with our everyday lives and aesthetic experiences. By cultivating awareness\, we can create calm and peace amidst our to-do lists\, errands\, family and work life and bring the creative spark of Southern art into the art of our everyday lives. \nIn Buddhist traditions\, learning and practice is always free\, but the practice of Dāna is an act of practicing generosity. Please consider a donation to help us continue to present creative arts programming inspired by Southern art and artists. This program is free with admission. If you are a Louisiana resident\, admission is free on Thursdays. \nRegister for one or for all the upcoming sessions! \nSEPT. 8 SEPT. 15 SEPT. 22 SEPT. 29 OCT. 6 OCT. 13 OCT. 20 OCT. 27 NOV. 03 NOV. 10 NOV. 17 DEC. 1 DEC. 8 DEC. 15 \nAbout OMM \nOMM meets every Thursday from 12:30 – 1 p.m. All experience levels are welcome. Chairs and cushions are provided. The last Thursday of each month will include an art talk and meditation. Please arrive 5-10 minutes before the session begins. Advanced registration is preferred. This program is free with admission. If you are a Louisiana resident\, admission is free on Thursdays\, courtesy of The Helis Foundation. \nAbout the Facilitator \n\nMikhayla Harrell ERYT 500\, M.A.\, is a seasoned yoga\, meditation and art instructor. She specializes in strengthening the interconnected threads between creativity and equanimity to enhance the rich tapestry of joy in our lives. You can find her weaving these connections through her art classes at Ogden Museum and through her yoga courses at Balance Yoga and Wellness Studio.
URL:https://ogdenmuseum.org/event/ogden-museum-meditation-2/2022-09-29/
CATEGORIES:Art and Zen,Events for Adults,Museum Meditations
ATTACH;FMTTYPE=image/png:https://ogdenmuseum.org/wp-content/uploads/2020/08/Web-Event-Size.png
END:VEVENT
END:VCALENDAR