BEGIN:VCALENDAR
VERSION:2.0
PRODID:-//Ogden Museum of Southern Art - ECPv6.15.20//NONSGML v1.0//EN
CALSCALE:GREGORIAN
METHOD:PUBLISH
X-ORIGINAL-URL:https://ogdenmuseum.org
X-WR-CALDESC:Events for Ogden Museum of Southern Art
REFRESH-INTERVAL;VALUE=DURATION:PT1H
X-Robots-Tag:noindex
X-PUBLISHED-TTL:PT1H
BEGIN:VTIMEZONE
TZID:America/Chicago
BEGIN:DAYLIGHT
TZOFFSETFROM:-0600
TZOFFSETTO:-0500
TZNAME:CDT
DTSTART:20190310T080000
END:DAYLIGHT
BEGIN:STANDARD
TZOFFSETFROM:-0500
TZOFFSETTO:-0600
TZNAME:CST
DTSTART:20191103T070000
END:STANDARD
BEGIN:DAYLIGHT
TZOFFSETFROM:-0600
TZOFFSETTO:-0500
TZNAME:CDT
DTSTART:20200308T080000
END:DAYLIGHT
BEGIN:STANDARD
TZOFFSETFROM:-0500
TZOFFSETTO:-0600
TZNAME:CST
DTSTART:20201101T070000
END:STANDARD
BEGIN:DAYLIGHT
TZOFFSETFROM:-0600
TZOFFSETTO:-0500
TZNAME:CDT
DTSTART:20210314T080000
END:DAYLIGHT
BEGIN:STANDARD
TZOFFSETFROM:-0500
TZOFFSETTO:-0600
TZNAME:CST
DTSTART:20211107T070000
END:STANDARD
END:VTIMEZONE
BEGIN:VEVENT
DTSTART;TZID=America/Chicago:20200506T120000
DTEND;TZID=America/Chicago:20200506T123000
DTSTAMP:20260424T063122
CREATED:20200322T025937Z
LAST-MODIFIED:20200504T183328Z
UID:10004805-1588766400-1588768200@ogdenmuseum.org
SUMMARY:Live Art + Zen
DESCRIPTION:Experience the art of the American South with the O from home! \nEvery Wednesday at noon\, join us for a LIVE seated mindfulness meditation inspired by a work of Southern art. \nThis online meditation program is led by Ogden Museum Educator and yoga and meditation instructor\, Mikhayla Harrell! \nAll experience levels welcome. Join us for 30 minutes of Art + Zen! \nThis week\, we’ll find inspiration in the work of Entwined artist\, Kristin Meyers. \nKristin Meyers\, Charon\, 2016\, Mixed media and found objects\, Collection of the artist\, 41 x 11 x 11 inches \nNew to Zoom? \nYou do not have to have a Zoom account to attend a Zoom meeting. If you have never participated in a Zoom meeting\, you will be prompted to download the software after clicking the meeting link. You may also wish to create an account\, but it is not required to participate in a Zoom meeting. Please make sure to click the link to install the software a few minutes before the webinar is scheduled to begin to allow time for installation. \nClick to Participate
URL:https://ogdenmuseum.org/event/artandzen1-2020-04-01-2020-04-08-2020-05-06/
CATEGORIES:Live Events,Museum Meditations,Ogden Museum Online Events
ATTACH;FMTTYPE=image/png:https://ogdenmuseum.org/wp-content/uploads/2020/03/Copy-of-Copy-of-DATE-TIME-LINK-IN-BIO.png
END:VEVENT
BEGIN:VEVENT
DTSTART;TZID=America/Chicago:20200513T120000
DTEND;TZID=America/Chicago:20200513T123000
DTSTAMP:20260424T063122
CREATED:20200322T025937Z
LAST-MODIFIED:20200511T173055Z
UID:10004808-1589371200-1589373000@ogdenmuseum.org
SUMMARY:Live Art + Zen
DESCRIPTION:Experience the art of the American South with the O from home! This week\, we’re looking at Eugene A. Delcroix’s Through a Frame of Grille. \nEugene A. Delcroix\, Through a Frame of Grille \nEvery Wednesday at noon\, join us for a LIVE seated mindfulness meditation inspired by a work of Southern art. \nThis online meditation program is led by Ogden Museum Educator and yoga and meditation instructor\, Mikhayla Harrell! \nAll experience levels welcome. Join us for 30 minutes of Art + Zen! \nNew to Zoom? \nYou do not have to have a Zoom account to attend a Zoom meeting. If you have never participated in a Zoom meeting\, you will be prompted to download the software after clicking the meeting link. You may also wish to create an account\, but it is not required to participate in a Zoom meeting. Please make sure to click the link to install the software a few minutes before the webinar is scheduled to begin to allow time for installation. \nClick to Participate
URL:https://ogdenmuseum.org/event/artandzen1-2020-04-01-2020-04-08-2020-05-06-2020-05-13/
CATEGORIES:Live Events,Museum Meditations,Ogden Museum Online Events
ATTACH;FMTTYPE=image/png:https://ogdenmuseum.org/wp-content/uploads/2020/03/Copy-of-Copy-of-DATE-TIME-LINK-IN-BIO.png
END:VEVENT
BEGIN:VEVENT
DTSTART;TZID=America/Chicago:20200520T120000
DTEND;TZID=America/Chicago:20200520T123000
DTSTAMP:20260424T063122
CREATED:20200322T025937Z
LAST-MODIFIED:20200518T172151Z
UID:10004809-1589976000-1589977800@ogdenmuseum.org
SUMMARY:Live Art + Zen
DESCRIPTION:Experience the art of the American South with the O from home! Join us for a LIVE seated mindfulness meditation inspired by a work of Southern art. During this meditation\, we’ll look at this photograph by RaMell Ross\, iHome\, from the Museum’s permanent collection and featured in Revelations. \nRaMell Ross\, iHome\, 2012\, Archival pigment print\, Promised gift of the Roger H. Ogden Collection \nThis online meditation program is led by Ogden Museum Educator and yoga and meditation instructor\, Mikhayla Harrell! All experience levels welcome. Join us for 30 minutes of Art + Zen! \nNOTE: Following this session\, we are taking a short break from Art + Zen while our Education team focuses on Summer Camp. We will resume Art + Zen Wednesday\, July 8! Mark your calendars! \nNew to Zoom? \nYou do not have to have a Zoom account to attend a Zoom meeting. If you have never participated in a Zoom meeting\, you will be prompted to download the software after clicking the meeting link. You may also wish to create an account\, but it is not required to participate in a Zoom meeting. Please make sure to click the link to install the software a few minutes before the webinar is scheduled to begin to allow time for installation. \nClick to Participate
URL:https://ogdenmuseum.org/event/artandzen1-2020-04-01-2020-04-08-2020-05-06-2020-05-13-2020-05-20/
CATEGORIES:Live Events,Museum Meditations,Ogden Museum Online Events
ATTACH;FMTTYPE=image/png:https://ogdenmuseum.org/wp-content/uploads/2020/03/Copy-of-Copy-of-DATE-TIME-LINK-IN-BIO.png
END:VEVENT
END:VCALENDAR