BEGIN:VCALENDAR
VERSION:2.0
PRODID:-//Ogden Museum of Southern Art - ECPv6.15.20//NONSGML v1.0//EN
CALSCALE:GREGORIAN
METHOD:PUBLISH
X-ORIGINAL-URL:https://ogdenmuseum.org
X-WR-CALDESC:Events for Ogden Museum of Southern Art
REFRESH-INTERVAL;VALUE=DURATION:PT1H
X-Robots-Tag:noindex
X-PUBLISHED-TTL:PT1H
BEGIN:VTIMEZONE
TZID:America/Chicago
BEGIN:DAYLIGHT
TZOFFSETFROM:-0600
TZOFFSETTO:-0500
TZNAME:CDT
DTSTART:20220313T080000
END:DAYLIGHT
BEGIN:STANDARD
TZOFFSETFROM:-0500
TZOFFSETTO:-0600
TZNAME:CST
DTSTART:20221106T070000
END:STANDARD
BEGIN:DAYLIGHT
TZOFFSETFROM:-0600
TZOFFSETTO:-0500
TZNAME:CDT
DTSTART:20230312T080000
END:DAYLIGHT
BEGIN:STANDARD
TZOFFSETFROM:-0500
TZOFFSETTO:-0600
TZNAME:CST
DTSTART:20231105T070000
END:STANDARD
BEGIN:DAYLIGHT
TZOFFSETFROM:-0600
TZOFFSETTO:-0500
TZNAME:CDT
DTSTART:20240310T080000
END:DAYLIGHT
BEGIN:STANDARD
TZOFFSETFROM:-0500
TZOFFSETTO:-0600
TZNAME:CST
DTSTART:20241103T070000
END:STANDARD
END:VTIMEZONE
BEGIN:VEVENT
DTSTART;TZID=America/Chicago:20230805T110000
DTEND;TZID=America/Chicago:20230805T160000
DTSTAMP:20260421T031728
CREATED:20230717T222508Z
LAST-MODIFIED:20230719T002340Z
UID:10005298-1691233200-1691251200@ogdenmuseum.org
SUMMARY:Tour of Louisiana Contemporary\, Presented by The Helis Foundation
DESCRIPTION:Join us Saturday\, August 5 at 11 a.m. and again at 2 p.m. for a guided tour of Louisiana Contemporary\, Presented by The Helis Foundation with this year’s juror\, Aleesa Pitchamarn Alexander\, Robert M. and Ruth L. Halperin Associate Curator of Modern and Contemporary Art at the Cantor Arts Center at Stanford University. During this interactive tour\, Dr. Alexander will discuss a selection of work from the exhibition alongside artists from this year’s exhibition who will be on hand to contribute to the interactive dialog and offer further insights into their work. Different artworks will be discussed on each tour. \nRegister for 11 a.m. Tour\nRegister for 2 p.m. Tour\nLearn More About Louisiana Contemporary
URL:https://ogdenmuseum.org/event/tour-of-louisiana-contemporary-presented-by-the-helis-foundation-3/
CATEGORIES:Events for Adults,Live Events,Opening Receptions + Special Events,Openings + Receptions,Workshops + Talks
ATTACH;FMTTYPE=image/jpeg:https://ogdenmuseum.org/wp-content/uploads/2023/07/Alexander-2023-Asawa-headshot-wide-Amy-Newell.jpg
END:VEVENT
BEGIN:VEVENT
DTSTART;TZID=America/Chicago:20230810T123000
DTEND;TZID=America/Chicago:20230810T123000
DTSTAMP:20260421T031728
CREATED:20230717T215342Z
LAST-MODIFIED:20230717T220627Z
UID:10005277-1691670600-1691670600@ogdenmuseum.org
SUMMARY:Ogden Museum Meditation
DESCRIPTION:OMM is back from summer vacation and excited to activate our individual and collective well-being and love of art with another season of Ogden Museum Meditation offerings. \nThese weekly meetings occur every Thursday from 12:30 to 1 pm through December 21\, 2023 and are led by Mikhayla Harrell. Mikhayla is a seasoned yoga and meditation teacher who leans into the traditions of Mindfulness\, Vipassana and Shaivism. \nThis program is free with admission and if you are a Louisiana resident\, admission is free on Thursdays\, courtesy of The Helis Foundation. \nStay tuned for more information about our one day Urban Wellness Meditation Retreat on Sunday\, September 17\, 2023. \nRegister\n/// Image by Pixababy \n 
URL:https://ogdenmuseum.org/event/ogden-museum-meditation/
CATEGORIES:Events for Adults,Live Events,Museum Meditations
ATTACH;FMTTYPE=image/jpeg:https://ogdenmuseum.org/wp-content/uploads/2023/07/yoga-g4dd9dda37_1280-Mikhayla-Harrell.jpg
END:VEVENT
BEGIN:VEVENT
DTSTART;TZID=America/Chicago:20230817T123000
DTEND;TZID=America/Chicago:20230817T123000
DTSTAMP:20260421T031728
CREATED:20230717T221511Z
LAST-MODIFIED:20240126T201307Z
UID:10005279-1692275400-1692275400@ogdenmuseum.org
SUMMARY:Ogden Museum Meditation
DESCRIPTION:Ready to activate your individual and collective well-being and love of art through mindful meditation? Join Mikhayla Harrell every Thursday from 12:30 to 1 p.m. for Ogden Museum Meditation (OMM). Mikhayla is a seasoned yoga and meditation teacher who leans into the traditions of Mindfulness\, Vipassana and Shaivism. \nOMM is free with admission and if you are a Louisiana resident\, admission is free on Thursdays\, courtesy of The Helis Foundation. \n/// Image by Pixababy
URL:https://ogdenmuseum.org/event/ogden-museum-meditation-3/2023-08-17/
CATEGORIES:Events for Adults,Live Events,Museum Meditations
ATTACH;FMTTYPE=image/jpeg:https://ogdenmuseum.org/wp-content/uploads/2023/07/yoga-g4dd9dda37_1280-Mikhayla-Harrell.jpg
END:VEVENT
BEGIN:VEVENT
DTSTART;TZID=America/Chicago:20230817T180000
DTEND;TZID=America/Chicago:20230817T200000
DTSTAMP:20260421T031728
CREATED:20230809T021531Z
LAST-MODIFIED:20230809T023131Z
UID:10005310-1692295200-1692302400@ogdenmuseum.org
SUMMARY:Membership Sale Raffle
DESCRIPTION:All Ogden After Hours attendees on August 17 who purchase an Ogden Museum membership will be entered in a raffle to win an Ogden Museum Store basket – valued at $460! \nThe basket includes: \n\nOgden Museum logo baseball hat\nOgden Museum 20th Anniversary t-shirt\nJacqueline Bishop puzzle\nCharles Lovell\, Torn Posters\, New Orleans\, 2015\, Limited Edition Monoprint\, 11 x 14 inches\, Courtesy of the artist\nCeramic vessel by Angel Oloshove\nLouisiana Contemporary\, Presented by The Helis Foundation exhibition catalogue\nOgden Museum 20th Anniversary Fanny Pack\n2 Ogden Museum 20th Anniversary Koozies\n\nThe winner will be drawn at the end of the evening’s performance. \nLearn More About Ogden Museum Membership \nPurchase Tickets to Ogden After Hours
URL:https://ogdenmuseum.org/event/membership-sale-raffle/
CATEGORIES:Live Events,Member Events,Ogden After Hours
ATTACH;FMTTYPE=image/png:https://ogdenmuseum.org/wp-content/uploads/2023/08/Screen-Shot-2023-08-08-at-9.30.37-PM.png
END:VEVENT
BEGIN:VEVENT
DTSTART;TZID=America/Chicago:20230823T100000
DTEND;TZID=America/Chicago:20230823T183000
DTSTAMP:20260421T031728
CREATED:20230815T184321Z
LAST-MODIFIED:20230815T185233Z
UID:10005313-1692784800-1692815400@ogdenmuseum.org
SUMMARY:Ogden Museum Birthday
DESCRIPTION:Join us in celebration of Ogden Museum of Southern Art’s 20th birthday on Wednesday\, August 23! \nEnjoy free admission\, tours\, refreshments and giveaways\, plus all who visit will be entered to win a curated package of Knowing Who We Are: 20th Anniversary Exhibition merchandise. \nSpecial tours of Knowing Who We Are: A 20th Anniversary Exhibition will be offered 11 am and 3 pm\, along with complimentary O-cookies after the tour. \nCan’t make it during the day? Join us for a celebratory toast at 5:30 pm followed by a special “highlights tour” led by Bradley Sumrall\, Curator of the Collection. Space is limited for this tour\, so pre-registration is requested. \nRegister
URL:https://ogdenmuseum.org/event/ogden-museum-birthday/
CATEGORIES:Admission Specials,Events for Adults,Events for Kids,Live Events,Special Event
ATTACH;FMTTYPE=image/png:https://ogdenmuseum.org/wp-content/uploads/2023/08/Coming-Michelle-Pontiff.png
END:VEVENT
BEGIN:VEVENT
DTSTART;TZID=America/Chicago:20230824T123000
DTEND;TZID=America/Chicago:20230824T123000
DTSTAMP:20260421T031728
CREATED:20230717T221511Z
LAST-MODIFIED:20240126T201307Z
UID:10005280-1692880200-1692880200@ogdenmuseum.org
SUMMARY:Ogden Museum Meditation
DESCRIPTION:Ready to activate your individual and collective well-being and love of art through mindful meditation? Join Mikhayla Harrell every Thursday from 12:30 to 1 p.m. for Ogden Museum Meditation (OMM). Mikhayla is a seasoned yoga and meditation teacher who leans into the traditions of Mindfulness\, Vipassana and Shaivism. \nOMM is free with admission and if you are a Louisiana resident\, admission is free on Thursdays\, courtesy of The Helis Foundation. \n/// Image by Pixababy
URL:https://ogdenmuseum.org/event/ogden-museum-meditation-3/2023-08-24/
CATEGORIES:Events for Adults,Live Events,Museum Meditations
ATTACH;FMTTYPE=image/jpeg:https://ogdenmuseum.org/wp-content/uploads/2023/07/yoga-g4dd9dda37_1280-Mikhayla-Harrell.jpg
END:VEVENT
BEGIN:VEVENT
DTSTART;TZID=America/Chicago:20230831T123000
DTEND;TZID=America/Chicago:20230831T123000
DTSTAMP:20260421T031728
CREATED:20230717T221511Z
LAST-MODIFIED:20240126T201307Z
UID:10005281-1693485000-1693485000@ogdenmuseum.org
SUMMARY:Ogden Museum Meditation
DESCRIPTION:Ready to activate your individual and collective well-being and love of art through mindful meditation? Join Mikhayla Harrell every Thursday from 12:30 to 1 p.m. for Ogden Museum Meditation (OMM). Mikhayla is a seasoned yoga and meditation teacher who leans into the traditions of Mindfulness\, Vipassana and Shaivism. \nOMM is free with admission and if you are a Louisiana resident\, admission is free on Thursdays\, courtesy of The Helis Foundation. \n/// Image by Pixababy
URL:https://ogdenmuseum.org/event/ogden-museum-meditation-3/2023-08-31/
CATEGORIES:Events for Adults,Live Events,Museum Meditations
ATTACH;FMTTYPE=image/jpeg:https://ogdenmuseum.org/wp-content/uploads/2023/07/yoga-g4dd9dda37_1280-Mikhayla-Harrell.jpg
END:VEVENT
END:VCALENDAR