BEGIN:VCALENDAR
VERSION:2.0
PRODID:-//Ogden Museum of Southern Art - ECPv6.15.20//NONSGML v1.0//EN
CALSCALE:GREGORIAN
METHOD:PUBLISH
X-WR-CALNAME:Ogden Museum of Southern Art
X-ORIGINAL-URL:https://ogdenmuseum.org
X-WR-CALDESC:Events for Ogden Museum of Southern Art
REFRESH-INTERVAL;VALUE=DURATION:PT1H
X-Robots-Tag:noindex
X-PUBLISHED-TTL:PT1H
BEGIN:VTIMEZONE
TZID:America/Chicago
BEGIN:DAYLIGHT
TZOFFSETFROM:-0600
TZOFFSETTO:-0500
TZNAME:CDT
DTSTART:20210314T080000
END:DAYLIGHT
BEGIN:STANDARD
TZOFFSETFROM:-0500
TZOFFSETTO:-0600
TZNAME:CST
DTSTART:20211107T070000
END:STANDARD
BEGIN:DAYLIGHT
TZOFFSETFROM:-0600
TZOFFSETTO:-0500
TZNAME:CDT
DTSTART:20220313T080000
END:DAYLIGHT
BEGIN:STANDARD
TZOFFSETFROM:-0500
TZOFFSETTO:-0600
TZNAME:CST
DTSTART:20221106T070000
END:STANDARD
BEGIN:DAYLIGHT
TZOFFSETFROM:-0600
TZOFFSETTO:-0500
TZNAME:CDT
DTSTART:20230312T080000
END:DAYLIGHT
BEGIN:STANDARD
TZOFFSETFROM:-0500
TZOFFSETTO:-0600
TZNAME:CST
DTSTART:20231105T070000
END:STANDARD
END:VTIMEZONE
BEGIN:VEVENT
DTSTART;TZID=America/Chicago:20220519T180000
DTEND;TZID=America/Chicago:20220519T200000
DTSTAMP:20260423T203142
CREATED:20220418T144243Z
LAST-MODIFIED:20220426T143531Z
UID:10005093-1652983200-1652990400@ogdenmuseum.org
SUMMARY:A Night of Cuban Jazz with the Alexey Martí Quartet
DESCRIPTION:Enjoy a night filled with Cuban jazz at the O with the Alexey Martí Quartet!  \nWhile listening to Alexey Martí\, make sure to visit the fifth floor to view Cuban-American artist Luis Cruz Azaceta’s solo exhibition\, What a Wonderful World. \nThe CubaNOLA Arts Collective is a New Orleans community arts organization that uses the power of live music\, dance\, festivity and diversity to promote cultural wellness and equity. \nREGISTER\nABOUT ALEXEY MARTÍ \nAlexey (A-lec-sáy) was raised in the Marianao neighborhood of Havana\, Cuba where he became a jazz musician in the lineage of great Cuban jazzistas like Oscar Valdés\, Bobby Carcassés\, Chucho Valdés\, Enrique Plá\, Ernan Lopez-Nussa and countless others. He started playing tumbadoras (congas) at the age of 7\, inspired by the Afro-Cuban ceremonies celebrated in his grandparents’ home. Alexey was not only immersed in Afro-Cuban traditions as a child\, but in all forms of Cuban popular and traditional music. Naturally he was listening to and soaking up the sounds of the Cuban jazz supergroup Irakere that was creating incredible combinations of jazz with Afro-Cuban songs\, rhythms and ideas during the 1970’s and 80’s. He was also listening to all kinds of American jazz\, funk and R&B. As a teenager he began performing with the renowned Afro-Cuban jazz ensemble Diákara\, under the tutelage of the legendary Oscar Valdés\, a founding member of Irakere. \nIn 2008 Alexey moved to New Orleans furthering his formal music studies in percussion and piano at UNO and in jazz clubs across town. He was now fully immersing himself in all forms of New Orleans jazz and exploring his deep love of funk and rhythm & blues. In 2011\, Alexey founded his Latin-jazz-funk-fusion quartet Urban Minds. He has performed with New Orleans greats like Delfeayo Marsalis\, Bill Summers\, Davell Crawford\, David Torkanowsky\, Herlin Riley\, Dr. Michael White\, Wendell Brunious\, Preservation Hall Jazz Band and Jason Marsalis\, just to name a few. He’s also performed with Cuban masters visiting New Orleans including Orlando “Maraca” Valle\, Horacio “El Negro” Hernandez\, Ernan Lopéz-Nussa\, Melvis Santa\, Vanito Brown\, Renesito Avich\, Julito Padrón\, Osmany Paredes and others. Alexey enjoys many awards and accolades\, but a career highlight was opening for Chucho Valdés in November 2012 at the newly reopened Joy Theater. He has also recorded for the new television series Roots (2016) and composed films scores for the documentary films: A Leah Chase Story and Color Code (Código Color). Alexey Martí’s debut album\, Travesía\, released in 2017\, is about his musical and life voyage from his native Havana\, Cuba to his current home in New Orleans\, Louisiana. His sophomore album\, Mundo\, released in 2019\, is an homage to all of the styles of music from around the world that have influenced his sound. \n \n  \n  \n  \n  \n 
URL:https://ogdenmuseum.org/event/live-contemporary-cuban-music/
CATEGORIES:Events for Adults,Live Events,Member Events
ATTACH;FMTTYPE=image/png:https://ogdenmuseum.org/wp-content/uploads/2022/04/Web-Event-Size-67.png
END:VEVENT
END:VCALENDAR