BEGIN:VCALENDAR
VERSION:2.0
PRODID:-//Ogden Museum of Southern Art - ECPv6.15.20//NONSGML v1.0//EN
CALSCALE:GREGORIAN
METHOD:PUBLISH
X-WR-CALNAME:Ogden Museum of Southern Art
X-ORIGINAL-URL:https://ogdenmuseum.org
X-WR-CALDESC:Events for Ogden Museum of Southern Art
REFRESH-INTERVAL;VALUE=DURATION:PT1H
X-Robots-Tag:noindex
X-PUBLISHED-TTL:PT1H
BEGIN:VTIMEZONE
TZID:America/Chicago
BEGIN:DAYLIGHT
TZOFFSETFROM:-0600
TZOFFSETTO:-0500
TZNAME:CDT
DTSTART:20200308T080000
END:DAYLIGHT
BEGIN:STANDARD
TZOFFSETFROM:-0500
TZOFFSETTO:-0600
TZNAME:CST
DTSTART:20201101T070000
END:STANDARD
BEGIN:DAYLIGHT
TZOFFSETFROM:-0600
TZOFFSETTO:-0500
TZNAME:CDT
DTSTART:20210314T080000
END:DAYLIGHT
BEGIN:STANDARD
TZOFFSETFROM:-0500
TZOFFSETTO:-0600
TZNAME:CST
DTSTART:20211107T070000
END:STANDARD
BEGIN:DAYLIGHT
TZOFFSETFROM:-0600
TZOFFSETTO:-0500
TZNAME:CDT
DTSTART:20220313T080000
END:DAYLIGHT
BEGIN:STANDARD
TZOFFSETFROM:-0500
TZOFFSETTO:-0600
TZNAME:CST
DTSTART:20221106T070000
END:STANDARD
END:VTIMEZONE
BEGIN:VEVENT
DTSTART;TZID=America/Chicago:20210701T120000
DTEND;TZID=America/Chicago:20210701T123000
DTSTAMP:20260424T091558
CREATED:20210503T181320Z
LAST-MODIFIED:20210503T181320Z
UID:10004519-1625140800-1625142600@ogdenmuseum.org
SUMMARY:HEY Y’ALL ART TALK
DESCRIPTION:Hey y’all! Please join us for a deep dive exploring the richness and diversity of Southern art and artists. You’re welcome to join in participatory discussions about the art\, or sit back\, look and listen. The choice is yours! \nEvery First Thursday at noon\, Museum Educator Sara Echaniz will facilitate an in-depth conversation about art and artists from Ogden Museum’s permanent collection and current exhibitions. \nFree\, but pre-registration is required and space is limited. We limit attendance for Hey Y’all as this program involves discussion and participation that is better suited for a smaller group. Before the program begins\, registrants will receive a link to join the workshop via Zoom. \nRegister\nTHIS WEEK: We will discuss some of our favorite artworks from Ogden Museum\, such as Dusti Bonge’s Circles Penetrated (pictured). \nDusti Bonge\, Circles Penetrated\, 1952\, Oil on canvas\, Gift of the Dusti Bonge Foundation \nPRIVATE GROUP ART TALKS AVAILABLE! For pricing information\, please contact education@ogdenmuseum.org. Virtual group tours are also available. \nLearn More About Virtual Group Tours
URL:https://ogdenmuseum.org/event/hey-yall-art-talk-15/
CATEGORIES:Education Events for Adults,Events for Adults,Hey Y'all Art Talk,Live Events,Ogden Museum Online Events,Workshops + Talks
ATTACH;FMTTYPE=image/jpeg:https://ogdenmuseum.org/wp-content/uploads/2021/05/Dusti-Bonge-Circles-Penetrated-Sara-Echaniz.jpeg
END:VEVENT
BEGIN:VEVENT
DTSTART;TZID=America/Chicago:20210717T100000
DTEND;TZID=America/Chicago:20210717T130000
DTSTAMP:20260424T091558
CREATED:20210305T201646Z
LAST-MODIFIED:20210621T155416Z
UID:10004980-1626516000-1626526800@ogdenmuseum.org
SUMMARY:Artist Workshop
DESCRIPTION:IN-PERSON WORKSHOP WITH SHERRY OWENS! \nJoin us for the third workshop in a series of three sculpture workshops exploring BUILT: Sculptural Art from the Permanent Collection\, an exhibition of sculpture from the permanent collection. Each workshop includes a tour of BUILT and in-depth discussion with an artist featured in the exhibition\, followed by an art-making workshop led by the artist. \nIn this in-person workshop\, work with artist Sherry Owens to explore binding as a method to create sculptural forms. Participants will investigate ways of joining found objects through wrapping and binding with a variety of organic materials. Build a work of art that speaks to environmental issues of our time.  \nMaterials will be provided at the workshop. \n$40 members/$45 non-members \nRegistration required. After you register\, you will receive 2 emails: a virtual ticket and an email containing additional information about the workshop. If you do not receive the email\, please make sure to check your junk folder. \nRegister\n \nSherry Owens Statement: \n\n\n\nAs I reassemble twigs and branches from the crepe myrtle tree\, I am creating another form of organic chaos that is similar to natural growth processes. Inspired by observations in nature\, I construct nest-like objects with line to create both dense chaotic shapes and open drawings in space. Meeting Memory in the Dark parallels a language with nature in my work and an ongoing dialogue of man’s effect on the changing environment. \nImage: Sherry Owens\, Mother Nature Throwing Up Her Hands\, 2017\, crepe myrtle\, baling wire\, paint\, dye\, wax \nPhoto image credit: Harrison Evans
URL:https://ogdenmuseum.org/event/virtual-artist-workshop-2/
CATEGORIES:Artist Workshops,Education Events for Adults,Events for Adults,Live Events,Workshops + Talks
ATTACH;FMTTYPE=image/jpeg:https://ogdenmuseum.org/wp-content/uploads/2021/03/Mother-Nature-Throwing-Up-Her-Hands_edit.jpeg
END:VEVENT
BEGIN:VEVENT
DTSTART;TZID=America/Chicago:20210726T100000
DTEND;TZID=America/Chicago:20210726T130000
DTSTAMP:20260424T091558
CREATED:20210416T200639Z
LAST-MODIFIED:20210609T153355Z
UID:10004995-1627293600-1627304400@ogdenmuseum.org
SUMMARY:Adult Summer Camp
DESCRIPTION:This in-person\, five-day adult program (July 26 – July 30) provides opportunities to deepen artistic skills and explore new areas of expression. During the session\, Museum Educator Mikhayla Harrell will guide participants through deep art observation\, followed by art making inspired by works on view in the Museum’s galleries. Students will  draw inspiration from Built: Sculptural Art from the Permanent Collection and Preservative Force: Recent Acquisitions to the Collection. Artists investigated will include Douglas Bourgeois\, Lin Emery\, Robert Tannen\, William Dunlap\, Mel Chin and George Dureau. \nThroughout the week\, students will also explore a wide variety of 2D and 3D media and color theory\, focusing on traditional techniques like life drawing\, painting\, sculpture and collage. Students will use a range of materials from found and organic objects\, such as intertubes\, wood and cardboard to more traditional art supplies such as pencil\, paint and collage. \nRegister\n$250 members / $300 non-members. \nAll materials provided. \nTo ensure the safety of all participants and staff\, the following Covid-19 precautions will be implemented: \n– There will be a maximum of 12 participants for each session to ensure social distancing. \n-All participants and staff members are required to wear face coverings at all times. Participants must bring their own face coverings\, as face coverings will not be provided. \n-Upon arrival each participant will have a temperature with a no-touch forehead thermometer. If a reading of 100°F or higher is recorded\, the participant will not be allowed to attend camp that day. \n-The Museum maintains a rigorous cleaning schedule\, frequently sanitizing high touch areas like door handles. \n-The studio will be sanitized daily and staff will have disinfectant wipes for sanitizing high-touch areas throughout the day.
URL:https://ogdenmuseum.org/event/adult-summer-camp-2/
CATEGORIES:Education Events for Adults,Events for Adults,Live Events
ATTACH;FMTTYPE=image/jpeg:https://ogdenmuseum.org/wp-content/uploads/2021/04/adult-summer-camp-2019-a.jpeg
END:VEVENT
END:VCALENDAR