BEGIN:VCALENDAR
VERSION:2.0
PRODID:-//Ogden Museum of Southern Art - ECPv6.15.20//NONSGML v1.0//EN
CALSCALE:GREGORIAN
METHOD:PUBLISH
X-WR-CALNAME:Ogden Museum of Southern Art
X-ORIGINAL-URL:https://ogdenmuseum.org
X-WR-CALDESC:Events for Ogden Museum of Southern Art
REFRESH-INTERVAL;VALUE=DURATION:PT1H
X-Robots-Tag:noindex
X-PUBLISHED-TTL:PT1H
BEGIN:VTIMEZONE
TZID:America/Chicago
BEGIN:DAYLIGHT
TZOFFSETFROM:-0600
TZOFFSETTO:-0500
TZNAME:CDT
DTSTART:20200308T080000
END:DAYLIGHT
BEGIN:STANDARD
TZOFFSETFROM:-0500
TZOFFSETTO:-0600
TZNAME:CST
DTSTART:20201101T070000
END:STANDARD
BEGIN:DAYLIGHT
TZOFFSETFROM:-0600
TZOFFSETTO:-0500
TZNAME:CDT
DTSTART:20210314T080000
END:DAYLIGHT
BEGIN:STANDARD
TZOFFSETFROM:-0500
TZOFFSETTO:-0600
TZNAME:CST
DTSTART:20211107T070000
END:STANDARD
BEGIN:DAYLIGHT
TZOFFSETFROM:-0600
TZOFFSETTO:-0500
TZNAME:CDT
DTSTART:20220313T080000
END:DAYLIGHT
BEGIN:STANDARD
TZOFFSETFROM:-0500
TZOFFSETTO:-0600
TZNAME:CST
DTSTART:20221106T070000
END:STANDARD
END:VTIMEZONE
BEGIN:VEVENT
DTSTART;TZID=America/Chicago:20210603T120000
DTEND;TZID=America/Chicago:20210603T123000
DTSTAMP:20260424T103631
CREATED:20210503T181054Z
LAST-MODIFIED:20210601T142414Z
UID:10004514-1622721600-1622723400@ogdenmuseum.org
SUMMARY:HEY Y’ALL ART TALK
DESCRIPTION:Hey y’all! Please join us for a deep dive exploring the richness and diversity of Southern art and artists. You’re welcome to join in participatory discussions about the art\, or sit back\, look and listen. The choice is yours! \nEvery First Thursday at noon\, Museum Educator Sara Echaniz will facilitate an in-depth conversation about art and artists from Ogden Museum’s permanent collection and current exhibitions. \nFree\, but pre-registration is required and space is limited. We limit attendance for Hey Y’all as this program involves discussion and participation that is better suited for a smaller group. Before the program begins\, registrants will receive a link to join the workshop via Zoom. \nRegister\nTHIS WEEK: We’ll look at Preservative Force: Recent Acquisitions to the Collection \nBenjamin Franklin Perkins (1904 – 1993) Cherokee Love Birds\, 1989\, Acrylic on canvas\, Gift of Kevin Cole \nPRIVATE GROUP ART TALKS AVAILABLE! For pricing information\, please contact education@ogdenmuseum.org. Virtual group tours are also available. \nLearn More About Virtual Group Tours
URL:https://ogdenmuseum.org/event/hey-yall-art-talk-14/
CATEGORIES:Education Events for Adults,Events for Adults,Hey Y'all Art Talk,Live Events,Member Events,Ogden Museum Online Events,Workshops + Talks
ATTACH;FMTTYPE=image/jpeg:https://ogdenmuseum.org/wp-content/uploads/2021/04/BFPerkins_Cherokee_Love_Birds-Sara-Echaniz.jpeg
END:VEVENT
BEGIN:VEVENT
DTSTART;TZID=America/Chicago:20210619T100000
DTEND;TZID=America/Chicago:20210619T120000
DTSTAMP:20260424T103631
CREATED:20210503T180751Z
LAST-MODIFIED:20210617T131926Z
UID:10005009-1624096800-1624104000@ogdenmuseum.org
SUMMARY:In-Person Artist Workshop
DESCRIPTION:Join us for a special sculpture workshop exploring Outside In\, Improvisations of Space\, a solo exhibition of MaPó Kinnord’s work throughout the span of her career. The workshop will include a guided walk- through of the exhibition\, an in-depth discussion with Kinnord\, followed by an art-making workshop led by the artist. \nLearn how to form pinch pots using contemplative clay techniques. Participants will create sculpture work through meditation\, intuition and free-forming. \nSorry\, this workshop is full. Our next Artist Workshop exploring sculptural forms will be presented by artist Sherry Owens on Saturday\, July 17. More information and registration can be found here. \n \nOutside In\, Improvisations of Space brings together works from throughout MaPó Kinnord’s career to illustrate her practice in clay. Allowing herself to be led by the material\, she finds her greatest joy in the physical act of creation “I work with clay because I love the physical interaction with the material\,” she explains. “My current work embodies the technical challenges and creative dynamic of improvisation.” Her organic clay improvisations can be considered three-dimensional drawings in space\, and the resulting forms represent the physical evidence of that act of creation.
URL:https://ogdenmuseum.org/event/in-person-artist-workshop/
CATEGORIES:Artist Workshops,Education Events for Adults,Events for Adults,Live Events,Workshops + Talks
ATTACH;FMTTYPE=image/jpeg:https://ogdenmuseum.org/wp-content/uploads/2021/04/MaPo-and-Lin-Michelle-Pontiff.jpeg
END:VEVENT
END:VCALENDAR