BEGIN:VCALENDAR
VERSION:2.0
PRODID:-//Ogden Museum of Southern Art - ECPv6.15.20//NONSGML v1.0//EN
CALSCALE:GREGORIAN
METHOD:PUBLISH
X-ORIGINAL-URL:https://ogdenmuseum.org
X-WR-CALDESC:Events for Ogden Museum of Southern Art
REFRESH-INTERVAL;VALUE=DURATION:PT1H
X-Robots-Tag:noindex
X-PUBLISHED-TTL:PT1H
BEGIN:VTIMEZONE
TZID:America/Chicago
BEGIN:DAYLIGHT
TZOFFSETFROM:-0600
TZOFFSETTO:-0500
TZNAME:CDT
DTSTART:20190310T080000
END:DAYLIGHT
BEGIN:STANDARD
TZOFFSETFROM:-0500
TZOFFSETTO:-0600
TZNAME:CST
DTSTART:20191103T070000
END:STANDARD
BEGIN:DAYLIGHT
TZOFFSETFROM:-0600
TZOFFSETTO:-0500
TZNAME:CDT
DTSTART:20200308T080000
END:DAYLIGHT
BEGIN:STANDARD
TZOFFSETFROM:-0500
TZOFFSETTO:-0600
TZNAME:CST
DTSTART:20201101T070000
END:STANDARD
BEGIN:DAYLIGHT
TZOFFSETFROM:-0600
TZOFFSETTO:-0500
TZNAME:CDT
DTSTART:20210314T080000
END:DAYLIGHT
BEGIN:STANDARD
TZOFFSETFROM:-0500
TZOFFSETTO:-0600
TZNAME:CST
DTSTART:20211107T070000
END:STANDARD
END:VTIMEZONE
BEGIN:VEVENT
DTSTART;TZID=America/Chicago:20201104T120000
DTEND;TZID=America/Chicago:20201104T123000
DTSTAMP:20260424T200818
CREATED:20200702T202320Z
LAST-MODIFIED:20200925T203019Z
UID:10004864-1604491200-1604493000@ogdenmuseum.org
SUMMARY:Art & Zen
DESCRIPTION:Join us for 30 minutes of Art + Zen! \nEvery Wednesday at noon\, join us for a LIVE seated mindfulness meditation inspired by a work of Southern art. This online meditation program is led by Ogden Museum Educator and yoga and meditation instructor\, Mikhayla Harrell. All experience levels welcome. Registration required. \nRegistration is FREE\, but if you are able\, please consider a donation of $5 to help us continue to present creative arts programming inspired by Southern art and artists. \nA separate registration is required for each program. Before the program begins\, registrants will receive a link to join the workshop via Zoom. Registration closes 30 minutes before the program begins. \nRegister\nThis week\, we’ll find inspiration in James Hendricks’ work\, Homage to Anton Bruckner. \nJames Hendricks (1938 – 2017)\, Homage to Anton Bruckner\, 1990\, Acrylic on canvas\, Roger Houston Ogden Collection \nNew to Zoom?\nYou do not have to have a Zoom account to attend a Zoom meeting. If you have never participated in a Zoom meeting\, you will be prompted to download the software after clicking the meeting link. You may also wish to create an account\, but it is not required to participate in a Zoom meeting. Please make sure to click the link to install the software a few minutes before the webinar is scheduled to begin to allow time for installation.
URL:https://ogdenmuseum.org/event/artandzen-2020-10-07-2020-11-04/
CATEGORIES:Art and Zen,Events for Adults,Live Events,Ogden Museum Online Events
ATTACH;FMTTYPE=image/jpeg:https://ogdenmuseum.org/wp-content/uploads/2020/07/atruirm-chropped-test.jpg
END:VEVENT
BEGIN:VEVENT
DTSTART;TZID=America/Chicago:20201105T140000
DTEND;TZID=America/Chicago:20201105T143000
DTSTAMP:20260424T200818
CREATED:20200925T175645Z
LAST-MODIFIED:20200925T175645Z
UID:10004453-1604584800-1604586600@ogdenmuseum.org
SUMMARY:Hey Y'all\, Art Talk
DESCRIPTION:Hey y’all! Please join us for a deep dive exploring the richness and diversity of Southern art and artists. You’re welcome to join in participatory discussions about the art\, or sit back\, look and listen. The choice is yours! On select Thursday afternoons this fall\, museum educator Sara Echaniz will facilitate an in-depth conversation about art and artists from Ogden Museum’s permanent collection and current exhibitions. Free\, but pre-registration is required and space is limited. We limit attendance for Hey Y’all as this program involves discussion and participation that is better suited for a smaller group. Before the program begins\, registrants will receive a link to join the workshop via Zoom. \nIda Kohlmeyer\, Mythic Series #31 \, 1985\, Mixed media on canvas\, Gift of the Roger Houston Ogden Collection \nThis week: We’ll be highlighting women and abstract art from the Ogden Museum permanent collection \nRegister
URL:https://ogdenmuseum.org/event/hey-yall-art-talk-7/
CATEGORIES:Events for Adults,Live Events,Ogden Museum Online Events,Workshops + Talks
ATTACH;FMTTYPE=image/jpeg:https://ogdenmuseum.org/wp-content/uploads/2020/09/Ida-Kohlmeyer-chropped.jpg
END:VEVENT
BEGIN:VEVENT
DTSTART;TZID=America/Chicago:20201111T120000
DTEND;TZID=America/Chicago:20201111T123000
DTSTAMP:20260424T200818
CREATED:20200702T202320Z
LAST-MODIFIED:20200925T201915Z
UID:10004865-1605096000-1605097800@ogdenmuseum.org
SUMMARY:Art & Zen
DESCRIPTION:Join us for 30 minutes of Art + Zen! \nEvery Wednesday at noon\, join us for a LIVE seated mindfulness meditation inspired by a work of Southern art. This online meditation program is led by Ogden Museum Educator and yoga and meditation instructor\, Mikhayla Harrell. All experience levels welcome. Registration required. \nRegistration is FREE\, but if you are able\, please consider a donation of $5 to help us continue to present creative arts programming inspired by Southern art and artists. \nA separate registration is required for each program. Before the program begins\, registrants will receive a link to join the workshop via Zoom. Registration closes 30 minutes before the program begins. \nRegister\nThis week\, we’ll find inspiration in Herb Roe’s work\, Bramble Briar. \nHerb Roe\, Bramble Briar\, Oils on canvas \nNew to Zoom?\nYou do not have to have a Zoom account to attend a Zoom meeting. If you have never participated in a Zoom meeting\, you will be prompted to download the software after clicking the meeting link. You may also wish to create an account\, but it is not required to participate in a Zoom meeting. Please make sure to click the link to install the software a few minutes before the webinar is scheduled to begin to allow time for installation.
URL:https://ogdenmuseum.org/event/artandzen-2020-10-07-2020-11-11/
CATEGORIES:Art and Zen,Events for Adults,Live Events,Ogden Museum Online Events
ATTACH;FMTTYPE=image/jpeg:https://ogdenmuseum.org/wp-content/uploads/2020/07/Roe_chropped.jpg
END:VEVENT
BEGIN:VEVENT
DTSTART;TZID=America/Chicago:20201118T120000
DTEND;TZID=America/Chicago:20201118T123000
DTSTAMP:20260424T200818
CREATED:20200702T202320Z
LAST-MODIFIED:20201113T205424Z
UID:10004873-1605700800-1605702600@ogdenmuseum.org
SUMMARY:Art & Zen
DESCRIPTION:Join us for 30 minutes of Art + Zen! \nEvery Wednesday at noon\, join us for a LIVE seated mindfulness meditation inspired by a work of Southern art. This online meditation program is led by Ogden Museum Educator and yoga and meditation instructor\, Mikhayla Harrell. All experience levels welcome. Registration required. \nRegistration is FREE\, but if you are able\, please consider a donation of $5 to help us continue to present creative arts programming inspired by Southern art and artists. \nA separate registration is required for each program. Before the program begins\, registrants will receive a link to join the workshop via Zoom. Registration closes 30 minutes before the program begins. \nRegister\nThis week\, we’ll find inspiration in Monica Zeringue’s work\, Steady Now. \nMonica Zeringue\, Steady\, Now\, Acrylic on canvas \nNew to Zoom?\nYou do not have to have a Zoom account to attend a Zoom meeting. If you have never participated in a Zoom meeting\, you will be prompted to download the software after clicking the meeting link. You may also wish to create an account\, but it is not required to participate in a Zoom meeting. Please make sure to click the link to install the software a few minutes before the webinar is scheduled to begin to allow time for installation.
URL:https://ogdenmuseum.org/event/artandzen-2020-10-07-2020-11-18/
CATEGORIES:Art and Zen,Events for Adults,Live Events,Ogden Museum Online Events
ATTACH;FMTTYPE=image/jpeg:https://ogdenmuseum.org/wp-content/uploads/2020/07/Monica.Zeringue-Mikhayla-Harrell.jpeg
END:VEVENT
BEGIN:VEVENT
DTSTART;TZID=America/Chicago:20201119T140000
DTEND;TZID=America/Chicago:20201119T143000
DTSTAMP:20260424T200819
CREATED:20200925T181441Z
LAST-MODIFIED:20201116T194301Z
UID:10004455-1605794400-1605796200@ogdenmuseum.org
SUMMARY:Hey Y'all\, Art Talk
DESCRIPTION:Hey y’all! Please join us for a deep dive exploring the richness and diversity of Southern art and artists. You’re welcome to join in participatory discussions about the art\, or sit back\, look and listen. The choice is yours! On select Thursday afternoons this fall\, museum educator Sara Echaniz will facilitate an in-depth conversation about art and artists from Ogden Museum’s permanent collection and current exhibitions. Free\, but pre-registration is required and space is limited. We limit attendance for Hey Y’all as this program involves discussion and participation that is better suited for a smaller group. Before the program begins\, registrants will receive a link to join the workshop via Zoom. \nWill Henry Stevens (1881 – 1949)\, Untitled\, 1946\, Oil on board\, Gift of Janet Stevens McDowell\, 2001.1.154 \nThis week: landscapes and abstractions: the paintings of Will Henry Stevens \nRegister
URL:https://ogdenmuseum.org/event/hey-yall-art-talk-8/
CATEGORIES:Events for Adults,Live Events,Ogden Museum Online Events,Workshops + Talks
ATTACH;FMTTYPE=image/jpeg:https://ogdenmuseum.org/wp-content/uploads/2020/09/NMG-1901-chrooped.jpg
END:VEVENT
END:VCALENDAR