BEGIN:VCALENDAR
VERSION:2.0
PRODID:-//Ogden Museum of Southern Art - ECPv6.15.20//NONSGML v1.0//EN
CALSCALE:GREGORIAN
METHOD:PUBLISH
X-ORIGINAL-URL:https://ogdenmuseum.org
X-WR-CALDESC:Events for Ogden Museum of Southern Art
REFRESH-INTERVAL;VALUE=DURATION:PT1H
X-Robots-Tag:noindex
X-PUBLISHED-TTL:PT1H
BEGIN:VTIMEZONE
TZID:America/Chicago
BEGIN:DAYLIGHT
TZOFFSETFROM:-0600
TZOFFSETTO:-0500
TZNAME:CDT
DTSTART:20190310T080000
END:DAYLIGHT
BEGIN:STANDARD
TZOFFSETFROM:-0500
TZOFFSETTO:-0600
TZNAME:CST
DTSTART:20191103T070000
END:STANDARD
BEGIN:DAYLIGHT
TZOFFSETFROM:-0600
TZOFFSETTO:-0500
TZNAME:CDT
DTSTART:20200308T080000
END:DAYLIGHT
BEGIN:STANDARD
TZOFFSETFROM:-0500
TZOFFSETTO:-0600
TZNAME:CST
DTSTART:20201101T070000
END:STANDARD
BEGIN:DAYLIGHT
TZOFFSETFROM:-0600
TZOFFSETTO:-0500
TZNAME:CDT
DTSTART:20210314T080000
END:DAYLIGHT
BEGIN:STANDARD
TZOFFSETFROM:-0500
TZOFFSETTO:-0600
TZNAME:CST
DTSTART:20211107T070000
END:STANDARD
END:VTIMEZONE
BEGIN:VEVENT
DTSTART;TZID=America/Chicago:20201007T120000
DTEND;TZID=America/Chicago:20201007T123000
DTSTAMP:20260424T211753
CREATED:20200923T171439Z
LAST-MODIFIED:20201006T055611Z
UID:10004449-1602072000-1602073800@ogdenmuseum.org
SUMMARY:Art & Zen
DESCRIPTION:Join us for 30 minutes of Art + Zen! \nEvery Wednesday at noon\, join us for a LIVE seated mindfulness meditation inspired by a work of Southern art. This online meditation program is led by Ogden Museum Educator and yoga and meditation instructor\, Mikhayla Harrell. All experience levels welcome. Registration required. \nRegistration is FREE\, but if you are able\, please consider a donation of $5 to help us continue to present creative arts programming inspired by Southern art and artists. \nA separate registration is required for each program. Before the program begins\, registrants will receive a link to join the workshop via Zoom. Registration closes 30 minutes before the program begins. \nRegister\nThis week’s online meditation is inspired by Milly Moorhead West’s work\, Delta Morning Empty Swing. \nMilly Moorhead West\, Delta Morning Empty Swing\, 1997\, C-print\, 16″x20\, “Gift of the Roger H. Ogden Collection \nNew to Zoom?\nYou do not have to have a Zoom account to attend a Zoom meeting. If you have never participated in a Zoom meeting\, you will be prompted to download the software after clicking the meeting link. You may also wish to create an account\, but it is not required to participate in a Zoom meeting. Please make sure to click the link to install the software a few minutes before the webinar is scheduled to begin to allow time for installation.
URL:https://ogdenmuseum.org/event/art-zen/
CATEGORIES:Art and Zen,Events for Adults,Live Events,Ogden Museum Online Events
ATTACH;FMTTYPE=image/jpeg:https://ogdenmuseum.org/wp-content/uploads/2020/09/MillyLMoorhead-chropped.jpg
END:VEVENT
BEGIN:VEVENT
DTSTART;TZID=America/Chicago:20201007T180000
DTEND;TZID=America/Chicago:20201007T190000
DTSTAMP:20260424T211753
CREATED:20200904T194716Z
LAST-MODIFIED:20200915T044203Z
UID:10004878-1602093600-1602097200@ogdenmuseum.org
SUMMARY:Drawing 101:
DESCRIPTION:Every artist needs a sketchbook! In this second Drawing 101 series\, learn the ins and outs of sketching\, including how to construct your own sketchbook. Participants are encouraged to tune in each week for a new drawing exercise with Museum Educator\, Michelle Pontiff\, for an evening of stress-free\, beginner-level drawing classes designed to build your drawing skills. \nAbout this session: Learn about positive and negative space and how this informs drawing your subject. \nMaterials: Paper\, Pencil\, Eraser\nAdditional Materials: Reference object\n\nRegister\nA separate registration is required for each class. Before class begins\, registrants will receive a link to join the workshop via Zoom. Registration is FREE\, but if you are able\, please consider a donation of $10 to help us continue to present creative arts programming inspired by Southern art and artists. \nAbout Michelle Pontiff \n  \nMichelle Pontiff is the Education Coordinator at Ogden Museum at Southern Art. In her role\, she is responsible for assisting in the development and implementation of education programs and grant writing for the Education Department. Michelle manages public programs\, such as Free Family Days and Day with an Artist and facilitates school tours and art activities.
URL:https://ogdenmuseum.org/event/drawing-101-10/
CATEGORIES:Artist Workshops,Events for Adults,Live Events,Ogden Museum Online Events,Workshops + Talks
ATTACH;FMTTYPE=image/jpeg:https://ogdenmuseum.org/wp-content/uploads/2020/09/10.7-pos-and-neg-cropped.jpg
END:VEVENT
BEGIN:VEVENT
DTSTART;TZID=America/Chicago:20201008T140000
DTEND;TZID=America/Chicago:20201008T143000
DTSTAMP:20260424T211753
CREATED:20200902T162417Z
LAST-MODIFIED:20200904T150252Z
UID:10004875-1602165600-1602167400@ogdenmuseum.org
SUMMARY:Hey Y'all\, Art Talk
DESCRIPTION:Hey y’all! Please join us for a deep dive exploring the richness and diversity of Southern art and artists. You’re welcome to join in participatory discussions about the art\, or sit back\, look and listen. The choice is yours! On select Thursday afternoons this fall\, museum educator Sara Echaniz will facilitate an in-depth conversation about art and artists from Ogden Museum’s permanent collection and current exhibitions. Free\, but pre-registration is required and space is limited. We limit attendance for Hey Y’all as this program involves discussion and participation that is better suited for a smaller group. Before the program begins\, registrants will receive a link to join the workshop via Zoom. \nReverend Howard Finster\, Elvis at 3\, 1984\, Mixed media\, Gift of the Estate of Judith Alexander \nThis week: Focus on artwork created by self-taught artists in the Ogden Museum’s collection. \nRegister
URL:https://ogdenmuseum.org/event/hey-yall-art-talk-5/
CATEGORIES:Events for Adults,Live Events,Ogden Museum Online Events,Workshops + Talks
ATTACH;FMTTYPE=image/jpeg:https://ogdenmuseum.org/wp-content/uploads/2020/09/L-2003.22.1-Cropped.jpg
END:VEVENT
BEGIN:VEVENT
DTSTART;TZID=America/Chicago:20201014T120000
DTEND;TZID=America/Chicago:20201014T123000
DTSTAMP:20260424T211753
CREATED:20200702T202320Z
LAST-MODIFIED:20200923T191854Z
UID:10004857-1602676800-1602678600@ogdenmuseum.org
SUMMARY:Art & Zen
DESCRIPTION:Join us for 30 minutes of Art + Zen! \nEvery Wednesday at noon\, join us for a LIVE seated mindfulness meditation inspired by a work of Southern art. This online meditation program is led by Ogden Museum Educator and yoga and meditation instructor\, Mikhayla Harrell. All experience levels welcome. Registration required. \nRegistration is FREE\, but if you are able\, please consider a donation of $5 to help us continue to present creative arts programming inspired by Southern art and artists. \nA separate registration is required for each program. Before the program begins\, registrants will receive a link to join the workshop via Zoom. Registration closes 30 minutes before the program begins. \nRegister\nThis week\, we’ll find inspiration in Ida Kohlmeyer’s work\, Abstract in White. \nIda Kohlmeyer\, Abstract in White\, 1957\, Oil on Canvas\, 54″x42\,” Gift of the Ida & Hugh Kohlmeyer Foundation \nNew to Zoom?\nYou do not have to have a Zoom account to attend a Zoom meeting. If you have never participated in a Zoom meeting\, you will be prompted to download the software after clicking the meeting link. You may also wish to create an account\, but it is not required to participate in a Zoom meeting. Please make sure to click the link to install the software a few minutes before the webinar is scheduled to begin to allow time for installation.
URL:https://ogdenmuseum.org/event/artandzen-2020-10-07-2020-10-14/
CATEGORIES:Art and Zen,Events for Adults,Live Events,Ogden Museum Online Events
ATTACH;FMTTYPE=image/jpeg:https://ogdenmuseum.org/wp-content/uploads/2020/07/IdaKohlmeyer-cropped.jpg
END:VEVENT
BEGIN:VEVENT
DTSTART;TZID=America/Chicago:20201014T180000
DTEND;TZID=America/Chicago:20201014T190000
DTSTAMP:20260424T211753
CREATED:20200904T200604Z
LAST-MODIFIED:20200915T044330Z
UID:10004880-1602698400-1602702000@ogdenmuseum.org
SUMMARY:Drawing 101:
DESCRIPTION:Every artist needs a sketchbook! In this second Drawing 101 series\, learn the ins and outs of sketching\, including how to construct your own sketchbook. Participants are encouraged to tune in each week for a new drawing exercise with Museum Educator\, Michelle Pontiff\, for an evening of stress-free\, beginner-level drawing classes designed to build your drawing skills. \nAbout this session: Create depth in your drawings by understanding the basics of perspective. \nMaterials: Paper\, Pencil\, Eraser\nAdditional Materials: Reference object\n\nRegister\nA separate registration is required for each class. Before class begins\, registrants will receive a link to join the workshop via Zoom. Registration is FREE\, but if you are able\, please consider a donation of $10 to help us continue to present creative arts programming inspired by Southern art and artists. \nAbout Michelle Pontiff \nMichelle Pontiff is the Education Coordinator at Ogden Museum at Southern Art. In her role\, she is responsible for assisting in the development and implementation of education programs and grant writing for the Education Department. Michelle manages public programs\, such as Free Family Days and Day with an Artist and facilitates school tours and art activities.
URL:https://ogdenmuseum.org/event/drawing-101-11/
CATEGORIES:Artist Workshops,Events for Adults,Live Events,Ogden Museum Online Events,Workshops + Talks
ATTACH;FMTTYPE=image/jpeg:https://ogdenmuseum.org/wp-content/uploads/2020/09/10.14-perspective-cropped-2.jpg
END:VEVENT
BEGIN:VEVENT
DTSTART;TZID=America/Chicago:20201021T120000
DTEND;TZID=America/Chicago:20201021T123000
DTSTAMP:20260424T211753
CREATED:20200702T202320Z
LAST-MODIFIED:20200925T202046Z
UID:10004860-1603281600-1603283400@ogdenmuseum.org
SUMMARY:Art & Zen
DESCRIPTION:Join us for 30 minutes of Art + Zen! \nEvery Wednesday at noon\, join us for a LIVE seated mindfulness meditation inspired by a work of Southern art. This online meditation program is led by Ogden Museum Educator and yoga and meditation instructor\, Mikhayla Harrell. All experience levels welcome. Registration required. \nRegistration is FREE\, but if you are able\, please consider a donation of $5 to help us continue to present creative arts programming inspired by Southern art and artists. \nA separate registration is required for each program. Before the program begins\, registrants will receive a link to join the workshop via Zoom. Registration closes 30 minutes before the program begins. \nRegister\nThis week\, we’ll find inspiration in Greg Miles’ work\, Life. \nGreg Miles\, Life\, Archival pigment print \n  \nNew to Zoom?\nYou do not have to have a Zoom account to attend a Zoom meeting. If you have never participated in a Zoom meeting\, you will be prompted to download the software after clicking the meeting link. You may also wish to create an account\, but it is not required to participate in a Zoom meeting. Please make sure to click the link to install the software a few minutes before the webinar is scheduled to begin to allow time for installation.
URL:https://ogdenmuseum.org/event/artandzen-2020-10-07-2020-10-21/
CATEGORIES:Art and Zen,Events for Adults,Live Events,Ogden Museum Online Events
ATTACH;FMTTYPE=image/jpeg:https://ogdenmuseum.org/wp-content/uploads/2020/07/Miles_chropped.jpg
END:VEVENT
BEGIN:VEVENT
DTSTART;TZID=America/Chicago:20201021T180000
DTEND;TZID=America/Chicago:20201021T190000
DTSTAMP:20260424T211753
CREATED:20200904T202031Z
LAST-MODIFIED:20200915T043322Z
UID:10004882-1603303200-1603306800@ogdenmuseum.org
SUMMARY:Drawing 101:
DESCRIPTION:Every artist needs a sketchbook! In this second Drawing 101 series\, learn the ins and outs of sketching\, including how to construct your own sketchbook. Participants are encouraged to tune in each week for a new drawing exercise with Museum Educator\, Michelle Pontiff\, for an evening of stress-free\, beginner-level drawing classes designed to build your drawing skills. \nAbout this session: Draw the view from your window. \nMaterials: Paper\, Pencil\, Eraser \nRegister\nA separate registration is required for each class. Before class begins\, registrants will receive a link to join the workshop via Zoom. Registration is FREE\, but if you are able\, please consider a donation of $10 to help us continue to present creative arts programming inspired by Southern art and artists. \nAbout Michelle Pontiff \n \nMichelle Pontiff is the Education Coordinator at Ogden Museum at Southern Art. In her role\, she is responsible for assisting in the development and implementation of education programs and grant writing for the Education Department. Michelle manages public programs\, such as Free Family Days and Day with an Artist and facilitates school tours and art activities.
URL:https://ogdenmuseum.org/event/drawing-101-12/
CATEGORIES:Artist Workshops,Events for Adults,Live Events,Ogden Museum Online Events,Workshops + Talks
ATTACH;FMTTYPE=image/jpeg:https://ogdenmuseum.org/wp-content/uploads/2020/09/10.21-draw-window-cropped.jpg
END:VEVENT
BEGIN:VEVENT
DTSTART;TZID=America/Chicago:20201022T140000
DTEND;TZID=America/Chicago:20201022T143000
DTSTAMP:20260424T211753
CREATED:20200925T174111Z
LAST-MODIFIED:20200925T182833Z
UID:10004450-1603375200-1603377000@ogdenmuseum.org
SUMMARY:Hey Y'all\, Art Talk
DESCRIPTION:Hey y’all! Please join us for a deep dive exploring the richness and diversity of Southern art and artists. You’re welcome to join in participatory discussions about the art\, or sit back\, look and listen. The choice is yours! On select Thursday afternoons this fall\, museum educator Sara Echaniz will facilitate an in-depth conversation about art and artists from Ogden Museum’s permanent collection and current exhibitions. Free\, but pre-registration is required and space is limited. We limit attendance for Hey Y’all as this program involves discussion and participation that is better suited for a smaller group. Before the program begins\, registrants will receive a link to join the workshop via Zoom. \nLulu King Saxon\, Uptown Street\, 1890\, Oil on canvas\, Gift of the Roger H. Ogden Collection \nThis week: We’ll be highlighting some of our favorite artworks at the Ogden Museum \nRegister
URL:https://ogdenmuseum.org/event/hey-yall-art-talk-6/
CATEGORIES:Events for Adults,Live Events,Ogden Museum Online Events,Workshops + Talks
ATTACH;FMTTYPE=image/jpeg:https://ogdenmuseum.org/wp-content/uploads/2020/09/Lulu-King-Saxon-chropped.jpg
END:VEVENT
BEGIN:VEVENT
DTSTART;TZID=America/Chicago:20201028T120000
DTEND;TZID=America/Chicago:20201028T123000
DTSTAMP:20260424T211753
CREATED:20200702T202320Z
LAST-MODIFIED:20201026T154259Z
UID:10004861-1603886400-1603888200@ogdenmuseum.org
SUMMARY:Art & Zen
DESCRIPTION:Join us for 30 minutes of Art + Zen! \nEvery Wednesday at noon\, join us for a LIVE seated mindfulness meditation inspired by a work of Southern art. This online meditation program is led by Ogden Museum Educator and yoga and meditation instructor\, Mikhayla Harrell. All experience levels welcome. Registration required. \nRegistration is FREE\, but if you are able\, please consider a donation of $5 to help us continue to present creative arts programming inspired by Southern art and artists. \nA separate registration is required for each program. Before the program begins\, registrants will receive a link to join the workshop via Zoom. Registration closes 30 minutes before the program begins. \nRegister\nThis week\, we’ll find inspiration in Noamy Sechooler’s work\, Home is Sacred\, Second Line for Reparations and Housing Rights/Solidarity. We will also have a special guest this week\, Harpinder Kaur Mann\, who will be teaching at the Ogden Museum Virtual Wellness Summit on Saturday\, November\, 7. \n  \n \nHarpinder Kaur Mann (she/her) is a Sikh-Buddhist Punjabi-American yoga and meditation teacher currently living in New Orleans. She is motivated to increase access and create spaces for black\, indigenous\, queer and people of color to come together and heal in ways that inspire holistic wellness and culturally inclusive informed healing. Outside of her transformative healing work\, she is also the co-founder of the Womxn of Color Summit. \nNoamy Sechooler\, Home is Sacred\, Second Line for Reparations and Housing Rights/Solidarity\, Oil on canvas \nNew to Zoom?\nYou do not have to have a Zoom account to attend a Zoom meeting. If you have never participated in a Zoom meeting\, you will be prompted to download the software after clicking the meeting link. You may also wish to create an account\, but it is not required to participate in a Zoom meeting. Please make sure to click the link to install the software a few minutes before the webinar is scheduled to begin to allow time for installation.
URL:https://ogdenmuseum.org/event/artandzen-2020-10-07-2020-10-28/
CATEGORIES:Art and Zen,Events for Adults,Live Events,Ogden Museum Online Events
ATTACH;FMTTYPE=image/jpeg:https://ogdenmuseum.org/wp-content/uploads/2020/07/Sechooler_chropped.jpg
END:VEVENT
END:VCALENDAR