BEGIN:VCALENDAR
VERSION:2.0
PRODID:-//Ogden Museum of Southern Art - ECPv6.15.20//NONSGML v1.0//EN
CALSCALE:GREGORIAN
METHOD:PUBLISH
X-WR-CALNAME:Ogden Museum of Southern Art
X-ORIGINAL-URL:https://ogdenmuseum.org
X-WR-CALDESC:Events for Ogden Museum of Southern Art
REFRESH-INTERVAL;VALUE=DURATION:PT1H
X-Robots-Tag:noindex
X-PUBLISHED-TTL:PT1H
BEGIN:VTIMEZONE
TZID:America/Chicago
BEGIN:DAYLIGHT
TZOFFSETFROM:-0600
TZOFFSETTO:-0500
TZNAME:CDT
DTSTART:20190310T080000
END:DAYLIGHT
BEGIN:STANDARD
TZOFFSETFROM:-0500
TZOFFSETTO:-0600
TZNAME:CST
DTSTART:20191103T070000
END:STANDARD
BEGIN:DAYLIGHT
TZOFFSETFROM:-0600
TZOFFSETTO:-0500
TZNAME:CDT
DTSTART:20200308T080000
END:DAYLIGHT
BEGIN:STANDARD
TZOFFSETFROM:-0500
TZOFFSETTO:-0600
TZNAME:CST
DTSTART:20201101T070000
END:STANDARD
BEGIN:DAYLIGHT
TZOFFSETFROM:-0600
TZOFFSETTO:-0500
TZNAME:CDT
DTSTART:20210314T080000
END:DAYLIGHT
BEGIN:STANDARD
TZOFFSETFROM:-0500
TZOFFSETTO:-0600
TZNAME:CST
DTSTART:20211107T070000
END:STANDARD
END:VTIMEZONE
BEGIN:VEVENT
DTSTART;TZID=America/Chicago:20200401T120000
DTEND;TZID=America/Chicago:20200401T123000
DTSTAMP:20260425T054951
CREATED:20200322T025937Z
LAST-MODIFIED:20200401T164355Z
UID:10004778-1585742400-1585744200@ogdenmuseum.org
SUMMARY:Live Art + Zen
DESCRIPTION:Experience the art of the American South with the O from home! \nEvery Wednesday at noon\, join us for a LIVE seated mindfulness meditation inspired by a work of Southern art. This week we’ll take a look at the work of Eugene Martin\, an artist featured in What Music is Within. \nThis online meditation program is led by Ogden Museum Educator and yoga and meditation instructor\, Mikhayla Harrell! \nAll experience levels welcome. Join us for 30 minutes of Art + Zen! \nNew to Zoom? \nYou do not have to have a Zoom account to attend a Zoom meeting. If you have never participated in a Zoom meeting\, you will be prompted to download the software after clicking the meeting link. You may also wish to create an account\, but it is not required to participate in a Zoom meeting. Please make sure to click the link to install the software a few minutes before the webinar is scheduled to begin to allow time for installation. \nParticipate
URL:https://ogdenmuseum.org/event/artandzen1-2020-04-01/
CATEGORIES:Live Events,Museum Meditations,Ogden Museum Online Events,Workshops + Talks
ATTACH;FMTTYPE=image/png:https://ogdenmuseum.org/wp-content/uploads/2020/03/Copy-of-Copy-of-DATE-TIME-LINK-IN-BIO.png
END:VEVENT
BEGIN:VEVENT
DTSTART;TZID=America/Chicago:20200404T130000
DTEND;TZID=America/Chicago:20200404T150000
DTSTAMP:20260425T054951
CREATED:20200322T034532Z
LAST-MODIFIED:20200403T203209Z
UID:10004819-1586005200-1586012400@ogdenmuseum.org
SUMMARY:Live Online Teen Art-Making Session
DESCRIPTION:The O is bringing the art of the American South to you! \nEach Saturday at 1 p.m.\, join us for a LIVE teen hang-out and art-making session based on work currently on exhibition at the Ogden Museum. \nThis week\, we’ll be exploring the work of Sarah Zapata from the Entwined exhibition. \nSupplies: \n\n\nScissors \n\n\nYarn\, string\, floss \n\n\nOld clothes you can cut up \n\n\nRubber bands \n\n\nAny type of string laying around \n\n\nA plastic or paper cup or bowl \n\n\nAl large nail or something to poke holes through the cardboard with (scissor point can work) \n\n\nSpend time connecting with other teens and making your own masterpiece! \nPlease make sure to check out our Teen Docent Program! \nNew to Zoom? \nYou do not have to have a Zoom account to attend a Zoom meeting. If you have never participated in a Zoom meeting\, you will be prompted to download the software after clicking the meeting link. You may also wish to create an account\, but it is not required to participate in a Zoom meeting. Please make sure to click the link to install the software a few minutes before the webinar is scheduled to begin to allow time for installation. \nClick to Join\n 
URL:https://ogdenmuseum.org/event/online-teen-art-making-session/
CATEGORIES:Live Events,Ogden Museum Online Events,Online Teens Events
ATTACH;FMTTYPE=image/png:https://ogdenmuseum.org/wp-content/uploads/2020/03/Teen-Art-making-Session-1.png
END:VEVENT
BEGIN:VEVENT
DTSTART;TZID=America/Chicago:20200408T120000
DTEND;TZID=America/Chicago:20200408T123000
DTSTAMP:20260425T054951
CREATED:20200322T025937Z
LAST-MODIFIED:20200407T194017Z
UID:10004779-1586347200-1586349000@ogdenmuseum.org
SUMMARY:Live Art + Zen
DESCRIPTION:Experience the art of the American South with the O from home! \nEvery Wednesday at noon\, join us for a LIVE seated mindfulness meditation inspired by a work of Southern art. \nThis online meditation program is led by Ogden Museum Educator and yoga and meditation instructor\, Mikhayla Harrell! \nAll experience levels welcome. Join us for 30 minutes of Art + Zen! \nThis week\, we’re looking at Susan Jamison’s Above the Pack from the exhibition\, Entwined. \nSusan Jamison\, Above the Pack\, Egg tempera on panel\, Collection of the artist \nNew to Zoom? \nYou do not have to have a Zoom account to attend a Zoom meeting. If you have never participated in a Zoom meeting\, you will be prompted to download the software after clicking the meeting link. You may also wish to create an account\, but it is not required to participate in a Zoom meeting. Please make sure to click the link to install the software a few minutes before the webinar is scheduled to begin to allow time for installation. \nParticipate
URL:https://ogdenmuseum.org/event/artandzen1-2020-04-01-2020-04-08/
CATEGORIES:Live Events,Museum Meditations,Ogden Museum Online Events
ATTACH;FMTTYPE=image/png:https://ogdenmuseum.org/wp-content/uploads/2020/03/Copy-of-Copy-of-DATE-TIME-LINK-IN-BIO.png
END:VEVENT
BEGIN:VEVENT
DTSTART;TZID=America/Chicago:20200409T140000
DTEND;TZID=America/Chicago:20200409T150000
DTSTAMP:20260425T054951
CREATED:20200330T032554Z
LAST-MODIFIED:20200407T194433Z
UID:10004382-1586440800-1586444400@ogdenmuseum.org
SUMMARY:Live Art Challenge
DESCRIPTION:Experience the Art of the American South with the O from home! \nEvery other Thursday\, from 2 – 3 p.m.\, join us for a LIVE Art Challenge inspired by a work of Southern art. Use everyday household items to create your own masterpiece! \nFor our first challenge\, we will be examining the art of Entwined artist\, Ed Williford\, and learn how to cast organic objects. \nEd Williford\, Continuous Knot with Surface Articulation\, 2019\, Fabric\, paper\, wire\, thread\, glue\, pigment\, Collection of the artist \nHere’s what you’ll need: \n\nCardboard and paper (grocery bags\, newspaper\, old copy paper\, package boxes\, phone books\, etc.)\nWhite glue or modge podge\nFlour\nWater\nLarge flat bucket or pan\n1-2” brushes\nOld nails\, screws or any other rusted old nick nacks\nLarge covered workspace\nA large piece of cardboard to work on\nTea towels for drying area\nTwisty ties\, bailing wire or any other type of leftover household wire you can use to wrap and bind your objects\n\nThis live class is led by Ogden Museum Educator\, Mikhayla Harrell. Ages 18 and up. All experience levels welcome. \nNew to Zoom? \nYou do not have to have a Zoom account to attend a Zoom event. If you have never participated in a Zoom event\, you will be prompted to download the software after clicking the event link. You may also wish to create an account\, but it is not required to participate in a Zoom event. Please make sure to click the link to install the software a few minutes before the webinar is scheduled to begin to allow time for installation. \nClick to Participate
URL:https://ogdenmuseum.org/event/art-challenge/
CATEGORIES:Artist Workshops,Live Events,Ogden Museum Online Events,Workshops + Talks
ATTACH;FMTTYPE=image/png:https://ogdenmuseum.org/wp-content/uploads/2020/03/1-2.png
END:VEVENT
BEGIN:VEVENT
DTSTART;TZID=America/Chicago:20200411T130000
DTEND;TZID=America/Chicago:20200411T150000
DTSTAMP:20260425T054951
CREATED:20200322T034532Z
LAST-MODIFIED:20200407T194618Z
UID:10004368-1586610000-1586617200@ogdenmuseum.org
SUMMARY:Live Online Teen Art-Making Session
DESCRIPTION:The O is bringing the art of the American South to you! \nEach Saturday at 1 p.m.\, join us for a LIVE teen hang-out and art-making session based on work currently on exhibition at the Ogden Museum. This week\, we’ll find inspiration in the work of Revelations photographer\, Brandon Thibodeaux. \nBrandon Thibodeaux\, Sno Balls and Ice Cream\, Duncan\, MS\, 2015\, Silver gelatin selenium toned print\, Gift of the artist\, 2018.4.1 \nSpend time connecting with other teens and making your own masterpiece! \nPlease make sure to check out our Teen Docent Program! \nNew to Zoom? \nYou do not have to have a Zoom account to attend a Zoom meeting. If you have never participated in a Zoom meeting\, you will be prompted to download the software after clicking the meeting link. You may also wish to create an account\, but it is not required to participate in a Zoom meeting. Please make sure to click the link to install the software a few minutes before the webinar is scheduled to begin to allow time for installation. \nClick to Join\n 
URL:https://ogdenmuseum.org/event/online-teen-art-making-session-2020-04-10/
CATEGORIES:Live Events,Ogden Museum Online Events,Online Teens Events
ATTACH;FMTTYPE=image/png:https://ogdenmuseum.org/wp-content/uploads/2020/03/Teen-Art-making-Session-1.png
END:VEVENT
BEGIN:VEVENT
DTSTART;TZID=America/Chicago:20200415T120000
DTEND;TZID=America/Chicago:20200415T123000
DTSTAMP:20260425T054951
CREATED:20200322T025937Z
LAST-MODIFIED:20200413T015027Z
UID:10004780-1586952000-1586953800@ogdenmuseum.org
SUMMARY:Live Art + Zen
DESCRIPTION:Experience the art of the American South with the O from home! \nEvery Wednesday at noon\, join us for a LIVE seated mindfulness meditation inspired by a work of Southern art. This week we’ll be exploring a work by Ed Williford from the exhibition\, Entwined. \nEd Williford\, Continuous Knot with Surface Articulation\, 2019 Fabric\, paper\, wire\, thread\, glue\, pigment\, Collection of the artist \nThis online meditation program is led by Ogden Museum Educator and yoga and meditation instructor\, Mikhayla Harrell! \nAll experience levels welcome. Join us for 30 minutes of Art + Zen! \nNew to Zoom? \nYou do not have to have a Zoom account to attend a Zoom meeting. If you have never participated in a Zoom meeting\, you will be prompted to download the software after clicking the meeting link. You may also wish to create an account\, but it is not required to participate in a Zoom meeting. Please make sure to click the link to install the software a few minutes before the webinar is scheduled to begin to allow time for installation. \nParticipate
URL:https://ogdenmuseum.org/event/artandzen1-2020-04-01-2020-04-08-2020-04-15/
CATEGORIES:Live Events,Museum Meditations,Ogden Museum Online Events
ATTACH;FMTTYPE=image/png:https://ogdenmuseum.org/wp-content/uploads/2020/03/Copy-of-Copy-of-DATE-TIME-LINK-IN-BIO.png
END:VEVENT
BEGIN:VEVENT
DTSTART;TZID=America/Chicago:20200418T130000
DTEND;TZID=America/Chicago:20200418T150000
DTSTAMP:20260425T054951
CREATED:20200322T034532Z
LAST-MODIFIED:20200417T224833Z
UID:10004369-1587214800-1587222000@ogdenmuseum.org
SUMMARY:Live Online Teen Art-Making Session
DESCRIPTION:The O is bringing the art of the American South to you! \nEach Saturday at 1 p.m.\, join us for a LIVE teen hang-out and art-making session based on work currently on exhibition at the Ogden Museum. \nThis week\, we will be exploring the work of Entwined artist\, Kristin Meyers. \nMaterials needed are scissors\, yarn\, string\, floss\, old clothes you can cut up\, a glue gun (optional) and a collection of assorted found objects such as wood\, metal\, plastic or old toys. \nSpend time connecting with other teens and making your own masterpiece! \nPlease make sure to check out our Teen Docent Program! \nNew to Zoom? \nYou do not have to have a Zoom account to attend a Zoom meeting. If you have never participated in a Zoom meeting\, you will be prompted to download the software after clicking the meeting link. You may also wish to create an account\, but it is not required to participate in a Zoom meeting. Please make sure to click the link to install the software a few minutes before the webinar is scheduled to begin to allow time for installation. \nClick to Join\n 
URL:https://ogdenmuseum.org/event/online-teen-art-making-session-2020-04-10-2020-04-18/
CATEGORIES:Live Events,Ogden Museum Online Events,Online Teens Events
ATTACH;FMTTYPE=image/png:https://ogdenmuseum.org/wp-content/uploads/2020/03/Teen-Art-making-Session-1.png
END:VEVENT
BEGIN:VEVENT
DTSTART;TZID=America/Chicago:20200422T120000
DTEND;TZID=America/Chicago:20200422T123000
DTSTAMP:20260425T054951
CREATED:20200322T025937Z
LAST-MODIFIED:20200422T130236Z
UID:10004802-1587556800-1587558600@ogdenmuseum.org
SUMMARY:Live Art + Zen
DESCRIPTION:Experience the art of the American South with the O from home! \nEvery Wednesday at noon\, join us for a LIVE seated mindfulness meditation inspired by a work of Southern art. This week we’ll be exploring the work of Alexander John Drysdale. \nAlexander John Drysdale\, Sunlit Morning\, June Roses\, City Park\, 1920\, Oil on canvas\, Gift of the Roger Houston Ogden Collection \n  \n  \n  \n  \n  \n  \n  \n  \nThis online meditation program is led by Ogden Museum Educator and yoga and meditation instructor\, Mikhayla Harrell! \nAll experience levels welcome. Join us for 30 minutes of Art + Zen! \nNew to Zoom? \nYou do not have to have a Zoom account to attend a Zoom meeting. If you have never participated in a Zoom meeting\, you will be prompted to download the software after clicking the meeting link. You may also wish to create an account\, but it is not required to participate in a Zoom meeting. Please make sure to click the link to install the software a few minutes before the webinar is scheduled to begin to allow time for installation. \nClick to Participate
URL:https://ogdenmuseum.org/event/artandzen1-2020-04-01-2020-04-08-2020-04-22/
CATEGORIES:Live Events,Museum Meditations,Ogden Museum Online Events
ATTACH;FMTTYPE=image/png:https://ogdenmuseum.org/wp-content/uploads/2020/03/Copy-of-Copy-of-DATE-TIME-LINK-IN-BIO.png
END:VEVENT
BEGIN:VEVENT
DTSTART;TZID=America/Chicago:20200423T140000
DTEND;TZID=America/Chicago:20200423T150000
DTSTAMP:20260425T054951
CREATED:20200330T032554Z
LAST-MODIFIED:20200423T190106Z
UID:10004818-1587650400-1587654000@ogdenmuseum.org
SUMMARY:Live Art Challenge
DESCRIPTION:Experience the Art of the American South with the O from home! \nEvery other Thursday\, from 2 – 3 p.m.\, join us for a LIVE Art Challenge inspired by a work of Southern art. Use everyday household items to create your own masterpiece! \nThis live class is led by Ogden Museum Educator\, Mikhayla Harrell. Ages 18 and up. All experience levels welcome. \nThis week\, we’re looking at the work of Entwined artist\, Sarah Zapata! \nSarah Zapata\, A Little Domestic Waste IV\, 2017\, Natural and synthetic fiber\, hand-woven fabric\, steel\, cement\, coiled rope\, Collection of the artist \nSupplies: \n\n\nScissors \n\n\nYarn\, string\, floss \n\n\nOld clothes you can cut up \n\n\nAny type of string laying around \n\n\nA plastic or paper cup or bowl \n\n\nA large nail or something to poke holes through the cardboard with (scissor point or sharp pencil can work) \n\n\nOld plastic bags \n\n\nA paper or plastic plate\, cup or bowl \n\n\nNew to Zoom? \nYou do not have to have a Zoom account to attend a Zoom event. If you have never participated in a Zoom event\, you will be prompted to download the software after clicking the event link. You may also wish to create an account\, but it is not required to participate in a Zoom event. Please make sure to click the link to install the software a few minutes before the webinar is scheduled to begin to allow time for installation. \nJoin!
URL:https://ogdenmuseum.org/event/art-challenge-2020-04-23/
CATEGORIES:Artist Workshops,Live Events,Ogden Museum Online Events,Workshops + Talks
ATTACH;FMTTYPE=image/png:https://ogdenmuseum.org/wp-content/uploads/2020/03/1-2.png
END:VEVENT
BEGIN:VEVENT
DTSTART;TZID=America/Chicago:20200425T130000
DTEND;TZID=America/Chicago:20200425T150000
DTSTAMP:20260425T054951
CREATED:20200322T034532Z
LAST-MODIFIED:20200421T014943Z
UID:10004370-1587819600-1587826800@ogdenmuseum.org
SUMMARY:Live Online Teen Art-Making Session
DESCRIPTION:The O is bringing the art of the American South to you! \nEach Saturday at 1 p.m.\, join us for a LIVE teen hang-out and art-making session based on work currently on exhibition at the Ogden Museum. \nSpend time connecting with other teens and making your own masterpiece! \nThis week\, we’re looking at Uptown Street by Lulu King Saxon. \nLulu King Saxon\, Uptown Street\, 1890\, Oil on canvas\, Gift of the Roger Houston Ogden Collection \nSupplies: \n\nLarge sheet of drawing paper and a few sheets of scrap regular letter size paper\npencil and eraser\nruler\ncolored pencils or chalk pastels or oil pastels or acrylic/tempera paint or markers\nClear and clean drawing surface\nPaper towel or tissue\n\nPlease make sure to check out our Teen Docent Program! \nNew to Zoom? \nYou do not have to have a Zoom account to attend a Zoom meeting. If you have never participated in a Zoom meeting\, you will be prompted to download the software after clicking the meeting link. You may also wish to create an account\, but it is not required to participate in a Zoom meeting. Please make sure to click the link to install the software a few minutes before the webinar is scheduled to begin to allow time for installation. \nClick to Join\n 
URL:https://ogdenmuseum.org/event/online-teen-art-making-session-2020-04-10-2020-04-18-2020-04-25/
CATEGORIES:Live Events,Ogden Museum Online Events,Online Teens Events
ATTACH;FMTTYPE=image/png:https://ogdenmuseum.org/wp-content/uploads/2020/03/Teen-Art-making-Session-1.png
END:VEVENT
BEGIN:VEVENT
DTSTART;TZID=America/Chicago:20200429T120000
DTEND;TZID=America/Chicago:20200429T123000
DTSTAMP:20260425T054951
CREATED:20200322T025937Z
LAST-MODIFIED:20200427T033412Z
UID:10004804-1588161600-1588163400@ogdenmuseum.org
SUMMARY:Live Art + Zen
DESCRIPTION:Experience the art of the American South with the O from home! \nEvery Wednesday at noon\, join us for a LIVE seated mindfulness meditation inspired by a work of Southern art. \nThis week\, we’ll look at the work of MaPo Kinnord. \nMaPo Kinnord\, Stormy\, 2015\, Stoneware and acrylic paint \nThis online meditation program is led by Ogden Museum Educator and yoga and meditation instructor\, Mikhayla Harrell! \nAll experience levels welcome. Join us for 30 minutes of Art + Zen! \nNew to Zoom? \nYou do not have to have a Zoom account to attend a Zoom meeting. If you have never participated in a Zoom meeting\, you will be prompted to download the software after clicking the meeting link. You may also wish to create an account\, but it is not required to participate in a Zoom meeting. Please make sure to click the link to install the software a few minutes before the webinar is scheduled to begin to allow time for installation. \nClick to Participate
URL:https://ogdenmuseum.org/event/artandzen1-2020-04-01-2020-04-08-2020-04-29/
CATEGORIES:Live Events,Museum Meditations,Ogden Museum Online Events
ATTACH;FMTTYPE=image/png:https://ogdenmuseum.org/wp-content/uploads/2020/03/Copy-of-Copy-of-DATE-TIME-LINK-IN-BIO.png
END:VEVENT
END:VCALENDAR