BEGIN:VCALENDAR
VERSION:2.0
PRODID:-//Ogden Museum of Southern Art - ECPv6.15.20//NONSGML v1.0//EN
CALSCALE:GREGORIAN
METHOD:PUBLISH
X-WR-CALNAME:Ogden Museum of Southern Art
X-ORIGINAL-URL:https://ogdenmuseum.org
X-WR-CALDESC:Events for Ogden Museum of Southern Art
REFRESH-INTERVAL;VALUE=DURATION:PT1H
X-Robots-Tag:noindex
X-PUBLISHED-TTL:PT1H
BEGIN:VTIMEZONE
TZID:America/Chicago
BEGIN:DAYLIGHT
TZOFFSETFROM:-0600
TZOFFSETTO:-0500
TZNAME:CDT
DTSTART:20210314T080000
END:DAYLIGHT
BEGIN:STANDARD
TZOFFSETFROM:-0500
TZOFFSETTO:-0600
TZNAME:CST
DTSTART:20211107T070000
END:STANDARD
BEGIN:DAYLIGHT
TZOFFSETFROM:-0600
TZOFFSETTO:-0500
TZNAME:CDT
DTSTART:20220313T080000
END:DAYLIGHT
BEGIN:STANDARD
TZOFFSETFROM:-0500
TZOFFSETTO:-0600
TZNAME:CST
DTSTART:20221106T070000
END:STANDARD
BEGIN:DAYLIGHT
TZOFFSETFROM:-0600
TZOFFSETTO:-0500
TZNAME:CDT
DTSTART:20230312T080000
END:DAYLIGHT
BEGIN:STANDARD
TZOFFSETFROM:-0500
TZOFFSETTO:-0600
TZNAME:CST
DTSTART:20231105T070000
END:STANDARD
END:VTIMEZONE
BEGIN:VEVENT
DTSTART;TZID=America/Chicago:20221203T100000
DTEND;TZID=America/Chicago:20221203T170000
DTSTAMP:20260423T180314
CREATED:20221104T203935Z
LAST-MODIFIED:20221129T171729Z
UID:10004640-1670061600-1670086800@ogdenmuseum.org
SUMMARY:HOLIDAY MARKET 2022
DESCRIPTION:Shop this year’s Holiday Market on Saturday\, December 3rd\, from 10:00 a.m. to 5:00 p.m.\, and find the perfect gift for a loved one.  \nWhile you shop\, enjoy live music by Teena May Nola + Rocky\, grab a bite to eat while you browse with Little Kitchen Nola and watch Live Painting by Tyrell Shaw.  \n2022 Holiday Market Artisans: \n\nAdie Morton Art – Resin art\, insect shadow boxes\, prints\, and paintings.\nBy Our Hands Wellness – Herbal teas and crochet items.\nChubbs Made Leather – Leather wizard.\nCoralie Jewelry – Unique jewelry that repurposes found items including sheet music\, postage stamps\, cards and maps.\nCrazy Plant Bae –  Expand your passion for plants\, products and knowledge.\nOnce Around The Kitchen – Jams\, Jellies\, and Hot Sauces that prioritize accessibility through packaged goods from Once Around the Kitchen.\nEarth Reverie – Handmade earth-based accessories.\nExotica Apparel – Paintings\, crochet and handmade items.\nGrey Bird Baking Co. – Lavish desserts made with love.\nInhabit Oyster Candles – Locally grown and hand-poured soy oyster candles.\nJacob Reptile – Jacob Reptile is a native New Orleanian\, multi-media artist who specializes in fiber arts. His personal artwork focuses on larger-than-life creatures and interactive curious objects.\nJennifer Waller\nLasalle & Jackson™ – Subtropical Soul Handmade in New Orleans.\nLily Fein – Sculptural vessels that represent the body and movement.\nMaddie Stratton – New Orleans-based painter and creator of Art History Coloring Books.\nMadonna Lily – A women-owned company based in New Orleans\, Louisiana\, that offers all natural body care and skincare handcrafted in small batches.\nOxalis Apothecary – 100% Natural Skincare –  from Plant-To-Body. Hyper-clean\, effective\, approachable plant and mineral based products for everyday rituals.\nPyramids & Rainbows – Colorful paintings and prints.\nBreathe Enlight  – Helping women realize their worth and embrace their light through body care products.\nShop Mad Radd – Upcycled Denim + Secondhand & Vintage pieces.\nSimply Shenelle – Fragrances Made in NOLA spreading love and light.\nStatement Goods/The Collective Shop – Operated by artists Toni and Alysia who share a passion for art\, stationary and handmade goods.\nSwiet Stuff – A wearable art studio focusing on #artWORK and empowARTment opportunities in communities around the world.\nThe Black Swan Ministries – Birth Chart readings\, Love readings\, channeled messages\, and more.\nVenus the Seam Ripper – handsewn hair pieces including colorful bonnets\, scrunchies\, and bows.\n\nTo make this year’s Holiday Market even more special\, Ogden Museum Members will receive 20% off all in-store purchases. \nNot an Ogden Museum Member? Join today! Ogden Museum members experience the art and culture of the American South through exclusive member privileges including unlimited free admission\, private exhibition previews\, discounted admission tickets for guests\, discounts at the Ogden Museum Store and so much more! \nJoin Today
URL:https://ogdenmuseum.org/event/holiday-market-2022/
LOCATION:Ogden Museum of Southern Art\, 925 Camp Street\, New Orleans\, 70130\, United States
CATEGORIES:Holiday Shopping,Special Event
ATTACH;FMTTYPE=image/png:https://ogdenmuseum.org/wp-content/uploads/2022/11/Ogden-Holiday-Market.png
GEO:29.9436584;-90.0713102
X-APPLE-STRUCTURED-LOCATION;VALUE=URI;X-ADDRESS=Ogden Museum of Southern Art 925 Camp Street New Orleans 70130 United States;X-APPLE-RADIUS=500;X-TITLE=925 Camp Street:geo:-90.0713102,29.9436584
END:VEVENT
END:VCALENDAR