BEGIN:VCALENDAR
VERSION:2.0
PRODID:-//Ogden Museum of Southern Art - ECPv6.15.20//NONSGML v1.0//EN
CALSCALE:GREGORIAN
METHOD:PUBLISH
X-ORIGINAL-URL:https://ogdenmuseum.org
X-WR-CALDESC:Events for Ogden Museum of Southern Art
REFRESH-INTERVAL;VALUE=DURATION:PT1H
X-Robots-Tag:noindex
X-PUBLISHED-TTL:PT1H
BEGIN:VTIMEZONE
TZID:America/Chicago
BEGIN:DAYLIGHT
TZOFFSETFROM:-0600
TZOFFSETTO:-0500
TZNAME:CDT
DTSTART:20200308T080000
END:DAYLIGHT
BEGIN:STANDARD
TZOFFSETFROM:-0500
TZOFFSETTO:-0600
TZNAME:CST
DTSTART:20201101T070000
END:STANDARD
BEGIN:DAYLIGHT
TZOFFSETFROM:-0600
TZOFFSETTO:-0500
TZNAME:CDT
DTSTART:20210314T080000
END:DAYLIGHT
BEGIN:STANDARD
TZOFFSETFROM:-0500
TZOFFSETTO:-0600
TZNAME:CST
DTSTART:20211107T070000
END:STANDARD
BEGIN:DAYLIGHT
TZOFFSETFROM:-0600
TZOFFSETTO:-0500
TZNAME:CDT
DTSTART:20220313T080000
END:DAYLIGHT
BEGIN:STANDARD
TZOFFSETFROM:-0500
TZOFFSETTO:-0600
TZNAME:CST
DTSTART:20221106T070000
END:STANDARD
END:VTIMEZONE
BEGIN:VEVENT
DTSTART;TZID=America/Chicago:20211211T120000
DTEND;TZID=America/Chicago:20211211T170000
DTSTAMP:20260424T091851
CREATED:20211108T151027Z
LAST-MODIFIED:20211201T201710Z
UID:10005057-1639224000-1639242000@ogdenmuseum.org
SUMMARY:Holiday Market
DESCRIPTION:Swing by Ogden Museum Saturday\, December 11 from 12 to 5 p.m. for a Holiday Market! Come peruse items by local vendors and artists. This is the perfect chance to get some holiday shopping done! Plus\, from 3 to 5 p.m.\, enjoy live music by Dillon Warnek and a cash bar with wine\, beer and non-alcoholic drinks. \nTo make this year’s Holiday Market even more special\, Ogden Museum Members will receive 25% off all in-store purchases. \nNot an Ogden Museum Member? Join today! Ogden Museum members experience the art and culture of the American South through exclusive member privileges including unlimited free admission\, private exhibition previews\, discounted admission tickets for guests\, discounts at the Ogden Museum Store and so much more! \nJoin Today\n2021 Holiday Market Vendors \nOxalis Apothecary –100% Natural Skincare –  from Plant-To-Body. Hyper-clean\, effective\, approachable plant and mineral based products for everyday rituals. \nLil Bits Cloth – Handmade and naturally dyed clothing by Eliza Wapner. \nHess & Co. –  Accessories created with bold shapes\, balanced by soft threads\, inspired always\, by shapes and colors. \nApartment 4 Lifestyle – Handmade\, fairtrade and vintage goods. \nPyramids and Rainbows – Paintings and jewelry. \nMadonna Lily –100% women-owned company based in New Orleans\, Louisiana\, that offers all natural body care and skin care handcrafted in small batches. \nSimply Shenelle Candles – Fragrance and candles made in NOLA spreading love and light. \nSwiet Stuff –  A wearable art studio focusing on #artWORK and empowARTment opportunities in communities around the world. \nFunctionally Yours – Driven by the impulses of creativity and enthusiastic about design\, Functionally Yours blends the decorative arts with both traditional and technology-based fabrication practices to create heirloom quality home decor products. \nCoralie Jewelry and River Styx Studio – Coralie Jewelry sells unique jewelry that repurposes found items including sheet music\, postage stamps\, cards & maps. River Styx Studio is a New Orleans art business that gives new life to driftwood from the Mississippi River. \nThe Big Book of King Cake – Written by Matt Haines\, The Big Book of King Cake features beautiful photography of more than one hundred and fifty unique king cakes\, as well as stories from the diverse and talented bakers who make them. \nInhabit Oyster Candles \nStatement Goods – Operated by artists Toni and Alysia who share a passion for art\, stationary and handmade goods.  \nThe Cafe Brulot by Sue Strachan – A book that details how cafe brulot became a New Orleans favorite and the ways in which the beverage is served. \nChristy Lorio – Writer and photographer featured in Louisiana Contemporary 2021. \n  \nAbout Dillon Warneck \nDillon Warnek is a Nashville-based songwriter. In his earlier days\, he played guitar and piano for artists like Courtney Marie Andrews\, Brent Cowles\, and whoever else had a van and a meager itinerary. \nHis suitcase filled with songs after years of playing clubs and stealing pens from waitresses\, he left his sideman days behind him to sing his own. He got close with Margo Price and her band in Australia\, and tricked them into backing him on his debut record\, “Now That It’s All Over.”   \nConcerning Dillon’s songs\, Margo said\, “He has a sharp wit and a writing style that seems both familiar and foreign at the same time. He is a songwriter’s songwriter\, and some of his songs are too smart for the general population.” The record got passed around and Joe Hudak wrote for Rolling Stone\, “Dillon Warnek brings tales of everyday waitresses\, repentant convicts\, and unrepentant grifters to vibrant life. Con men are a favorite writing subject of the Nashville transplant. There are no scams here\, however; just Warnek’s rich\, detailed character studies infused with elements of rock\, country\, and even Tex-Mex.” \nWith these characters as his travel companions\, Dillon plays his songs anywhere that will have him\, and is wrapping up writing his next record. \nHe may need a bigger suitcase.
URL:https://ogdenmuseum.org/event/holiday-market/
CATEGORIES:Events for Adults,Holiday Shopping,Live Events
ATTACH;FMTTYPE=image/png:https://ogdenmuseum.org/wp-content/uploads/2021/11/Web-Event-Size-7.png
END:VEVENT
END:VCALENDAR