BEGIN:VCALENDAR
VERSION:2.0
PRODID:-//Ogden Museum of Southern Art - ECPv6.15.20//NONSGML v1.0//EN
CALSCALE:GREGORIAN
METHOD:PUBLISH
X-ORIGINAL-URL:https://ogdenmuseum.org
X-WR-CALDESC:Events for Ogden Museum of Southern Art
REFRESH-INTERVAL;VALUE=DURATION:PT1H
X-Robots-Tag:noindex
X-PUBLISHED-TTL:PT1H
BEGIN:VTIMEZONE
TZID:America/Chicago
BEGIN:DAYLIGHT
TZOFFSETFROM:-0600
TZOFFSETTO:-0500
TZNAME:CDT
DTSTART:20240310T080000
END:DAYLIGHT
BEGIN:STANDARD
TZOFFSETFROM:-0500
TZOFFSETTO:-0600
TZNAME:CST
DTSTART:20241103T070000
END:STANDARD
BEGIN:DAYLIGHT
TZOFFSETFROM:-0600
TZOFFSETTO:-0500
TZNAME:CDT
DTSTART:20250309T080000
END:DAYLIGHT
BEGIN:STANDARD
TZOFFSETFROM:-0500
TZOFFSETTO:-0600
TZNAME:CST
DTSTART:20251102T070000
END:STANDARD
BEGIN:DAYLIGHT
TZOFFSETFROM:-0600
TZOFFSETTO:-0500
TZNAME:CDT
DTSTART:20260308T080000
END:DAYLIGHT
BEGIN:STANDARD
TZOFFSETFROM:-0500
TZOFFSETTO:-0600
TZNAME:CST
DTSTART:20261101T070000
END:STANDARD
END:VTIMEZONE
BEGIN:VEVENT
DTSTART;TZID=America/Chicago:20250120T100000
DTEND;TZID=America/Chicago:20250120T140000
DTSTAMP:20260424T054302
CREATED:20241216T213956Z
LAST-MODIFIED:20250120T125137Z
UID:10006068-1737367200-1737381600@ogdenmuseum.org
SUMMARY:Martin Luther King Jr. Day
DESCRIPTION:We regret to inform the New Orleans community that\, due to an unexpected power outage at the Museum\, today’s 7th Annual Martin Luther King Jr. Day Celebration has been canceled. We encourage everyone to stay warm as the cold weather approaches and to take a moment at home to honor and reflect on Dr. King’s enduring legacy. \n\nJoin Ogden Museum in celebrating the life and legacy of Civil Rights pioneer Dr. Martin Luther King Jr. Visit the Museum for a family-friendly\, FREE admission day exploring art and activism. Enjoy a museum-wide social justice scavenger hunt\, art activities\, community partner tables\, entertainment\, a food truck and more! \nPerformances by:  \n\nLittle Stompers (10: 15 a.m.) (11:30 a.m.)\n\nFace Painting: \n\nwith Faye Graham \n\nArt Activities:  \n\nMini-Protest Signs\nDr. Martin Luther King Jr Watercolor Portraits \nFreedom Bells \nCivil Rights Movement Buttons \nPeace Bracelets\n\nArtist Led Project:  \n\nwith Kara Crowley\n\nMovement with Kim Nicole:  \n\nFamily Yoga (11 a.m.)\nFamily Meditation (1 p.m.)\n\nCommunity Partner Tables: \n\nNew Orleans Public Library – featuring a book giveaway!\nExcite All Stars\nricRACK NOLA\nWAKE\nWhole Village Art Therapy\n\nFood Truck:  \n\nFlippin Birds
URL:https://ogdenmuseum.org/event/martin-luther-king-jr-day/
CATEGORIES:Events for Kids,Free Family Day
ATTACH;FMTTYPE=image/png:https://ogdenmuseum.org/wp-content/uploads/2024/12/MLK-web-event-2.png
END:VEVENT
END:VCALENDAR