BEGIN:VCALENDAR
VERSION:2.0
PRODID:-//Ogden Museum of Southern Art - ECPv6.15.20//NONSGML v1.0//EN
CALSCALE:GREGORIAN
METHOD:PUBLISH
X-ORIGINAL-URL:https://ogdenmuseum.org
X-WR-CALDESC:Events for Ogden Museum of Southern Art
REFRESH-INTERVAL;VALUE=DURATION:PT1H
X-Robots-Tag:noindex
X-PUBLISHED-TTL:PT1H
BEGIN:VTIMEZONE
TZID:America/Chicago
BEGIN:DAYLIGHT
TZOFFSETFROM:-0600
TZOFFSETTO:-0500
TZNAME:CDT
DTSTART:20240310T080000
END:DAYLIGHT
BEGIN:STANDARD
TZOFFSETFROM:-0500
TZOFFSETTO:-0600
TZNAME:CST
DTSTART:20241103T070000
END:STANDARD
BEGIN:DAYLIGHT
TZOFFSETFROM:-0600
TZOFFSETTO:-0500
TZNAME:CDT
DTSTART:20250309T080000
END:DAYLIGHT
BEGIN:STANDARD
TZOFFSETFROM:-0500
TZOFFSETTO:-0600
TZNAME:CST
DTSTART:20251102T070000
END:STANDARD
BEGIN:DAYLIGHT
TZOFFSETFROM:-0600
TZOFFSETTO:-0500
TZNAME:CDT
DTSTART:20260308T080000
END:DAYLIGHT
BEGIN:STANDARD
TZOFFSETFROM:-0500
TZOFFSETTO:-0600
TZNAME:CST
DTSTART:20261101T070000
END:STANDARD
END:VTIMEZONE
BEGIN:VEVENT
DTSTART;TZID=America/Chicago:20251222T090000
DTEND;TZID=America/Chicago:20251222T150000
DTSTAMP:20260423T165512
CREATED:20251031T201400Z
LAST-MODIFIED:20251216T164043Z
UID:10006317-1766394000-1766415600@ogdenmuseum.org
SUMMARY:Winter Holiday Camp for Grades 2 - 5
DESCRIPTION:Monday\, December 22\, Tuesday\, December 23 & Friday\, December 26\n9 a.m. to 3 p.m. \nPlease note that Day 2 (Dec. 23) is SOLD OUT! There are limited spots left for Day 1 and Day 3! \nThis winter break\, treat your young artist to a burst of creativity at Ogden Museum. Guided by Museum Educator Myron Solomon and Ogden Museum Teen Interns\, campers will explore bold colors and engage in joyful art-making\, creating unique art pieces each day. \nCampers will make glowing pastel firework scenes\, design their own New Year goal collages\, build playful firecracker sculptures that pop with imagination and craft their very own snowman sculptures. Anticipate excitement\, exploration\, reflection and a festive countdown to the New Year. \nThis is a full-day camp\, so please bring snacks\, water and lunch. Questions? Email education@ogdenmuseum.org \n$50 member each day/ $55 not-yet-member each day \nRegister for one\, two or all three days! \nregister for day 1 (dec. 22)  register for day 3 (dec. 26) \n\nNot a museum member? Save money on this camp and others like it\, plus receive exclusive privileges like unlimited free admission\, private exhibition previews and so much more when you join Ogden Museum today! Membership begins at the low price of $60. \nJoin the O today\n\nAbout Teaching Artist Myron Solomon\, Jr\nMyron Solomon\, Jr. is an interdisciplinary visual artist from New Orleans. A Dillard University BFA and School of Visual Arts MFA graduate\, his work pushes beyond traditional New Orleans art while honoring its cultural roots. Exploring existential themes\, Myron uses hyperbole to evoke introspection in his audience. His passion for the arts extends to education\, where he shares his knowledge with youth\, aiming to inspire the same transformative experiences that shaped his own journey.
URL:https://ogdenmuseum.org/event/winter-holiday-camp-for-grades-2-5/2025-12-22/
CATEGORIES:Classes for Kids,Events for Kids,Winter Camp,Winter Holiday Camp
ATTACH;FMTTYPE=image/png:https://ogdenmuseum.org/wp-content/uploads/2025/10/Web-Events-18.png
END:VEVENT
BEGIN:VEVENT
DTSTART;TZID=America/Chicago:20251223T090000
DTEND;TZID=America/Chicago:20251223T150000
DTSTAMP:20260423T165512
CREATED:20251031T201400Z
LAST-MODIFIED:20251216T164043Z
UID:10006318-1766480400-1766502000@ogdenmuseum.org
SUMMARY:Winter Holiday Camp for Grades 2 - 5
DESCRIPTION:Monday\, December 22\, Tuesday\, December 23 & Friday\, December 26\n9 a.m. to 3 p.m. \nPlease note that Day 2 (Dec. 23) is SOLD OUT! There are limited spots left for Day 1 and Day 3! \nThis winter break\, treat your young artist to a burst of creativity at Ogden Museum. Guided by Museum Educator Myron Solomon and Ogden Museum Teen Interns\, campers will explore bold colors and engage in joyful art-making\, creating unique art pieces each day. \nCampers will make glowing pastel firework scenes\, design their own New Year goal collages\, build playful firecracker sculptures that pop with imagination and craft their very own snowman sculptures. Anticipate excitement\, exploration\, reflection and a festive countdown to the New Year. \nThis is a full-day camp\, so please bring snacks\, water and lunch. Questions? Email education@ogdenmuseum.org \n$50 member each day/ $55 not-yet-member each day \nRegister for one\, two or all three days! \nregister for day 1 (dec. 22)  register for day 3 (dec. 26) \n\nNot a museum member? Save money on this camp and others like it\, plus receive exclusive privileges like unlimited free admission\, private exhibition previews and so much more when you join Ogden Museum today! Membership begins at the low price of $60. \nJoin the O today\n\nAbout Teaching Artist Myron Solomon\, Jr\nMyron Solomon\, Jr. is an interdisciplinary visual artist from New Orleans. A Dillard University BFA and School of Visual Arts MFA graduate\, his work pushes beyond traditional New Orleans art while honoring its cultural roots. Exploring existential themes\, Myron uses hyperbole to evoke introspection in his audience. His passion for the arts extends to education\, where he shares his knowledge with youth\, aiming to inspire the same transformative experiences that shaped his own journey.
URL:https://ogdenmuseum.org/event/winter-holiday-camp-for-grades-2-5/2025-12-23/
CATEGORIES:Classes for Kids,Events for Kids,Winter Camp,Winter Holiday Camp
ATTACH;FMTTYPE=image/png:https://ogdenmuseum.org/wp-content/uploads/2025/10/Web-Events-18.png
END:VEVENT
BEGIN:VEVENT
DTSTART;TZID=America/Chicago:20251226T090000
DTEND;TZID=America/Chicago:20251226T150000
DTSTAMP:20260423T165512
CREATED:20251031T201400Z
LAST-MODIFIED:20251216T164043Z
UID:10006319-1766739600-1766761200@ogdenmuseum.org
SUMMARY:Winter Holiday Camp for Grades 2 - 5
DESCRIPTION:Monday\, December 22\, Tuesday\, December 23 & Friday\, December 26\n9 a.m. to 3 p.m. \nPlease note that Day 2 (Dec. 23) is SOLD OUT! There are limited spots left for Day 1 and Day 3! \nThis winter break\, treat your young artist to a burst of creativity at Ogden Museum. Guided by Museum Educator Myron Solomon and Ogden Museum Teen Interns\, campers will explore bold colors and engage in joyful art-making\, creating unique art pieces each day. \nCampers will make glowing pastel firework scenes\, design their own New Year goal collages\, build playful firecracker sculptures that pop with imagination and craft their very own snowman sculptures. Anticipate excitement\, exploration\, reflection and a festive countdown to the New Year. \nThis is a full-day camp\, so please bring snacks\, water and lunch. Questions? Email education@ogdenmuseum.org \n$50 member each day/ $55 not-yet-member each day \nRegister for one\, two or all three days! \nregister for day 1 (dec. 22)  register for day 3 (dec. 26) \n\nNot a museum member? Save money on this camp and others like it\, plus receive exclusive privileges like unlimited free admission\, private exhibition previews and so much more when you join Ogden Museum today! Membership begins at the low price of $60. \nJoin the O today\n\nAbout Teaching Artist Myron Solomon\, Jr\nMyron Solomon\, Jr. is an interdisciplinary visual artist from New Orleans. A Dillard University BFA and School of Visual Arts MFA graduate\, his work pushes beyond traditional New Orleans art while honoring its cultural roots. Exploring existential themes\, Myron uses hyperbole to evoke introspection in his audience. His passion for the arts extends to education\, where he shares his knowledge with youth\, aiming to inspire the same transformative experiences that shaped his own journey.
URL:https://ogdenmuseum.org/event/winter-holiday-camp-for-grades-2-5/2025-12-26/
CATEGORIES:Classes for Kids,Events for Kids,Winter Camp,Winter Holiday Camp
ATTACH;FMTTYPE=image/png:https://ogdenmuseum.org/wp-content/uploads/2025/10/Web-Events-18.png
END:VEVENT
END:VCALENDAR