BEGIN:VCALENDAR
VERSION:2.0
PRODID:-//Ogden Museum of Southern Art - ECPv6.15.20//NONSGML v1.0//EN
CALSCALE:GREGORIAN
METHOD:PUBLISH
X-ORIGINAL-URL:https://ogdenmuseum.org
X-WR-CALDESC:Events for Ogden Museum of Southern Art
REFRESH-INTERVAL;VALUE=DURATION:PT1H
X-Robots-Tag:noindex
X-PUBLISHED-TTL:PT1H
BEGIN:VTIMEZONE
TZID:America/Chicago
BEGIN:DAYLIGHT
TZOFFSETFROM:-0600
TZOFFSETTO:-0500
TZNAME:CDT
DTSTART:20240310T080000
END:DAYLIGHT
BEGIN:STANDARD
TZOFFSETFROM:-0500
TZOFFSETTO:-0600
TZNAME:CST
DTSTART:20241103T070000
END:STANDARD
BEGIN:DAYLIGHT
TZOFFSETFROM:-0600
TZOFFSETTO:-0500
TZNAME:CDT
DTSTART:20250309T080000
END:DAYLIGHT
BEGIN:STANDARD
TZOFFSETFROM:-0500
TZOFFSETTO:-0600
TZNAME:CST
DTSTART:20251102T070000
END:STANDARD
BEGIN:DAYLIGHT
TZOFFSETFROM:-0600
TZOFFSETTO:-0500
TZNAME:CDT
DTSTART:20260308T080000
END:DAYLIGHT
BEGIN:STANDARD
TZOFFSETFROM:-0500
TZOFFSETTO:-0600
TZNAME:CST
DTSTART:20261101T070000
END:STANDARD
END:VTIMEZONE
BEGIN:VEVENT
DTSTART;TZID=America/Chicago:20250218T173000
DTEND;TZID=America/Chicago:20250218T200000
DTSTAMP:20260419T082305
CREATED:20250116T182300Z
LAST-MODIFIED:20250117T184752Z
UID:10006089-1739899800-1739908800@ogdenmuseum.org
SUMMARY:Teacher Workshop
DESCRIPTION:Teachers are invited to join Museum Educator Myron Solomon for a Teacher Workshop exploring the work of Keith Duncan: Battle of the Bands! \nThe workshop will include a guided tour of the exhibition\, original lesson plans designed to engage students on works in the exhibition and dinner. \nFree\, but pre-registration is requested. Limited space available\, so register today! \nregister learn more about <i>battle of the bands</i> \n/// Event image: Keith Duncan\, Alcorn State University Drum Major\, 2024\, Acrylic\, marker and fabric on unstretched canvas\, 62 x 48 inches\, © Keith Duncan. Courtesy of the artist and Fort Gansevoort\, New York
URL:https://ogdenmuseum.org/event/teacher-workshop-4/
CATEGORIES:Education Events for Adults,Educators
ATTACH;FMTTYPE=image/png:https://ogdenmuseum.org/wp-content/uploads/2025/01/Web-Event-Size-74.png
END:VEVENT
BEGIN:VEVENT
DTSTART;TZID=America/Chicago:20250220T180000
DTEND;TZID=America/Chicago:20250220T200000
DTSTAMP:20260419T082305
CREATED:20250116T184237Z
LAST-MODIFIED:20250116T184412Z
UID:10006090-1740074400-1740081600@ogdenmuseum.org
SUMMARY:Teacher Night
DESCRIPTION:Enjoy a special welcome back for educators and a FREE evening at our monthly concert series Ogden After Hours. \nMeet us in Ogden Museum’s “Teachers’ Lounge” for light bites\, a glass of wine and giveaways. Museum educators will also be on hand to answer questions about programs\, tours and curriculum. \nFree\, but registration is required. \nregister learn more about ogden after hours
URL:https://ogdenmuseum.org/event/teacher-night-10/
CATEGORIES:Education Events for Adults,Educators
ATTACH;FMTTYPE=image/png:https://ogdenmuseum.org/wp-content/uploads/2025/01/Web-Event-Size-76.png
END:VEVENT
END:VCALENDAR