BEGIN:VCALENDAR
VERSION:2.0
PRODID:-//Ogden Museum of Southern Art - ECPv6.15.20//NONSGML v1.0//EN
CALSCALE:GREGORIAN
METHOD:PUBLISH
X-ORIGINAL-URL:https://ogdenmuseum.org
X-WR-CALDESC:Events for Ogden Museum of Southern Art
REFRESH-INTERVAL;VALUE=DURATION:PT1H
X-Robots-Tag:noindex
X-PUBLISHED-TTL:PT1H
BEGIN:VTIMEZONE
TZID:America/Chicago
BEGIN:DAYLIGHT
TZOFFSETFROM:-0600
TZOFFSETTO:-0500
TZNAME:CDT
DTSTART:20220313T080000
END:DAYLIGHT
BEGIN:STANDARD
TZOFFSETFROM:-0500
TZOFFSETTO:-0600
TZNAME:CST
DTSTART:20221106T070000
END:STANDARD
BEGIN:DAYLIGHT
TZOFFSETFROM:-0600
TZOFFSETTO:-0500
TZNAME:CDT
DTSTART:20230312T080000
END:DAYLIGHT
BEGIN:STANDARD
TZOFFSETFROM:-0500
TZOFFSETTO:-0600
TZNAME:CST
DTSTART:20231105T070000
END:STANDARD
BEGIN:DAYLIGHT
TZOFFSETFROM:-0600
TZOFFSETTO:-0500
TZNAME:CDT
DTSTART:20240310T080000
END:DAYLIGHT
BEGIN:STANDARD
TZOFFSETFROM:-0500
TZOFFSETTO:-0600
TZNAME:CST
DTSTART:20241103T070000
END:STANDARD
END:VTIMEZONE
BEGIN:VEVENT
DTSTART;TZID=America/Chicago:20231004T100000
DTEND;TZID=America/Chicago:20231004T120000
DTSTAMP:20260420T070156
CREATED:20230725T025048Z
LAST-MODIFIED:20230725T030558Z
UID:10005302-1696413600-1696420800@ogdenmuseum.org
SUMMARY:New Docent Training
DESCRIPTION:An Ogden Museum of Southern Art docent is a volunteer who leads tours\, helping visitors to the Museum See the South through the visual arts. Prospective docents should have an interest in Southern culture and a desire to interact with adults and children\, helping them discover their own interpretations of art. This program will provide a behind-the-scenes look at the making of an art museum and offer an introduction to Southern art\, history\, and culture. The training will include museum techniques and education strategies for engaging museum visitors in meaningful explorations of works of art in the collection and in special exhibitions. \nThis session of New Docent Training will begin in September 2023. Prospective Docents should attend all six training classes listed below. All sessions will take place on Wednesdays from 10 a.m. — 12 p.m. \nUpcoming Training Dates: \n\nSeptember 13\nSeptember 20\nSeptember 27\nOctober 4\nOctober 11\nOctober 18\n\nLearn More and Register
URL:https://ogdenmuseum.org/event/new-docent-training/2023-10-04/
CATEGORIES:Educators,Events for Adults
ATTACH;FMTTYPE=image/jpeg:https://ogdenmuseum.org/wp-content/uploads/2021/10/docentevent.jpg
END:VEVENT
BEGIN:VEVENT
DTSTART;TZID=America/Chicago:20231011T100000
DTEND;TZID=America/Chicago:20231011T120000
DTSTAMP:20260420T070156
CREATED:20230725T025048Z
LAST-MODIFIED:20230725T030558Z
UID:10005303-1697018400-1697025600@ogdenmuseum.org
SUMMARY:New Docent Training
DESCRIPTION:An Ogden Museum of Southern Art docent is a volunteer who leads tours\, helping visitors to the Museum See the South through the visual arts. Prospective docents should have an interest in Southern culture and a desire to interact with adults and children\, helping them discover their own interpretations of art. This program will provide a behind-the-scenes look at the making of an art museum and offer an introduction to Southern art\, history\, and culture. The training will include museum techniques and education strategies for engaging museum visitors in meaningful explorations of works of art in the collection and in special exhibitions. \nThis session of New Docent Training will begin in September 2023. Prospective Docents should attend all six training classes listed below. All sessions will take place on Wednesdays from 10 a.m. — 12 p.m. \nUpcoming Training Dates: \n\nSeptember 13\nSeptember 20\nSeptember 27\nOctober 4\nOctober 11\nOctober 18\n\nLearn More and Register
URL:https://ogdenmuseum.org/event/new-docent-training/2023-10-11/
CATEGORIES:Educators,Events for Adults
ATTACH;FMTTYPE=image/jpeg:https://ogdenmuseum.org/wp-content/uploads/2021/10/docentevent.jpg
END:VEVENT
BEGIN:VEVENT
DTSTART;TZID=America/Chicago:20231018T100000
DTEND;TZID=America/Chicago:20231018T120000
DTSTAMP:20260420T070156
CREATED:20230725T025048Z
LAST-MODIFIED:20230725T030558Z
UID:10005304-1697623200-1697630400@ogdenmuseum.org
SUMMARY:New Docent Training
DESCRIPTION:An Ogden Museum of Southern Art docent is a volunteer who leads tours\, helping visitors to the Museum See the South through the visual arts. Prospective docents should have an interest in Southern culture and a desire to interact with adults and children\, helping them discover their own interpretations of art. This program will provide a behind-the-scenes look at the making of an art museum and offer an introduction to Southern art\, history\, and culture. The training will include museum techniques and education strategies for engaging museum visitors in meaningful explorations of works of art in the collection and in special exhibitions. \nThis session of New Docent Training will begin in September 2023. Prospective Docents should attend all six training classes listed below. All sessions will take place on Wednesdays from 10 a.m. — 12 p.m. \nUpcoming Training Dates: \n\nSeptember 13\nSeptember 20\nSeptember 27\nOctober 4\nOctober 11\nOctober 18\n\nLearn More and Register
URL:https://ogdenmuseum.org/event/new-docent-training/2023-10-18/
CATEGORIES:Educators,Events for Adults
ATTACH;FMTTYPE=image/jpeg:https://ogdenmuseum.org/wp-content/uploads/2021/10/docentevent.jpg
END:VEVENT
END:VCALENDAR