BEGIN:VCALENDAR
VERSION:2.0
PRODID:-//Ogden Museum of Southern Art - ECPv6.15.20//NONSGML v1.0//EN
CALSCALE:GREGORIAN
METHOD:PUBLISH
X-ORIGINAL-URL:https://ogdenmuseum.org
X-WR-CALDESC:Events for Ogden Museum of Southern Art
REFRESH-INTERVAL;VALUE=DURATION:PT1H
X-Robots-Tag:noindex
X-PUBLISHED-TTL:PT1H
BEGIN:VTIMEZONE
TZID:America/Chicago
BEGIN:DAYLIGHT
TZOFFSETFROM:-0600
TZOFFSETTO:-0500
TZNAME:CDT
DTSTART:20190310T080000
END:DAYLIGHT
BEGIN:STANDARD
TZOFFSETFROM:-0500
TZOFFSETTO:-0600
TZNAME:CST
DTSTART:20191103T070000
END:STANDARD
BEGIN:DAYLIGHT
TZOFFSETFROM:-0600
TZOFFSETTO:-0500
TZNAME:CDT
DTSTART:20200308T080000
END:DAYLIGHT
BEGIN:STANDARD
TZOFFSETFROM:-0500
TZOFFSETTO:-0600
TZNAME:CST
DTSTART:20201101T070000
END:STANDARD
BEGIN:DAYLIGHT
TZOFFSETFROM:-0600
TZOFFSETTO:-0500
TZNAME:CDT
DTSTART:20210314T080000
END:DAYLIGHT
BEGIN:STANDARD
TZOFFSETFROM:-0500
TZOFFSETTO:-0600
TZNAME:CST
DTSTART:20211107T070000
END:STANDARD
END:VTIMEZONE
BEGIN:VEVENT
DTSTART;TZID=America/Chicago:20200805T163000
DTEND;TZID=America/Chicago:20200805T183000
DTSTAMP:20260424T072136
CREATED:20200727T173511Z
LAST-MODIFIED:20200727T173511Z
UID:10004439-1596645000-1596652200@ogdenmuseum.org
SUMMARY:Virtual Educator Open House
DESCRIPTION:Ogden Museum is participating in a Virtual Educator Open House on Wednesday August 5\, 4:30 – 6:30 p.m! Organized by the Pontchartrain Conservancy\, this free virtual event will feature 12 local organizations and we’ll cover all the fun and innovative virtual programs available to educators in Southeast Louisiana for the upcoming school year. \nCome for the whole program\, or pop in and out! You’ll hear from Pontchartrain Conservancy\, The Brown Foundation\, City Park\, Energy Wise Alliance\, LOOP NOLA\, Louisiana Sea Grant\, New Orleans Museum of Art\, Ogden Museum of Southern Art\, Orleans Parish 4-H\, STEM NOLA\, The Green Project and The National WWII Museum. \nRegister
URL:https://ogdenmuseum.org/event/virtual-educator-open-house/
CATEGORIES:Educators,Ogden Museum Online Events
ATTACH;FMTTYPE=image/png:https://ogdenmuseum.org/wp-content/uploads/2020/07/Copy-of-VIRTUAL-EDUCATOR-OPEN-HOUSE-FB-EVENT-COVER-2.png
END:VEVENT
END:VCALENDAR