BEGIN:VCALENDAR
VERSION:2.0
PRODID:-//Ogden Museum of Southern Art - ECPv6.15.20//NONSGML v1.0//EN
CALSCALE:GREGORIAN
METHOD:PUBLISH
X-ORIGINAL-URL:https://ogdenmuseum.org
X-WR-CALDESC:Events for Ogden Museum of Southern Art
REFRESH-INTERVAL;VALUE=DURATION:PT1H
X-Robots-Tag:noindex
X-PUBLISHED-TTL:PT1H
BEGIN:VTIMEZONE
TZID:America/Chicago
BEGIN:DAYLIGHT
TZOFFSETFROM:-0600
TZOFFSETTO:-0500
TZNAME:CDT
DTSTART:20170312T080000
END:DAYLIGHT
BEGIN:STANDARD
TZOFFSETFROM:-0500
TZOFFSETTO:-0600
TZNAME:CST
DTSTART:20171105T070000
END:STANDARD
BEGIN:DAYLIGHT
TZOFFSETFROM:-0600
TZOFFSETTO:-0500
TZNAME:CDT
DTSTART:20180311T080000
END:DAYLIGHT
BEGIN:STANDARD
TZOFFSETFROM:-0500
TZOFFSETTO:-0600
TZNAME:CST
DTSTART:20181104T070000
END:STANDARD
BEGIN:DAYLIGHT
TZOFFSETFROM:-0600
TZOFFSETTO:-0500
TZNAME:CDT
DTSTART:20190310T080000
END:DAYLIGHT
BEGIN:STANDARD
TZOFFSETFROM:-0500
TZOFFSETTO:-0600
TZNAME:CST
DTSTART:20191103T070000
END:STANDARD
END:VTIMEZONE
BEGIN:VEVENT
DTSTART;TZID=America/Chicago:20180913T180000
DTEND;TZID=America/Chicago:20180913T200000
DTSTAMP:20260425T145452
CREATED:20180827T212103Z
LAST-MODIFIED:20180827T212103Z
UID:10004410-1536861600-1536868800@ogdenmuseum.org
SUMMARY:Teacher Night
DESCRIPTION:This FREE evening for area educators will include a guided tour and art activity\, plus lesson plans\, resources and ideas to help incorporate works of art into your curriculum. Did you know the Ogden Museum is always FREE to Orleans and Jefferson Parish Public Schools and is FREE to Louisiana residents on Thursdays? \nTeacher Night is FREE\, but registration is required. \nRegister
URL:https://ogdenmuseum.org/event/teacher-night-4/
CATEGORIES:Educators
ATTACH;FMTTYPE=image/jpeg:https://ogdenmuseum.org/wp-content/uploads/2018/08/IMG_7485.jpg
END:VEVENT
END:VCALENDAR