BEGIN:VCALENDAR
VERSION:2.0
PRODID:-//Ogden Museum of Southern Art - ECPv6.15.20//NONSGML v1.0//EN
CALSCALE:GREGORIAN
METHOD:PUBLISH
X-ORIGINAL-URL:https://ogdenmuseum.org
X-WR-CALDESC:Events for Ogden Museum of Southern Art
REFRESH-INTERVAL;VALUE=DURATION:PT1H
X-Robots-Tag:noindex
X-PUBLISHED-TTL:PT1H
BEGIN:VTIMEZONE
TZID:America/Chicago
BEGIN:DAYLIGHT
TZOFFSETFROM:-0600
TZOFFSETTO:-0500
TZNAME:CDT
DTSTART:20220313T080000
END:DAYLIGHT
BEGIN:STANDARD
TZOFFSETFROM:-0500
TZOFFSETTO:-0600
TZNAME:CST
DTSTART:20221106T070000
END:STANDARD
BEGIN:DAYLIGHT
TZOFFSETFROM:-0600
TZOFFSETTO:-0500
TZNAME:CDT
DTSTART:20230312T080000
END:DAYLIGHT
BEGIN:STANDARD
TZOFFSETFROM:-0500
TZOFFSETTO:-0600
TZNAME:CST
DTSTART:20231105T070000
END:STANDARD
BEGIN:DAYLIGHT
TZOFFSETFROM:-0600
TZOFFSETTO:-0500
TZNAME:CDT
DTSTART:20240310T080000
END:DAYLIGHT
BEGIN:STANDARD
TZOFFSETFROM:-0500
TZOFFSETTO:-0600
TZNAME:CST
DTSTART:20241103T070000
END:STANDARD
END:VTIMEZONE
BEGIN:VEVENT
DTSTART;TZID=America/Chicago:20230511T130000
DTEND;TZID=America/Chicago:20230511T140000
DTSTAMP:20260425T201245
CREATED:20210715T150820Z
LAST-MODIFIED:20230227T181338Z
UID:10005038-1683810000-1683813600@ogdenmuseum.org
SUMMARY:Hey Y'all Art Talk
DESCRIPTION:Join us for a participatory gallery tour every second Thursday at 1 p.m. Meet at the admissions desk for a guided tour of Ogden Museum\, home to the largest and most comprehensive collection of art from the Southern region of the United States. \nLouisiana residents enjoy free admission on Thursdays\, courtesy of The Helis Foundation. \nImage: Ruth Owens\, Lessons Lost\, 2020\, Acrylic\, charcoal\, glitter\, Mylar on paper\, 96” x 96”\, Gift of Gregory Holt and Michael Wilkinson 
URL:https://ogdenmuseum.org/event/docent-led-drop-in-tour-2/2023-05-11/
CATEGORIES:Docent-Led Tours
ATTACH;FMTTYPE=image/png:https://ogdenmuseum.org/wp-content/uploads/2021/07/Owen_l-20213.png
END:VEVENT
END:VCALENDAR