BEGIN:VCALENDAR
VERSION:2.0
PRODID:-//Ogden Museum of Southern Art - ECPv6.15.20//NONSGML v1.0//EN
CALSCALE:GREGORIAN
METHOD:PUBLISH
X-WR-CALNAME:Ogden Museum of Southern Art
X-ORIGINAL-URL:https://ogdenmuseum.org
X-WR-CALDESC:Events for Ogden Museum of Southern Art
REFRESH-INTERVAL;VALUE=DURATION:PT1H
X-Robots-Tag:noindex
X-PUBLISHED-TTL:PT1H
BEGIN:VTIMEZONE
TZID:America/Chicago
BEGIN:DAYLIGHT
TZOFFSETFROM:-0600
TZOFFSETTO:-0500
TZNAME:CDT
DTSTART:20230312T080000
END:DAYLIGHT
BEGIN:STANDARD
TZOFFSETFROM:-0500
TZOFFSETTO:-0600
TZNAME:CST
DTSTART:20231105T070000
END:STANDARD
BEGIN:DAYLIGHT
TZOFFSETFROM:-0600
TZOFFSETTO:-0500
TZNAME:CDT
DTSTART:20240310T080000
END:DAYLIGHT
BEGIN:STANDARD
TZOFFSETFROM:-0500
TZOFFSETTO:-0600
TZNAME:CST
DTSTART:20241103T070000
END:STANDARD
BEGIN:DAYLIGHT
TZOFFSETFROM:-0600
TZOFFSETTO:-0500
TZNAME:CDT
DTSTART:20250309T080000
END:DAYLIGHT
BEGIN:STANDARD
TZOFFSETFROM:-0500
TZOFFSETTO:-0600
TZNAME:CST
DTSTART:20251102T070000
END:STANDARD
END:VTIMEZONE
BEGIN:VEVENT
DTSTART;TZID=America/Chicago:20240708T090000
DTEND;TZID=America/Chicago:20240708T150000
DTSTAMP:20260423T101547
CREATED:20231219T165515Z
LAST-MODIFIED:20240419T184854Z
UID:10005532-1720429200-1720450800@ogdenmuseum.org
SUMMARY:SOLD OUT: Fine Arts FUNdamentals Camp Camp: Session IV
DESCRIPTION:Fine Arts FUNdamentals Camp: Session IV\nFor campers entering grades 2 – 5\nJuly 8 through July 12 | 9 a.m. to 3 p.m.  \nAnimals in Art: Learn to draw\, paint and sculpt your favorite animals of the South using a variety of media \nHave FUN this summer in the galleries of Ogden Museum of Southern Art! \nJoin art educators Nidia Morales and Mikhayla Harrell for a week-long camp that highlights exciting works by Tina Girouard and Ogden Museum’s Permanent Collection. Taught by professional artists\, this specialized camp will have campers explore painting\, printmaking\, sculpture\, textiles\, installation and much more. \nAt the end of the session\, family and friends are invited to a final gallery exhibition\, showcasing camper artwork. \nThis is a full day event\, please send your child with water bottle\, snack\, lunch and an extra layer each day. \n$300 members per session / $350 non-members per session \nThis session is sold out. If you would like to be added to the waitlist\, please email education@ogdenmuseum.org with the following information: Camper Name\, Grade\, School\, Parent/Guardian Name\, Email\, Phone. \n\nUPCOMING SUMMER CAMPS AT OGDEN MUSEUM \nClick the title of each camp to learn more about each camp! Register for one session or for multiple sessions. Each session features new and exciting crafts and lessons.  \nJune 10 through June 14\nFine Arts FUNdamentals Session I \nJune 17 through June 21\nFine Arts FUNdamentals Session II \nJune 24 through June 28\nFine Arts FUNdamentals Session III \nJuly 8 through July 12\nFine Arts FUNdamentals Session IV \nJuly 15 through July 19\nPhotography Camp Session I \nJuly 15 through July 26\nFashion Camp with RicRACK NOLA \nJuly 22 through July 26\nPhotography Camp Session II \nQuestions? Email education@ogdenmuseum.org
URL:https://ogdenmuseum.org/event/fine-arts-fundamentals-camp-session-iv/
CATEGORIES:Classes for Kids,Events for Kids
ATTACH;FMTTYPE=image/png:https://ogdenmuseum.org/wp-content/uploads/2023/12/Web-Event.204.png
END:VEVENT
BEGIN:VEVENT
DTSTART;TZID=America/Chicago:20240715T090000
DTEND;TZID=America/Chicago:20240715T150000
DTSTAMP:20260423T101547
CREATED:20231219T165544Z
LAST-MODIFIED:20240529T020327Z
UID:10005533-1721034000-1721055600@ogdenmuseum.org
SUMMARY:SOLD OUT: Photography Camp: Session I
DESCRIPTION:Photography Camp: Session I\nExplore Documentary Photography: Campers will learn the basics of documentary photography and have the opportunity to utilize their skills outside the classroom on daily field trips.\nFor campers entering grades 6 – 12\nJuly 15 through July 19 | 9 a.m. to 3 p.m.  \nAspiring photographers of all levels are invited to join multidisciplinary artist Nidia Morales at a fun and exciting session of Photography Camp. \nPhotography Camp focuses on the technical basics of photography\, such as exposure\, composition and lighting. Through a hands-on experience\, campers will learn artistic elements like storytelling\, portraiture\, documentary and critique. Daily field trips to New Orleans institutions\, galleries and museums are included to enhance each day’s theme.  \nAt the end of the week-long camp\, campers will have created a portfolio of work. A selection of their work will be exhibited in a student-curated showcase opening on White Linen Night in Ogden Museum’s Passage Way Gallery. \nCampers are encouraged to bring their own digital camera or use the camera on their phone. \nThis is a full day event\, please send your child with water bottle\, snack\, lunch and an extra layer each day. \n$300 members per session / $350 non-members per session \nThis camp is sold out. If you would like to be added to the waitlist\, please email education@ogdenmuseum.org with the following information: Camper Name\, Grade\, School\, Parent/Guardian Name\, Email\, Phone. \nAbout the Artist \nNidia Morales (she/her)\, is a multidisciplinary artist who teaches visual art\, theater and music. Her programs are designed to be engaging and fun with an emphasis on social-emotional learning. Nidia received her B.F.A. in Fine Art Photography at California State University Long Beach\, where she has exhibited solo and group work. Nidia performs theater and music around the Greater New Orleans Region but her love for photography began in high school when she first learned how to use a 35mm film camera.  \n\nUPCOMING SUMMER CAMPS AT OGDEN MUSEUM \nClick the title of each camp to learn more about each camp! Register for one session or for multiple sessions. Each session features new and exciting crafts and lessons.  \nJune 10 through June 14\nFine Arts FUNdamentals Session I \nJune 17 through June 21\nFine Arts FUNdamentals Session II \nJune 24 through June 28\nFine Arts FUNdamentals Session III \nJuly 8 through July 12\nFine Arts FUNdamentals Session IV \nJuly 15 through July 19\nPhotography Camp Session I \nJuly 15 through July 26\nFashion Camp with RicRACK NOLA \nJuly 22 through July 26\nPhotography Camp Session II \nQuestions? Email education@ogdenmuseum.org
URL:https://ogdenmuseum.org/event/photography-camp-session-i/
CATEGORIES:Classes for Kids,Events for Kids
ATTACH;FMTTYPE=image/png:https://ogdenmuseum.org/wp-content/uploads/2023/12/Summer-Camp-Web-Event5.png
END:VEVENT
BEGIN:VEVENT
DTSTART;TZID=America/Chicago:20240715T090000
DTEND;TZID=America/Chicago:20240715T150000
DTSTAMP:20260423T101547
CREATED:20231219T165601Z
LAST-MODIFIED:20250610T215644Z
UID:10005535-1721034000-1721055600@ogdenmuseum.org
SUMMARY:SOLD OUT: Fashion Camp with ricRACK NOLA
DESCRIPTION:Fashion Camp with ricRACK NOLA\nFor campers entering grades 5 – 8\nJuly 15 through July 26 | 9 a.m. to 3 p.m. \n2 Week Camp \nWhat does the future of fashion look like? Join instructors from ricRACK in an engaging fashion camp focused on sustainability in fashion.  \nEach day\, campers will spend part of the day creating a feature outfit for an end-of-camp fashion show\, and the other part exploring how to be an environmentally conscious citizens. Throughout the two-week camp\,  participants will learn sewing and design skills that include re-use\, repurpose and “greener” ways to dress\, while also honoring diverse bodies and aesthetics.  \nFashion Camp culminates in a fun and sustainable Fashion Show that highlights the students’ design process and showcases their outfits in both action and function. \nThis is a full day event\, please send your child with water bottle\, snack\, lunch and an extra layer each day. \n$550 members per session / $600 non-members per session \nThis camp is sold out. If you would like to be added to the waitlist\, please email education@ogdenmuseum.org with the following information: Camper Name\, Grade\, School\, Parent/Guardian Name\, Email\, Phone. \nAbout ricRACK \nricRACK is a New Orleans based organization that combines creative skill building with environmental responsibility by offering meaningful opportunities to youth and adults to re-use donated clothing\, textiles and craft materials. The organization’s mission centers on increased public and industry awareness of sustainability and waste reduction within the fashion industry. \nLEARN MORE ABOUT RICRACK\n\nUPCOMING SUMMER CAMPS AT OGDEN MUSEUM \nClick the title of each camp to learn more about each camp! Register for one session or for multiple sessions. Each session features new and exciting crafts and lessons.  \nJune 10 through June 14\nFine Arts FUNdamentals Session I \nJune 17 through June 21\nFine Arts FUNdamentals Session II \nJune 24 through June 28\nFine Arts FUNdamentals Session III \nJuly 8 through July 12\nFine Arts FUNdamentals Session IV \nJuly 15 through July 19\nPhotography Camp Session I \nJuly 15 through July 26\nFashion Camp with RicRACK NOLA \nJuly 22 through July 26\nPhotography Camp Session II \nQuestions? Email education@ogdenmuseum.org
URL:https://ogdenmuseum.org/event/fashion-camp-with-ricrack-nola/
CATEGORIES:Classes for Kids,Events for Kids
ATTACH;FMTTYPE=image/png:https://ogdenmuseum.org/wp-content/uploads/2023/12/Summer-Camp-Web-Event7.png
END:VEVENT
BEGIN:VEVENT
DTSTART;TZID=America/Chicago:20240722T090000
DTEND;TZID=America/Chicago:20240722T150000
DTSTAMP:20260423T101547
CREATED:20231219T165553Z
LAST-MODIFIED:20240423T141820Z
UID:10005534-1721638800-1721660400@ogdenmuseum.org
SUMMARY:SOLD OUT: Photography Camp: Session II
DESCRIPTION:Photography Camp: Session II\nSurvey of Portraiture: Campers will learn how to set lighting for a photo shoot and more! Students will practice capturing portraits of themselves and fellow campers.\nFor campers entering grades 6 – 12\nJuly 22 through July 26 | 9 a.m. to 3 p.m.  \nAspiring photographers of all levels are invited to join multidisciplinary artist Nidia Morales at a fun and exciting session of Photography Camp. \nPhotography Camp focuses on the technical basics of photography\, such as exposure\, composition and lighting. Through a hands-on experience\, campers will learn artistic elements like storytelling\, portraiture\, documentary and critique. Daily field trips to New Orleans institutions\, galleries and museums are included to enhance each day’s theme.  \nAt the end of the week-long camp\, campers will have created a portfolio of work. A selection of their work will be exhibited in a student-curated showcase opening on White Linen Night in Ogden Museum’s Passage Way Gallery. \nCampers are encouraged to bring their own digital camera or use the camera on their phone. \nThis is a full day event\, please send your child with water bottle\, snack\, lunch and an extra layer each day. \n$300 members per session / $350 non-members per session \nThis camp is sold out. If you would like to be added to the waitlist\, please email education@ogdenmuseum.org with the following information: Camper Name\, Grade\, School\, Parent/Guardian Name\, Email\, Phone. \nAbout the Artist \nNidia Morales (she/her)\, is a multidisciplinary artist who teaches visual art\, theater and music. Her programs are designed to be engaging and fun with an emphasis on social-emotional learning. Nidia received her B.F.A. in Fine Art Photography at California State University Long Beach\, where she has exhibited solo and group work. Nidia performs theater and music around the Greater New Orleans Region but her love for photography began in high school when she first learned how to use a 35mm film camera.  \n\nUPCOMING SUMMER CAMPS AT OGDEN MUSEUM \nClick the title of each camp to learn more about each camp! Register for one session or for multiple sessions. Each session features new and exciting crafts and lessons.  \nJune 10 through June 14\nFine Arts FUNdamentals Session I \nJune 17 through June 21\nFine Arts FUNdamentals Session II \nJune 24 through June 28\nFine Arts FUNdamentals Session III \nJuly 8 through July 12\nFine Arts FUNdamentals Session IV \nJuly 15 through July 19\nPhotography Camp Session I \nJuly 15 through July 26\nFashion Camp with RicRACK NOLA \nJuly 22 through July 26\nPhotography Camp Session II \nQuestions? Email education@ogdenmuseum.org
URL:https://ogdenmuseum.org/event/photography-camp-session-ii/
CATEGORIES:Classes for Kids,Events for Kids
ATTACH;FMTTYPE=image/png:https://ogdenmuseum.org/wp-content/uploads/2023/12/Summer-Camp-Web-Event6.png
END:VEVENT
END:VCALENDAR