BEGIN:VCALENDAR
VERSION:2.0
PRODID:-//Ogden Museum of Southern Art - ECPv6.15.20//NONSGML v1.0//EN
CALSCALE:GREGORIAN
METHOD:PUBLISH
X-WR-CALNAME:Ogden Museum of Southern Art
X-ORIGINAL-URL:https://ogdenmuseum.org
X-WR-CALDESC:Events for Ogden Museum of Southern Art
REFRESH-INTERVAL;VALUE=DURATION:PT1H
X-Robots-Tag:noindex
X-PUBLISHED-TTL:PT1H
BEGIN:VTIMEZONE
TZID:America/Chicago
BEGIN:DAYLIGHT
TZOFFSETFROM:-0600
TZOFFSETTO:-0500
TZNAME:CDT
DTSTART:20230312T080000
END:DAYLIGHT
BEGIN:STANDARD
TZOFFSETFROM:-0500
TZOFFSETTO:-0600
TZNAME:CST
DTSTART:20231105T070000
END:STANDARD
BEGIN:DAYLIGHT
TZOFFSETFROM:-0600
TZOFFSETTO:-0500
TZNAME:CDT
DTSTART:20240310T080000
END:DAYLIGHT
BEGIN:STANDARD
TZOFFSETFROM:-0500
TZOFFSETTO:-0600
TZNAME:CST
DTSTART:20241103T070000
END:STANDARD
BEGIN:DAYLIGHT
TZOFFSETFROM:-0600
TZOFFSETTO:-0500
TZNAME:CDT
DTSTART:20250309T080000
END:DAYLIGHT
BEGIN:STANDARD
TZOFFSETFROM:-0500
TZOFFSETTO:-0600
TZNAME:CST
DTSTART:20251102T070000
END:STANDARD
END:VTIMEZONE
BEGIN:VEVENT
DTSTART;TZID=America/Chicago:20240610T090000
DTEND;TZID=America/Chicago:20240610T150000
DTSTAMP:20260423T085426
CREATED:20231219T165442Z
LAST-MODIFIED:20240513T190304Z
UID:10005529-1718010000-1718031600@ogdenmuseum.org
SUMMARY:SOLD OUT: Fine Arts FUNdamentals Camp: Session I
DESCRIPTION:Fine Arts FUNdamentals Camp: Session I\nFor campers entering grades 2 – 5\nJune 10 through June 14 | 9 a.m. to 3 p.m. \nMyself and Others: Develop skills to create self-portraits and portraits in drawing\, painting\, printmaking and sculpture \nHave FUN this summer in the galleries of Ogden Museum of Southern Art! \nJoin art educators Nidia Morales and Mikhayla Harrell for a week-long camp that highlights exciting works by Tina Girouard and Ogden Museum’s Permanent Collection. Taught by professional artists\, this specialized camp will have campers explore painting\, printmaking\, sculpture\, textiles\, installation and much more. \nAt the end of the session\, family and friends are invited to a final gallery exhibition\, showcasing camper artwork. \nThis is a full day event\, please send your child with water bottle\, snack\, lunch and an extra layer each day. \n$300 members per session / $350 non-members per session \nThis camp is sold out. If you would like to be added to the waitlist\, please email education@ogdenmuseum.org with the following information: Camper Name\, Grade\, School\, Parent/Guardian Name\, Email\, Phone. \n\nUPCOMING SUMMER CAMPS AT OGDEN MUSEUM \nClick the title of each camp to learn more about each camp! Register for one session or for multiple sessions. Each session features new and exciting crafts and lessons.  \nJune 10 through June 14\nFine Arts FUNdamentals Session I \nJune 17 through June 21\nFine Arts FUNdamentals Session II \nJune 24 through June 28\nFine Arts FUNdamentals Session III \nJuly 8 through July 12\nFine Arts FUNdamentals Session IV \nJuly 15 through July 19\nPhotography Camp Session I \nJuly 15 through July 26\nFashion Camp with RicRACK NOLA \nJuly 22 through July 26\nPhotography Camp Session II \nQuestions? Email education@ogdenmuseum.org
URL:https://ogdenmuseum.org/event/fine-arts-fundamentals-camp-session-i-2/
CATEGORIES:Classes for Kids,Events for Kids
ATTACH;FMTTYPE=image/png:https://ogdenmuseum.org/wp-content/uploads/2023/12/Web-Event.20.png
END:VEVENT
BEGIN:VEVENT
DTSTART;TZID=America/Chicago:20240617T090000
DTEND;TZID=America/Chicago:20240617T150000
DTSTAMP:20260423T085426
CREATED:20231219T165446Z
LAST-MODIFIED:20240517T200944Z
UID:10005530-1718614800-1718636400@ogdenmuseum.org
SUMMARY:SOLD OUT: Fine Arts FUNdamentals Camp: Session II
DESCRIPTION:Fine Arts FUNdamentals Camp: Session II\nFor campers entering grades 2 – 5\nJune 17 through June 21 | 9 a.m. to 3 p.m. \nTravel the South: Explore techniques to create realistic and other-worldly landscapes using collage and mixed-media.  \nHave FUN this summer in the galleries of Ogden Museum of Southern Art! \nJoin art educators Nidia Morales and Mikhayla Harrell for a week-long camp that highlights exciting works by Tina Girouard and Ogden Museum’s Permanent Collection. Taught by professional artists\, this specialized camp will have campers explore painting\, printmaking\, sculpture\, textiles\, installation and much more. \nAt the end of the session\, family and friends are invited to a final gallery exhibition\, showcasing camper artwork. \nThis is a full day event\, please send your child with water bottle\, snack\, lunch and an extra layer each day. \n$300 members per session / $350 non-members per session \nThis session is sold out. If you would like to be added to the waitlist\, please email education@ogdenmuseum.org with the following information: Camper Name\, Grade\, School\, Parent/Guardian Name\, Email\, Phone. \n\nUPCOMING SUMMER CAMPS AT OGDEN MUSEUM \nClick the title of each camp to learn more about each camp! Register for one session or for multiple sessions. Each session features new and exciting crafts and lessons.  \nJune 10 through June 14\nFine Arts FUNdamentals Session I \nJune 17 through June 21\nFine Arts FUNdamentals Session II \nJune 24 through June 28\nFine Arts FUNdamentals Session III \nJuly 8 through July 12\nFine Arts FUNdamentals Session IV \nJuly 15 through July 19\nPhotography Camp Session I \nJuly 15 through July 26\nFashion Camp with RicRACK NOLA \nJuly 22 through July 26\nPhotography Camp Session II \nQuestions? Email education@ogdenmuseum.org
URL:https://ogdenmuseum.org/event/fine-arts-fundamentals-session-ii/
CATEGORIES:Classes for Kids,Events for Kids
ATTACH;FMTTYPE=image/png:https://ogdenmuseum.org/wp-content/uploads/2023/12/Web-Event.202.png
END:VEVENT
BEGIN:VEVENT
DTSTART;TZID=America/Chicago:20240624T090000
DTEND;TZID=America/Chicago:20240624T150000
DTSTAMP:20260423T085426
CREATED:20231219T165503Z
LAST-MODIFIED:20240517T200931Z
UID:10005531-1719219600-1719241200@ogdenmuseum.org
SUMMARY:SOLD OUT: Fine Arts FUNdamentals Camp: Session III
DESCRIPTION:Fine Arts FUNdamentals Camp: Session III\nFor campers entering grades 2 – 5\nJune 24 through June 28 | 9 a.m. to 3 p.m. \nBuilder’s Week: Celebrate the utility of cardboard with a focus on architecture\, abstraction and design \nHave FUN this summer in the galleries of Ogden Museum of Southern Art! \nJoin art educators Nidia Morales and Mikhayla Harrell for a week-long camp that highlights exciting works by Tina Girouard and Ogden Museum’s Permanent Collection. Taught by professional artists\, this specialized camp will have campers explore painting\, printmaking\, sculpture\, textiles\, installation and much more. \nAt the end of the session\, family and friends are invited to a final gallery exhibition\, showcasing camper artwork. \nThis is a full day event\, please send your child with water bottle\, snack\, lunch and an extra layer each day. \nThis session is sold out. If you would like to be added to the waitlist\, please email education@ogdenmuseum.org with the following information: Camper Name\, Grade\, School\, Parent/Guardian Name\, Email\, Phone. \n\nUPCOMING SUMMER CAMPS AT OGDEN MUSEUM \nClick the title of each camp to learn more about each camp! Register for one session or for multiple sessions. Each session features new and exciting crafts and lessons.  \nJune 10 through June 14\nFine Arts FUNdamentals Session I \nJune 17 through June 21\nFine Arts FUNdamentals Session II \nJune 24 through June 28\nFine Arts FUNdamentals Session III \nJuly 8 through July 12\nFine Arts FUNdamentals Session IV \nJuly 15 through July 19\nPhotography Camp Session I \nJuly 15 through July 26\nFashion Camp with RicRACK NOLA \nJuly 22 through July 26\nPhotography Camp Session II \nQuestions? Email education@ogdenmuseum.org
URL:https://ogdenmuseum.org/event/fine-arts-fundamentals-session-iii/
CATEGORIES:Classes for Kids,Events for Kids
ATTACH;FMTTYPE=image/png:https://ogdenmuseum.org/wp-content/uploads/2023/12/Web-Event.203.png
END:VEVENT
END:VCALENDAR