BEGIN:VCALENDAR
VERSION:2.0
PRODID:-//Ogden Museum of Southern Art - ECPv6.15.20//NONSGML v1.0//EN
CALSCALE:GREGORIAN
METHOD:PUBLISH
X-WR-CALNAME:Ogden Museum of Southern Art
X-ORIGINAL-URL:https://ogdenmuseum.org
X-WR-CALDESC:Events for Ogden Museum of Southern Art
REFRESH-INTERVAL;VALUE=DURATION:PT1H
X-Robots-Tag:noindex
X-PUBLISHED-TTL:PT1H
BEGIN:VTIMEZONE
TZID:America/Chicago
BEGIN:DAYLIGHT
TZOFFSETFROM:-0600
TZOFFSETTO:-0500
TZNAME:CDT
DTSTART:20230312T080000
END:DAYLIGHT
BEGIN:STANDARD
TZOFFSETFROM:-0500
TZOFFSETTO:-0600
TZNAME:CST
DTSTART:20231105T070000
END:STANDARD
BEGIN:DAYLIGHT
TZOFFSETFROM:-0600
TZOFFSETTO:-0500
TZNAME:CDT
DTSTART:20240310T080000
END:DAYLIGHT
BEGIN:STANDARD
TZOFFSETFROM:-0500
TZOFFSETTO:-0600
TZNAME:CST
DTSTART:20241103T070000
END:STANDARD
BEGIN:DAYLIGHT
TZOFFSETFROM:-0600
TZOFFSETTO:-0500
TZNAME:CDT
DTSTART:20250309T080000
END:DAYLIGHT
BEGIN:STANDARD
TZOFFSETFROM:-0500
TZOFFSETTO:-0600
TZNAME:CST
DTSTART:20251102T070000
END:STANDARD
END:VTIMEZONE
BEGIN:VEVENT
DTSTART;TZID=America/Chicago:20240819T100000
DTEND;TZID=America/Chicago:20240819T140000
DTSTAMP:20260420T004225
CREATED:20240308T162945Z
LAST-MODIFIED:20240722T144432Z
UID:10005589-1724061600-1724076000@ogdenmuseum.org
SUMMARY:SOLD OUT: Adult Summer Camp
DESCRIPTION:Monday\, August 19 – Friday\, August 23\n10 a.m. – 2 p.m. \nThis five-day adult program provides opportunities to deepen your artistic skills or explore new areas of expression. Creativity\, community\, learning and fun are the rules of the day exploring a wide variety of 2D and 3D media. \nIn this one week deep dive\, focus on the array of artworks on view from the Museum’s Permanent Collection and from the exhibition Louisiana Contemporary. Participants will work with visual artist and educator Mikhayla Harrell to create rich explorations in sculpture\, painting\, printmaking\, mixed media and beyond. All classes will include mindfulness techniques and NeuroArts discussions to boost creativity\, focus and success. \nFor adults of all levels seeking a new or refined creative edge. All supplies provided. A minimum of 6 participants is required for this program. \n$250 members / $300 non-members \nThis workshop has sold out! If you would like to be added to the waitlist\, please email education@ogdenmuseum.org. \nFollow us on Instagram or subscribe to our weekly newsletter to stay up-to-date on all upcoming Adult Art Classes. \nFollow Us on Instagram Subscribe to our Newsletter` \n\nNot a museum member? Save money on this camp and others like it\, plus receive exclusive privileges like unlimited free admission\, private exhibition previews and so much more when you join Ogden Museum today! Membership begins at the low price of $60. \nJoin the O today
URL:https://ogdenmuseum.org/event/adult-summer-camp-5/
CATEGORIES:Adult Art Class,Education Events for Adults,Events for Adults
ATTACH;FMTTYPE=image/png:https://ogdenmuseum.org/wp-content/uploads/2024/03/Web-Event-Size-36.png
END:VEVENT
END:VCALENDAR